BEGIN:VCALENDAR
VERSION:2.0
PRODID:-//Capital Nature - ECPv6.15.20//NONSGML v1.0//EN
CALSCALE:GREGORIAN
METHOD:PUBLISH
X-ORIGINAL-URL:https://capitalnature.org
X-WR-CALDESC:Events for Capital Nature
REFRESH-INTERVAL;VALUE=DURATION:PT1H
X-Robots-Tag:noindex
X-PUBLISHED-TTL:PT1H
BEGIN:VTIMEZONE
TZID:America/New_York
BEGIN:DAYLIGHT
TZOFFSETFROM:-0500
TZOFFSETTO:-0400
TZNAME:EDT
DTSTART:20250309T070000
END:DAYLIGHT
BEGIN:STANDARD
TZOFFSETFROM:-0400
TZOFFSETTO:-0500
TZNAME:EST
DTSTART:20251102T060000
END:STANDARD
BEGIN:DAYLIGHT
TZOFFSETFROM:-0500
TZOFFSETTO:-0400
TZNAME:EDT
DTSTART:20260308T070000
END:DAYLIGHT
BEGIN:STANDARD
TZOFFSETFROM:-0400
TZOFFSETTO:-0500
TZNAME:EST
DTSTART:20261101T060000
END:STANDARD
BEGIN:DAYLIGHT
TZOFFSETFROM:-0500
TZOFFSETTO:-0400
TZNAME:EDT
DTSTART:20270314T070000
END:DAYLIGHT
BEGIN:STANDARD
TZOFFSETFROM:-0400
TZOFFSETTO:-0500
TZNAME:EST
DTSTART:20271107T060000
END:STANDARD
END:VTIMEZONE
BEGIN:VEVENT
DTSTART;TZID=America/New_York:20260226T100000
DTEND;TZID=America/New_York:20260226T173000
DTSTAMP:20260424T064009
CREATED:20260110T225500Z
LAST-MODIFIED:20260110T225500Z
UID:10003921-1772100000-1772127000@capitalnature.org
SUMMARY:Exhibit: Recovering Our Night Skies
DESCRIPTION:(DC) (Smithsonian Natural History Museum) Artificial lights have become such common nighttime fixtures that we take them for granted. But what do brighter nights mean for people and wildlife? The effects of light pollution go beyond our diminishing view of the stars\, but the solutions can have an immediate impact. \nThrough over 100 photographs\, nearly 250 objects\, interactive experiences\, tactile models\, and a theater program\, discover why dark nights matter\, rekindle your connection with the night sky\, and consider how much light at night is enough—for whom\, for what purpose\, and who gets to decide? \nOn view through December 2026.
URL:https://capitalnature.org/event/exhibit-recovering-our-night-skies-19/
LOCATION:Smithsonian National Museum of Natural History\, 1000 Madison Drive NW\, Washington\, DC\, 20560\, United States
CATEGORIES:Exhibit
END:VEVENT
BEGIN:VEVENT
DTSTART;TZID=America/New_York:20260226T100000
DTEND;TZID=America/New_York:20260226T173000
DTSTAMP:20260424T064009
CREATED:20260110T224639Z
LAST-MODIFIED:20260110T224639Z
UID:10003913-1772100000-1772127000@capitalnature.org
SUMMARY:Exhibit: Dazzling Diversity
DESCRIPTION:(DC) (Smithsonian Natural History Museum) Celebrate the vast and varied insect world through the pages of early natural history books from the Smithsonian Libraries and Archives. Dazzling Diversity provides a glimpse into the wealth of recorded scientific knowledge in these books\, and the continuing relevance of historical science to contemporary biodiversity research. It offers a snapshot of different classes of insects and their habitats\, while showcasing the careful artistry of scientific illustration. \nOn view through May 11th\, 2026.
URL:https://capitalnature.org/event/exhibit-dazzling-diversity-13/
LOCATION:Smithsonian National Museum of Natural History\, 1000 Madison Drive NW\, Washington\, DC\, 20560\, United States
END:VEVENT
BEGIN:VEVENT
DTSTART;TZID=America/New_York:20260223T100000
DTEND;TZID=America/New_York:20260223T173000
DTSTAMP:20260424T064009
CREATED:20260110T225430Z
LAST-MODIFIED:20260110T225430Z
UID:10003920-1771840800-1771867800@capitalnature.org
SUMMARY:Exhibit: Recovering Our Night Skies
DESCRIPTION:(DC) (Smithsonian Natural History Museum) Artificial lights have become such common nighttime fixtures that we take them for granted. But what do brighter nights mean for people and wildlife? The effects of light pollution go beyond our diminishing view of the stars\, but the solutions can have an immediate impact. \nThrough over 100 photographs\, nearly 250 objects\, interactive experiences\, tactile models\, and a theater program\, discover why dark nights matter\, rekindle your connection with the night sky\, and consider how much light at night is enough—for whom\, for what purpose\, and who gets to decide? \nOn view through December 2026.
URL:https://capitalnature.org/event/exhibit-recovering-our-night-skies-18/
LOCATION:Smithsonian National Museum of Natural History\, 1000 Madison Drive NW\, Washington\, DC\, 20560\, United States
CATEGORIES:Exhibit
END:VEVENT
BEGIN:VEVENT
DTSTART;TZID=America/New_York:20260214T100000
DTEND;TZID=America/New_York:20260214T173000
DTSTAMP:20260424T064009
CREATED:20260110T225357Z
LAST-MODIFIED:20260110T225357Z
UID:10003919-1771063200-1771090200@capitalnature.org
SUMMARY:Exhibit: Recovering Our Night Skies
DESCRIPTION:(DC) (Smithsonian Natural History Museum) Artificial lights have become such common nighttime fixtures that we take them for granted. But what do brighter nights mean for people and wildlife? The effects of light pollution go beyond our diminishing view of the stars\, but the solutions can have an immediate impact. \nThrough over 100 photographs\, nearly 250 objects\, interactive experiences\, tactile models\, and a theater program\, discover why dark nights matter\, rekindle your connection with the night sky\, and consider how much light at night is enough—for whom\, for what purpose\, and who gets to decide? \nOn view through December 2026.
URL:https://capitalnature.org/event/exhibit-recovering-our-night-skies-17/
LOCATION:Smithsonian National Museum of Natural History\, 1000 Madison Drive NW\, Washington\, DC\, 20560\, United States
CATEGORIES:Exhibit
END:VEVENT
BEGIN:VEVENT
DTSTART;TZID=America/New_York:20260210T183000
DTEND;TZID=America/New_York:20260210T200000
DTSTAMP:20260424T064009
CREATED:20260206T032520Z
LAST-MODIFIED:20260206T032520Z
UID:10004104-1770748200-1770753600@capitalnature.org
SUMMARY:Herbivores Who Chewed Through Time
DESCRIPTION:(DC) (Smithsonian) Join the National Museum of Natural History for the new series\, Behind the Science\, where NMNH researchers share insights into their latest discoveries and explore the fascinating questions driving their work—from the origins of life to the future of our planet. During the past 25 years\, studies of insect and pathogen damage on fossil and modern leaves have addressed the response of herbivores to major events of the fossil record. Let’s put damaged\, fossil leaves to work in helping us to understand how insect and pathogen herbivores have historically transformed the world we live in. \n 
URL:https://capitalnature.org/event/herbivores-who-chewed-through-time/
LOCATION:Smithsonian National Museum of Natural History\, 1000 Madison Drive NW\, Washington\, DC\, 20560\, United States
CATEGORIES:Animals,Natural History,Plants
END:VEVENT
BEGIN:VEVENT
DTSTART;TZID=America/New_York:20260208T100000
DTEND;TZID=America/New_York:20260208T173000
DTSTAMP:20260424T064009
CREATED:20260110T224621Z
LAST-MODIFIED:20260110T224621Z
UID:10003912-1770544800-1770571800@capitalnature.org
SUMMARY:Exhibit: Dazzling Diversity
DESCRIPTION:(DC) (Smithsonian Natural History Museum) Celebrate the vast and varied insect world through the pages of early natural history books from the Smithsonian Libraries and Archives. Dazzling Diversity provides a glimpse into the wealth of recorded scientific knowledge in these books\, and the continuing relevance of historical science to contemporary biodiversity research. It offers a snapshot of different classes of insects and their habitats\, while showcasing the careful artistry of scientific illustration. \nOn view through May 11th\, 2026.
URL:https://capitalnature.org/event/exhibit-dazzling-diversity-12/
LOCATION:Smithsonian National Museum of Natural History\, 1000 Madison Drive NW\, Washington\, DC\, 20560\, United States
END:VEVENT
BEGIN:VEVENT
DTSTART;TZID=America/New_York:20260204T100000
DTEND;TZID=America/New_York:20260204T173000
DTSTAMP:20260424T064009
CREATED:20260110T225323Z
LAST-MODIFIED:20260110T225323Z
UID:10003918-1770199200-1770226200@capitalnature.org
SUMMARY:Exhibit: Recovering Our Night Skies
DESCRIPTION:(DC) (Smithsonian Natural History Museum) Artificial lights have become such common nighttime fixtures that we take them for granted. But what do brighter nights mean for people and wildlife? The effects of light pollution go beyond our diminishing view of the stars\, but the solutions can have an immediate impact. \nThrough over 100 photographs\, nearly 250 objects\, interactive experiences\, tactile models\, and a theater program\, discover why dark nights matter\, rekindle your connection with the night sky\, and consider how much light at night is enough—for whom\, for what purpose\, and who gets to decide? \nOn view through December 2026.
URL:https://capitalnature.org/event/exhibit-recovering-our-night-skies-16/
LOCATION:Smithsonian National Museum of Natural History\, 1000 Madison Drive NW\, Washington\, DC\, 20560\, United States
CATEGORIES:Exhibit
END:VEVENT
BEGIN:VEVENT
DTSTART;TZID=America/New_York:20260204T100000
DTEND;TZID=America/New_York:20260204T173000
DTSTAMP:20260424T064009
CREATED:20260110T224512Z
LAST-MODIFIED:20260110T224512Z
UID:10003911-1770199200-1770226200@capitalnature.org
SUMMARY:Exhibit: Dazzling Diversity
DESCRIPTION:(DC) (Smithsonian Natural History Museum) Celebrate the vast and varied insect world through the pages of early natural history books from the Smithsonian Libraries and Archives. Dazzling Diversity provides a glimpse into the wealth of recorded scientific knowledge in these books\, and the continuing relevance of historical science to contemporary biodiversity research. It offers a snapshot of different classes of insects and their habitats\, while showcasing the careful artistry of scientific illustration. \nOn view through May 11th\, 2026.
URL:https://capitalnature.org/event/exhibit-dazzling-diversity-11/
LOCATION:Smithsonian National Museum of Natural History\, 1000 Madison Drive NW\, Washington\, DC\, 20560\, United States
END:VEVENT
BEGIN:VEVENT
DTSTART;TZID=America/New_York:20260131T100000
DTEND;TZID=America/New_York:20260131T173000
DTSTAMP:20260424T064009
CREATED:20260110T225247Z
LAST-MODIFIED:20260110T225247Z
UID:10003917-1769853600-1769880600@capitalnature.org
SUMMARY:Exhibit: Recovering Our Night Skies
DESCRIPTION:(DC) (Smithsonian Natural History Museum) Artificial lights have become such common nighttime fixtures that we take them for granted. But what do brighter nights mean for people and wildlife? The effects of light pollution go beyond our diminishing view of the stars\, but the solutions can have an immediate impact. \nThrough over 100 photographs\, nearly 250 objects\, interactive experiences\, tactile models\, and a theater program\, discover why dark nights matter\, rekindle your connection with the night sky\, and consider how much light at night is enough—for whom\, for what purpose\, and who gets to decide? \nOn view through December 2026.
URL:https://capitalnature.org/event/exhibit-recovering-our-night-skies-15/
LOCATION:Smithsonian National Museum of Natural History\, 1000 Madison Drive NW\, Washington\, DC\, 20560\, United States
CATEGORIES:Exhibit
END:VEVENT
BEGIN:VEVENT
DTSTART;TZID=America/New_York:20260125T100000
DTEND;TZID=America/New_York:20260125T173000
DTSTAMP:20260424T064009
CREATED:20260110T225123Z
LAST-MODIFIED:20260110T225123Z
UID:10003916-1769335200-1769362200@capitalnature.org
SUMMARY:Exhibit: Recovering Our Night Skies
DESCRIPTION:(DC) (Smithsonian Natural History Museum) Artificial lights have become such common nighttime fixtures that we take them for granted. But what do brighter nights mean for people and wildlife? The effects of light pollution go beyond our diminishing view of the stars\, but the solutions can have an immediate impact. \nThrough over 100 photographs\, nearly 250 objects\, interactive experiences\, tactile models\, and a theater program\, discover why dark nights matter\, rekindle your connection with the night sky\, and consider how much light at night is enough—for whom\, for what purpose\, and who gets to decide? \nOn view through December 2026.
URL:https://capitalnature.org/event/exhibit-recovering-our-night-skies-14/
LOCATION:Smithsonian National Museum of Natural History\, 1000 Madison Drive NW\, Washington\, DC\, 20560\, United States
CATEGORIES:Exhibit
END:VEVENT
BEGIN:VEVENT
DTSTART;TZID=America/New_York:20260125T100000
DTEND;TZID=America/New_York:20260125T173000
DTSTAMP:20260424T064009
CREATED:20260110T224431Z
LAST-MODIFIED:20260110T224431Z
UID:10003910-1769335200-1769362200@capitalnature.org
SUMMARY:Exhibit: Dazzling Diversity
DESCRIPTION:(DC) (Smithsonian Natural History Museum) Celebrate the vast and varied insect world through the pages of early natural history books from the Smithsonian Libraries and Archives. Dazzling Diversity provides a glimpse into the wealth of recorded scientific knowledge in these books\, and the continuing relevance of historical science to contemporary biodiversity research. It offers a snapshot of different classes of insects and their habitats\, while showcasing the careful artistry of scientific illustration. \nOn view through May 11th\, 2026.
URL:https://capitalnature.org/event/exhibit-dazzling-diversity-10/
LOCATION:Smithsonian National Museum of Natural History\, 1000 Madison Drive NW\, Washington\, DC\, 20560\, United States
END:VEVENT
BEGIN:VEVENT
DTSTART;TZID=America/New_York:20260122T100000
DTEND;TZID=America/New_York:20260122T173000
DTSTAMP:20260424T064009
CREATED:20260110T224311Z
LAST-MODIFIED:20260110T224311Z
UID:10003909-1769076000-1769103000@capitalnature.org
SUMMARY:Exhibit: Dazzling Diversity
DESCRIPTION:(DC) (Smithsonian Natural History Museum) Celebrate the vast and varied insect world through the pages of early natural history books from the Smithsonian Libraries and Archives. Dazzling Diversity provides a glimpse into the wealth of recorded scientific knowledge in these books\, and the continuing relevance of historical science to contemporary biodiversity research. It offers a snapshot of different classes of insects and their habitats\, while showcasing the careful artistry of scientific illustration. \nOn view through May 11th\, 2026.
URL:https://capitalnature.org/event/exhibit-dazzling-diversity-9/
LOCATION:Smithsonian National Museum of Natural History\, 1000 Madison Drive NW\, Washington\, DC\, 20560\, United States
END:VEVENT
BEGIN:VEVENT
DTSTART;TZID=America/New_York:20260121T100000
DTEND;TZID=America/New_York:20260121T173000
DTSTAMP:20260424T064009
CREATED:20260110T225039Z
LAST-MODIFIED:20260110T225039Z
UID:10003915-1768989600-1769016600@capitalnature.org
SUMMARY:Exhibit: Recovering Our Night Skies
DESCRIPTION:(DC) (Smithsonian Natural History Museum) Artificial lights have become such common nighttime fixtures that we take them for granted. But what do brighter nights mean for people and wildlife? The effects of light pollution go beyond our diminishing view of the stars\, but the solutions can have an immediate impact. \nThrough over 100 photographs\, nearly 250 objects\, interactive experiences\, tactile models\, and a theater program\, discover why dark nights matter\, rekindle your connection with the night sky\, and consider how much light at night is enough—for whom\, for what purpose\, and who gets to decide? \nOn view through December 2026.
URL:https://capitalnature.org/event/exhibit-recovering-our-night-skies-13/
LOCATION:Smithsonian National Museum of Natural History\, 1000 Madison Drive NW\, Washington\, DC\, 20560\, United States
CATEGORIES:Exhibit
END:VEVENT
END:VCALENDAR