BEGIN:VCALENDAR
VERSION:2.0
PRODID:-//Capital Nature - ECPv6.15.20//NONSGML v1.0//EN
CALSCALE:GREGORIAN
METHOD:PUBLISH
X-ORIGINAL-URL:https://capitalnature.org
X-WR-CALDESC:Events for Capital Nature
REFRESH-INTERVAL;VALUE=DURATION:PT1H
X-Robots-Tag:noindex
X-PUBLISHED-TTL:PT1H
BEGIN:VTIMEZONE
TZID:America/New_York
BEGIN:DAYLIGHT
TZOFFSETFROM:-0500
TZOFFSETTO:-0400
TZNAME:EDT
DTSTART:20250309T070000
END:DAYLIGHT
BEGIN:STANDARD
TZOFFSETFROM:-0400
TZOFFSETTO:-0500
TZNAME:EST
DTSTART:20251102T060000
END:STANDARD
BEGIN:DAYLIGHT
TZOFFSETFROM:-0500
TZOFFSETTO:-0400
TZNAME:EDT
DTSTART:20260308T070000
END:DAYLIGHT
BEGIN:STANDARD
TZOFFSETFROM:-0400
TZOFFSETTO:-0500
TZNAME:EST
DTSTART:20261101T060000
END:STANDARD
BEGIN:DAYLIGHT
TZOFFSETFROM:-0500
TZOFFSETTO:-0400
TZNAME:EDT
DTSTART:20270314T070000
END:DAYLIGHT
BEGIN:STANDARD
TZOFFSETFROM:-0400
TZOFFSETTO:-0500
TZNAME:EST
DTSTART:20271107T060000
END:STANDARD
END:VTIMEZONE
BEGIN:VEVENT
DTSTART;TZID=America/New_York:20260411T103000
DTEND;TZID=America/New_York:20260411T130000
DTSTAMP:20260423T171946
CREATED:20260325T014418Z
LAST-MODIFIED:20260325T014418Z
UID:10004255-1775903400-1775912400@capitalnature.org
SUMMARY:Shepherd Parkway Community Cleanup
DESCRIPTION:(DC) (Ward 8 Woods) Join Ward 8 Woods every second Saturday of the month to restore Shepherd Parkway by removing trash and invasive vines that are smothering the trees. Since 2011\, over 2\,000 volunteers have removed over 200 tons of trash from the woods and cut invasive vines from over 500 trees\, but much work remains to be done. \nGive back to the earth\, exercise your body\, spend time in nature and meet cool people with the Ward 8 Woods Conservancy.
URL:https://capitalnature.org/event/shepherd-parkway-community-cleanup-4/
LOCATION:Shepherd Parkway\, 555 Newcomb Street SE\, Washington\, DC\, 20032\, United States
CATEGORIES:Outdoor Experience,Stewardship,Volunteering
GEO:38.8452999;-76.9987994
X-APPLE-STRUCTURED-LOCATION;VALUE=URI;X-ADDRESS=Shepherd Parkway 555 Newcomb Street SE Washington DC 20032 United States;X-APPLE-RADIUS=500;X-TITLE=555 Newcomb Street SE:geo:-76.9987994,38.8452999
END:VEVENT
BEGIN:VEVENT
DTSTART;TZID=America/New_York:20260314T103000
DTEND;TZID=America/New_York:20260314T130000
DTSTAMP:20260423T171946
CREATED:20260308T223518Z
LAST-MODIFIED:20260308T223518Z
UID:10004174-1773484200-1773493200@capitalnature.org
SUMMARY:Shepherd Parkway Community Cleanup
DESCRIPTION:(DC) (Ward 8 Woods) Join Ward 8 Woods every second Saturday of the month to restore Shepherd Parkway by removing trash and invasive vines that are smothering the trees. Since 2011\, over 2\,000 volunteers have removed over 200 tons of trash from the woods and cut invasive vines from over 500 trees\, but much work remains to be done. \nGive back to the earth\, exercise your body\, spend time in nature and meet cool people with the Ward 8 Woods Conservancy.
URL:https://capitalnature.org/event/shepherd-parkway-community-cleanup-6/
LOCATION:Shepherd Parkway\, 555 Newcomb Street SE\, Washington\, DC\, 20032\, United States
CATEGORIES:Outdoor Experience,Stewardship,Volunteering
GEO:38.8452999;-76.9987994
X-APPLE-STRUCTURED-LOCATION;VALUE=URI;X-ADDRESS=Shepherd Parkway 555 Newcomb Street SE Washington DC 20032 United States;X-APPLE-RADIUS=500;X-TITLE=555 Newcomb Street SE:geo:-76.9987994,38.8452999
END:VEVENT
BEGIN:VEVENT
DTSTART;TZID=America/New_York:20260214T103000
DTEND;TZID=America/New_York:20260214T130000
DTSTAMP:20260423T171946
CREATED:20260111T005900Z
LAST-MODIFIED:20260111T005900Z
UID:10003941-1771065000-1771074000@capitalnature.org
SUMMARY:Shepherd Parkway Community Cleanup
DESCRIPTION:(DC) (Ward 8 Woods) Join Ward 8 Woods every second Saturday of the month to restore Shepherd Parkway by removing trash and invasive vines that are smothering the trees. Since 2011\, over 2\,000 volunteers have removed over 200 tons of trash from the woods and cut invasive vines from over 500 trees\, but much work remains to be done. \nGive back to the earth\, exercise your body\, spend time in nature and meet cool people with the Ward 8 Woods Conservancy.
URL:https://capitalnature.org/event/shepherd-parkway-community-cleanup-8/
LOCATION:Shepherd Parkway\, 555 Newcomb Street SE\, Washington\, DC\, 20032\, United States
CATEGORIES:Outdoor Experience,Stewardship,Volunteering
GEO:38.8452999;-76.9987994
X-APPLE-STRUCTURED-LOCATION;VALUE=URI;X-ADDRESS=Shepherd Parkway 555 Newcomb Street SE Washington DC 20032 United States;X-APPLE-RADIUS=500;X-TITLE=555 Newcomb Street SE:geo:-76.9987994,38.8452999
END:VEVENT
END:VCALENDAR