BEGIN:VCALENDAR
VERSION:2.0
PRODID:-//Capital Nature - ECPv6.15.20//NONSGML v1.0//EN
CALSCALE:GREGORIAN
METHOD:PUBLISH
X-ORIGINAL-URL:https://capitalnature.org
X-WR-CALDESC:Events for Capital Nature
REFRESH-INTERVAL;VALUE=DURATION:PT1H
X-Robots-Tag:noindex
X-PUBLISHED-TTL:PT1H
BEGIN:VTIMEZONE
TZID:America/New_York
BEGIN:DAYLIGHT
TZOFFSETFROM:-0500
TZOFFSETTO:-0400
TZNAME:EDT
DTSTART:20250309T070000
END:DAYLIGHT
BEGIN:STANDARD
TZOFFSETFROM:-0400
TZOFFSETTO:-0500
TZNAME:EST
DTSTART:20251102T060000
END:STANDARD
BEGIN:DAYLIGHT
TZOFFSETFROM:-0500
TZOFFSETTO:-0400
TZNAME:EDT
DTSTART:20260308T070000
END:DAYLIGHT
BEGIN:STANDARD
TZOFFSETFROM:-0400
TZOFFSETTO:-0500
TZNAME:EST
DTSTART:20261101T060000
END:STANDARD
BEGIN:DAYLIGHT
TZOFFSETFROM:-0500
TZOFFSETTO:-0400
TZNAME:EDT
DTSTART:20270314T070000
END:DAYLIGHT
BEGIN:STANDARD
TZOFFSETFROM:-0400
TZOFFSETTO:-0500
TZNAME:EST
DTSTART:20271107T060000
END:STANDARD
END:VTIMEZONE
BEGIN:VEVENT
DTSTART;TZID=America/New_York:20260228T140000
DTEND;TZID=America/New_York:20260228T150000
DTSTAMP:20260423T120824
CREATED:20260207T232054Z
LAST-MODIFIED:20260207T232054Z
UID:10004139-1772287200-1772290800@capitalnature.org
SUMMARY:Frog Frenzy
DESCRIPTION:(VA) (NOVA Parks) What’s that sound? Wood frogs abound! These woodland amphibians are a welcoming sign that spring is just around the corner. See (and hear) some of these ribbeting animals at Potomac Overlook’s frog pond\, and learn about a fascinating adaptation that helps them survive the cold winter. Ages 5 +
URL:https://capitalnature.org/event/frog-frenzy-2/
LOCATION:Potomac Overlook Regional Park\, 2845 N. Marcey Road\, Arlington\, VA\, 22207\, United States
CATEGORIES:Animals,Classes & Workshops,Family
END:VEVENT
BEGIN:VEVENT
DTSTART;TZID=America/New_York:20260221T140000
DTEND;TZID=America/New_York:20260221T150000
DTSTAMP:20260423T120824
CREATED:20260207T231847Z
LAST-MODIFIED:20260207T231847Z
UID:10004137-1771682400-1771686000@capitalnature.org
SUMMARY:Frog Frenzy
DESCRIPTION:(VA) (NOVA Parks) What’s that sound? Wood frogs abound! These woodland amphibians are a welcoming sign that spring is just around the corner. See (and hear) some of these ribbeting animals at Potomac Overlook’s frog pond\, and learn about a fascinating adaptation that helps them survive the cold winter. Ages 5 +
URL:https://capitalnature.org/event/frog-frenzy/
LOCATION:Potomac Overlook Regional Park\, 2845 N. Marcey Road\, Arlington\, VA\, 22207\, United States
CATEGORIES:Animals,Classes & Workshops,Family
END:VEVENT
BEGIN:VEVENT
DTSTART;TZID=America/New_York:20260209T163000
DTEND;TZID=America/New_York:20260209T183000
DTSTAMP:20260423T120824
CREATED:20260115T152849Z
LAST-MODIFIED:20260115T152849Z
UID:10004059-1770654600-1770661800@capitalnature.org
SUMMARY:Wood Weaving
DESCRIPTION:(VA) (NOVA Parks) Cozy up with a winter weaving project for the 3rd installment of Potomac Overlook’s new adult art workshop series! Participants will transform old\, worn pieces of wood into beautiful artwork using yarn and natural objects from the park. The program begins with a staff-led introduction to weaving\, then the fun continues as you enjoy a hot beverage and snacks while you weave. Adults.
URL:https://capitalnature.org/event/wood-weaving/
LOCATION:Potomac Overlook Regional Park\, 2845 N. Marcey Road\, Arlington\, VA\, 22207\, United States
CATEGORIES:Art,Classes & Workshops,Nature Craft
END:VEVENT
BEGIN:VEVENT
DTSTART;TZID=America/New_York:20260207T140000
DTEND;TZID=America/New_York:20260207T150000
DTSTAMP:20260423T120824
CREATED:20260114T225432Z
LAST-MODIFIED:20260118T013420Z
UID:10004054-1770472800-1770476400@capitalnature.org
SUMMARY:Won't You be My Owlentine?
DESCRIPTION:(VA) (NOVA Parks) Love is in the air… and literally for these beautiful birds of prey! See live raptors\, learn about their mating habits during breeding season\, and have your picture taken with a live bird of prey. Age 6+.
URL:https://capitalnature.org/event/wont-you-be-my-owletine/
LOCATION:Potomac Overlook Regional Park\, 2845 N. Marcey Road\, Arlington\, VA\, 22207\, United States
CATEGORIES:Birds,Classes & Workshops,Social & Cultural
END:VEVENT
BEGIN:VEVENT
DTSTART;TZID=America/New_York:20260130T090000
DTEND;TZID=America/New_York:20260130T160000
DTSTAMP:20260423T120824
CREATED:20260114T224943Z
LAST-MODIFIED:20260114T224943Z
UID:10004049-1769763600-1769788800@capitalnature.org
SUMMARY:Junior Naturalist Winter Day Camp
DESCRIPTION:(VA) (NOVA Parks) Summer may be months away\, but it’s never too early to explore the natural world! In this special one-day camp\, participate in a variety of winter-themed games\, activities\, and more as you enjoy the park! This day camp is a perfect introduction for any young naturalist interested in Camp Overlook’s summer camp offerings. Ages 7 to 9.
URL:https://capitalnature.org/event/junior-naturalist-winter-day-camp/
LOCATION:Potomac Overlook Regional Park\, 2845 N. Marcey Road\, Arlington\, VA\, 22207\, United States
CATEGORIES:Children,Nature Play,Outdoor Experience
END:VEVENT
BEGIN:VEVENT
DTSTART;TZID=America/New_York:20260124T140000
DTEND;TZID=America/New_York:20260124T153000
DTSTAMP:20260423T120824
CREATED:20260114T224623Z
LAST-MODIFIED:20260114T224623Z
UID:10004047-1769263200-1769268600@capitalnature.org
SUMMARY:Skulls and Bones
DESCRIPTION:(VA) (NOVA Parks) You can learn a lot from an animal’s skull and bones…you just need to know what to look for! In this brand-new offering\, dissect an owl pellet to uncover and construct the skeleton inside\, explore the features of different skulls and learn how to identify their species\, measure the bite and grip forces these animals can exert\, and discover plenty more fascinating facts about wildlife. Ages 8+.
URL:https://capitalnature.org/event/skulls-and-bones/
LOCATION:Potomac Overlook Regional Park\, 2845 N. Marcey Road\, Arlington\, VA\, 22207\, United States
CATEGORIES:Animals,Classes & Workshops,Nature Observation
END:VEVENT
BEGIN:VEVENT
DTSTART;TZID=America/New_York:20260117T090000
DTEND;TZID=America/New_York:20260117T113000
DTSTAMP:20260423T120824
CREATED:20260114T011120Z
LAST-MODIFIED:20260114T011120Z
UID:10004009-1768640400-1768649400@capitalnature.org
SUMMARY:Invasive Plants Removal at Potomac Overlook
DESCRIPTION:(VA) (Arlington Regional Master Naturalists) Do you like working outside? Join community volunteers in protecting the local environment from non-native invasive plants and replacing them with native plants.  This is a continuing project typically held every Saturday to reclaim Potomac Overlook Regional Park from non-native invasive plants. Be sure to come dressed for work\, wear long pants\, long sleeves\, and perhaps a hat.  You may also want to bring along your own water bottle\, but bottled water and snacks will be provided. Ages 9 to Adult.
URL:https://capitalnature.org/event/invasive-plants-removal-at-potomac-overlook-4/
LOCATION:Potomac Overlook Regional Park\, 2845 N. Marcey Road\, Arlington\, VA\, 22207\, United States
CATEGORIES:Conservation,Stewardship,Volunteering
END:VEVENT
END:VCALENDAR