BEGIN:VCALENDAR
VERSION:2.0
PRODID:-//Capital Nature - ECPv6.15.20//NONSGML v1.0//EN
CALSCALE:GREGORIAN
METHOD:PUBLISH
X-ORIGINAL-URL:https://capitalnature.org
X-WR-CALDESC:Events for Capital Nature
REFRESH-INTERVAL;VALUE=DURATION:PT1H
X-Robots-Tag:noindex
X-PUBLISHED-TTL:PT1H
BEGIN:VTIMEZONE
TZID:America/New_York
BEGIN:DAYLIGHT
TZOFFSETFROM:-0500
TZOFFSETTO:-0400
TZNAME:EDT
DTSTART:20250309T070000
END:DAYLIGHT
BEGIN:STANDARD
TZOFFSETFROM:-0400
TZOFFSETTO:-0500
TZNAME:EST
DTSTART:20251102T060000
END:STANDARD
BEGIN:DAYLIGHT
TZOFFSETFROM:-0500
TZOFFSETTO:-0400
TZNAME:EDT
DTSTART:20260308T070000
END:DAYLIGHT
BEGIN:STANDARD
TZOFFSETFROM:-0400
TZOFFSETTO:-0500
TZNAME:EST
DTSTART:20261101T060000
END:STANDARD
BEGIN:DAYLIGHT
TZOFFSETFROM:-0500
TZOFFSETTO:-0400
TZNAME:EDT
DTSTART:20270314T070000
END:DAYLIGHT
BEGIN:STANDARD
TZOFFSETFROM:-0400
TZOFFSETTO:-0500
TZNAME:EST
DTSTART:20271107T060000
END:STANDARD
END:VTIMEZONE
BEGIN:VEVENT
DTSTART;TZID=America/New_York:20260118T140000
DTEND;TZID=America/New_York:20260118T160000
DTSTAMP:20260424T063602
CREATED:20260113T190806Z
LAST-MODIFIED:20260113T190806Z
UID:10003974-1768744800-1768752000@capitalnature.org
SUMMARY:Pop-Up History at Meridian Hill Park
DESCRIPTION:(DC) (National Park Service) Meridian Hill Park\, colloquially referred to as Malcolm X Park\, is known for its beauty\, art\, recreation\, First Amendment space\, and illustrious history. Drop by our pop-up table located near the Joan of Arc statue to learn some quick history of the park\, or attend the walking tour at 3 pm when you’ll have the chance to converse further with a park ranger. The formal tour meets by the bathrooms near 15th Street and Euclid St. 
URL:https://capitalnature.org/event/pop-up-history-at-meridian-hill-park/
LOCATION:Meridian Hill Park\, 16th Street & W Street NW\, Washington\, DC\, 20009\, United States
CATEGORIES:History,Outdoor Experience,Social & Cultural
GEO:38.919143;-77.0364936
X-APPLE-STRUCTURED-LOCATION;VALUE=URI;X-ADDRESS=Meridian Hill Park 16th Street & W Street NW Washington DC 20009 United States;X-APPLE-RADIUS=500;X-TITLE=16th Street & W Street NW:geo:-77.0364936,38.919143
END:VEVENT
END:VCALENDAR