BEGIN:VCALENDAR
VERSION:2.0
PRODID:-//Capital Nature - ECPv6.15.20//NONSGML v1.0//EN
CALSCALE:GREGORIAN
METHOD:PUBLISH
X-ORIGINAL-URL:https://capitalnature.org
X-WR-CALDESC:Events for Capital Nature
REFRESH-INTERVAL;VALUE=DURATION:PT1H
X-Robots-Tag:noindex
X-PUBLISHED-TTL:PT1H
BEGIN:VTIMEZONE
TZID:America/New_York
BEGIN:DAYLIGHT
TZOFFSETFROM:-0500
TZOFFSETTO:-0400
TZNAME:EDT
DTSTART:20250309T070000
END:DAYLIGHT
BEGIN:STANDARD
TZOFFSETFROM:-0400
TZOFFSETTO:-0500
TZNAME:EST
DTSTART:20251102T060000
END:STANDARD
BEGIN:DAYLIGHT
TZOFFSETFROM:-0500
TZOFFSETTO:-0400
TZNAME:EDT
DTSTART:20260308T070000
END:DAYLIGHT
BEGIN:STANDARD
TZOFFSETFROM:-0400
TZOFFSETTO:-0500
TZNAME:EST
DTSTART:20261101T060000
END:STANDARD
BEGIN:DAYLIGHT
TZOFFSETFROM:-0500
TZOFFSETTO:-0400
TZNAME:EDT
DTSTART:20270314T070000
END:DAYLIGHT
BEGIN:STANDARD
TZOFFSETFROM:-0400
TZOFFSETTO:-0500
TZNAME:EST
DTSTART:20271107T060000
END:STANDARD
END:VTIMEZONE
BEGIN:VEVENT
DTSTART;TZID=America/New_York:20260402T120000
DTEND;TZID=America/New_York:20260402T130000
DTSTAMP:20260423T140315
CREATED:20260315T222824Z
LAST-MODIFIED:20260326T011121Z
UID:10004192-1775131200-1775134800@capitalnature.org
SUMMARY:Learn iNaturalist
DESCRIPTION:(VA) (Fairfax County) Help document our community’s biodiversity by learning how to use the free app iNaturalist! Join VA Master Naturalist and Capital Nature Co-Founder Ana Ka’ahanui for tips on making iNaturalist observations in preparation for the upcoming global bioblitz\, the City Nature Challenge. Weather permitting\, we will explore the outdoors using the app to identify flora and fauna around the library. \nAdults. No registration required. Limited tickets available at 11:30am.
URL:https://capitalnature.org/event/learn-inaturalist-at-centreville-regional-library/
LOCATION:Centreville Regional Library\, 14200 St Germain Dr.\, Centreville\, 20121\, United States
CATEGORIES:Nature Observation,Outdoor Experience
GEO:38.8374675;-77.4408819
X-APPLE-STRUCTURED-LOCATION;VALUE=URI;X-ADDRESS=Centreville Regional Library 14200 St Germain Dr. Centreville 20121 United States;X-APPLE-RADIUS=500;X-TITLE=14200 St Germain Dr.:geo:-77.4408819,38.8374675
END:VEVENT
END:VCALENDAR