BEGIN:VCALENDAR
VERSION:2.0
PRODID:-//Capital Nature - ECPv6.15.20//NONSGML v1.0//EN
CALSCALE:GREGORIAN
METHOD:PUBLISH
X-WR-CALNAME:Capital Nature
X-ORIGINAL-URL:https://capitalnature.org
X-WR-CALDESC:Events for Capital Nature
REFRESH-INTERVAL;VALUE=DURATION:PT1H
X-Robots-Tag:noindex
X-PUBLISHED-TTL:PT1H
BEGIN:VTIMEZONE
TZID:America/New_York
BEGIN:DAYLIGHT
TZOFFSETFROM:-0500
TZOFFSETTO:-0400
TZNAME:EDT
DTSTART:20250309T070000
END:DAYLIGHT
BEGIN:STANDARD
TZOFFSETFROM:-0400
TZOFFSETTO:-0500
TZNAME:EST
DTSTART:20251102T060000
END:STANDARD
BEGIN:DAYLIGHT
TZOFFSETFROM:-0500
TZOFFSETTO:-0400
TZNAME:EDT
DTSTART:20260308T070000
END:DAYLIGHT
BEGIN:STANDARD
TZOFFSETFROM:-0400
TZOFFSETTO:-0500
TZNAME:EST
DTSTART:20261101T060000
END:STANDARD
BEGIN:DAYLIGHT
TZOFFSETFROM:-0500
TZOFFSETTO:-0400
TZNAME:EDT
DTSTART:20270314T070000
END:DAYLIGHT
BEGIN:STANDARD
TZOFFSETFROM:-0400
TZOFFSETTO:-0500
TZNAME:EST
DTSTART:20271107T060000
END:STANDARD
END:VTIMEZONE
BEGIN:VEVENT
DTSTART;TZID=America/New_York:20260422T180000
DTEND;TZID=America/New_York:20260422T200000
DTSTAMP:20260423T122630
CREATED:20260412T012332Z
LAST-MODIFIED:20260412T012418Z
UID:10004292-1776880800-1776888000@capitalnature.org
SUMMARY:DC Mayoral Sustainability Forum
DESCRIPTION:(DC) (Casey Trees) Join Casey Trees and over 25 organizations to hear a discussion on the city’s future\, focusing on the District’s health\, economic resilience\, and environment.
URL:https://capitalnature.org/event/dc-mayoral-sustainability-forum/
LOCATION:THEARC Theater\, 1801 Mississippi Ave SE\, Washington\, DC\, 20020\, United States
CATEGORIES:Community Meeting
GEO:38.8433001;-76.9766375
X-APPLE-STRUCTURED-LOCATION;VALUE=URI;X-ADDRESS=THEARC Theater 1801 Mississippi Ave SE Washington DC 20020 United States;X-APPLE-RADIUS=500;X-TITLE=1801 Mississippi Ave SE:geo:-76.9766375,38.8433001
END:VEVENT
END:VCALENDAR