BEGIN:VCALENDAR
VERSION:2.0
PRODID:-//Capital Nature - ECPv6.15.20//NONSGML v1.0//EN
CALSCALE:GREGORIAN
METHOD:PUBLISH
X-ORIGINAL-URL:https://capitalnature.org
X-WR-CALDESC:Events for Capital Nature
REFRESH-INTERVAL;VALUE=DURATION:PT1H
X-Robots-Tag:noindex
X-PUBLISHED-TTL:PT1H
BEGIN:VTIMEZONE
TZID:America/New_York
BEGIN:DAYLIGHT
TZOFFSETFROM:-0500
TZOFFSETTO:-0400
TZNAME:EDT
DTSTART:20250309T070000
END:DAYLIGHT
BEGIN:STANDARD
TZOFFSETFROM:-0400
TZOFFSETTO:-0500
TZNAME:EST
DTSTART:20251102T060000
END:STANDARD
BEGIN:DAYLIGHT
TZOFFSETFROM:-0500
TZOFFSETTO:-0400
TZNAME:EDT
DTSTART:20260308T070000
END:DAYLIGHT
BEGIN:STANDARD
TZOFFSETFROM:-0400
TZOFFSETTO:-0500
TZNAME:EST
DTSTART:20261101T060000
END:STANDARD
BEGIN:DAYLIGHT
TZOFFSETFROM:-0500
TZOFFSETTO:-0400
TZNAME:EDT
DTSTART:20270314T070000
END:DAYLIGHT
BEGIN:STANDARD
TZOFFSETFROM:-0400
TZOFFSETTO:-0500
TZNAME:EST
DTSTART:20271107T060000
END:STANDARD
END:VTIMEZONE
BEGIN:VEVENT
DTSTART;TZID=America/New_York:20260125T100000
DTEND;TZID=America/New_York:20260125T120000
DTSTAMP:20260424T014546
CREATED:20260114T004444Z
LAST-MODIFIED:20260114T004444Z
UID:10003990-1769335200-1769342400@capitalnature.org
SUMMARY:Winter Naturalist Walk at Balls Bluff
DESCRIPTION:(VA) (Loudoun Wildlife Conservancy) Join naturalist Jake van Schilfgaarde on this winter walk at Balls Bluff Regional Park to discover and discuss animals’ and plants’ survival strategies in Virginia winters. We will look for signs we find along the trails\, which have moderate\, rocky slopes and could be muddy or icy. We will enjoy a beautiful time out of doors in this natural setting. Family-friendly.
URL:https://capitalnature.org/event/winter-naturalist-walk-at-balls-bluff/
LOCATION:Balls Bluff Regional Park\, Ball’s Bluff Road\, Leesburg\, VA\, 20176\, United States
CATEGORIES:Nature Observation,Outdoor Experience
GEO:39.129947;-77.5328704
X-APPLE-STRUCTURED-LOCATION;VALUE=URI;X-ADDRESS=Balls Bluff Regional Park Ball’s Bluff Road Leesburg VA 20176 United States;X-APPLE-RADIUS=500;X-TITLE=Ball’s Bluff Road:geo:-77.5328704,39.129947
END:VEVENT
END:VCALENDAR