BEGIN:VCALENDAR
VERSION:2.0
PRODID:-//Capital Nature - ECPv6.15.20//NONSGML v1.0//EN
CALSCALE:GREGORIAN
METHOD:PUBLISH
X-WR-CALNAME:Capital Nature
X-ORIGINAL-URL:https://capitalnature.org
X-WR-CALDESC:Events for Capital Nature
REFRESH-INTERVAL;VALUE=DURATION:PT1H
X-Robots-Tag:noindex
X-PUBLISHED-TTL:PT1H
BEGIN:VTIMEZONE
TZID:America/New_York
BEGIN:DAYLIGHT
TZOFFSETFROM:-0500
TZOFFSETTO:-0400
TZNAME:EDT
DTSTART:20250309T070000
END:DAYLIGHT
BEGIN:STANDARD
TZOFFSETFROM:-0400
TZOFFSETTO:-0500
TZNAME:EST
DTSTART:20251102T060000
END:STANDARD
BEGIN:DAYLIGHT
TZOFFSETFROM:-0500
TZOFFSETTO:-0400
TZNAME:EDT
DTSTART:20260308T070000
END:DAYLIGHT
BEGIN:STANDARD
TZOFFSETFROM:-0400
TZOFFSETTO:-0500
TZNAME:EST
DTSTART:20261101T060000
END:STANDARD
BEGIN:DAYLIGHT
TZOFFSETFROM:-0500
TZOFFSETTO:-0400
TZNAME:EDT
DTSTART:20270314T070000
END:DAYLIGHT
BEGIN:STANDARD
TZOFFSETFROM:-0400
TZOFFSETTO:-0500
TZNAME:EST
DTSTART:20271107T060000
END:STANDARD
END:VTIMEZONE
BEGIN:VEVENT
DTSTART;TZID=America/New_York:20260123T130000
DTEND;TZID=America/New_York:20260123T133000
DTSTAMP:20260423T224010
CREATED:20260115T205132Z
LAST-MODIFIED:20260115T205132Z
UID:10004080-1769173200-1769175000@capitalnature.org
SUMMARY:Community Winter Salt Management (Virtual)
DESCRIPTION:(VA) (Northern Virginia Regional Commission) This session is tailored for HOA and other community association residents\, board members\, community managers\, and maintenance team members. Gain best practices and information for efficient winter salt use\, contractor coordination\, and strategies to reduce environmental damage while maintaining profitability and setting winter maintenance expectations.
URL:https://capitalnature.org/event/community-winter-salt-management-virtual/
CATEGORIES:Classes & Workshops,Conservation
END:VEVENT
BEGIN:VEVENT
DTSTART;TZID=America/New_York:20260121T130000
DTEND;TZID=America/New_York:20260121T133000
DTSTAMP:20260423T224010
CREATED:20260115T204951Z
LAST-MODIFIED:20260115T204951Z
UID:10004079-1769000400-1769002200@capitalnature.org
SUMMARY:Safe Sidewalks\, Clean Water: Smart Salting for DMV Residents (Virtual)
DESCRIPTION:(VA) (Northern Virginia Regional Commission) Join the Northern Virginia Regional Commission (NVRC) and Interstate Commission for the Potomac River Basin (ICPRB) to learn how winter salt impacts our environment\, why it’s a growing regional concern\, and the simple steps you can take at home—before\, during\, and after storms—to apply just the right amount of salt to maintain safety in the winter. Learn application tips\, alternatives to salt\, and other ways you can be #wintersaltsmart while protecting the environment. \nThis event serves as the first of two mini-webinars to learn how you can take action around your community to stay safe and reduce salt impacts to the Potomac and other DC area water sources.
URL:https://capitalnature.org/event/safe-sidewalks-clean-water-smart-salting-for-dmv-residents-virtual/
CATEGORIES:Classes & Workshops,Conservation
END:VEVENT
END:VCALENDAR