BEGIN:VCALENDAR
VERSION:2.0
PRODID:-//Capital Nature - ECPv6.15.20//NONSGML v1.0//EN
CALSCALE:GREGORIAN
METHOD:PUBLISH
X-WR-CALNAME:Capital Nature
X-ORIGINAL-URL:https://capitalnature.org
X-WR-CALDESC:Events for Capital Nature
REFRESH-INTERVAL;VALUE=DURATION:PT1H
X-Robots-Tag:noindex
X-PUBLISHED-TTL:PT1H
BEGIN:VTIMEZONE
TZID:America/New_York
BEGIN:DAYLIGHT
TZOFFSETFROM:-0500
TZOFFSETTO:-0400
TZNAME:EDT
DTSTART:20250309T070000
END:DAYLIGHT
BEGIN:STANDARD
TZOFFSETFROM:-0400
TZOFFSETTO:-0500
TZNAME:EST
DTSTART:20251102T060000
END:STANDARD
BEGIN:DAYLIGHT
TZOFFSETFROM:-0500
TZOFFSETTO:-0400
TZNAME:EDT
DTSTART:20260308T070000
END:DAYLIGHT
BEGIN:STANDARD
TZOFFSETFROM:-0400
TZOFFSETTO:-0500
TZNAME:EST
DTSTART:20261101T060000
END:STANDARD
BEGIN:DAYLIGHT
TZOFFSETFROM:-0500
TZOFFSETTO:-0400
TZNAME:EDT
DTSTART:20270314T070000
END:DAYLIGHT
BEGIN:STANDARD
TZOFFSETFROM:-0400
TZOFFSETTO:-0500
TZNAME:EST
DTSTART:20271107T060000
END:STANDARD
END:VTIMEZONE
BEGIN:VEVENT
DTSTART;TZID=America/New_York:20260425T110000
DTEND;TZID=America/New_York:20260426T170000
DTSTAMP:20260423T123527
CREATED:20260416T013755Z
LAST-MODIFIED:20260416T013755Z
UID:10004331-1777114800-1777222800@capitalnature.org
SUMMARY:Living Earth Festival
DESCRIPTION:(DC) (Smithsonian) Celebrate the transformational power of clay and the evolution of the museum’s iconic outdoor sculpture installation Always Becoming (2007) by Nora Naranjo Morse (Kha’p’o Owingeh [Santa Clara Pueblo]). Join the museum for a weekend of stories\, artist demonstrations\, hands-on activities\, performances\, and more centered on the relationship between art and the earth. \nTo commemorate the 250th anniversary of the signing of the Declaration of Independence\, the museum will host programs reflecting on the ever-evolving nature of the country\, communities\, and future we share through the unique lens of Always Becoming. The site-specific sculptures by Nora Naranjo Morse (Kha’p’o Owingeh [Santa Clara Pueblo]) on the southern exposure of our Washington\, DC museum were constructed using Native building techniques. Made entirely of natural materials\, including clay\, straw\, sand\, soil\, and wood\, the sculptures were designed to reveal their inner structure over time. Their transitory nature reflects the relationship between Indigenous cultures and the land.
URL:https://capitalnature.org/event/living-earth-festival/
LOCATION:National Museum of the American Indian\, Fourth Street & Independence Ave. SW\, Washington\, DC\, 20560
CATEGORIES:Art,Classes & Workshops,Social & Cultural
GEO:38.8875786;-77.0175504
X-APPLE-STRUCTURED-LOCATION;VALUE=URI;X-ADDRESS=National Museum of the American Indian Fourth Street & Independence Ave. SW Washington DC 20560;X-APPLE-RADIUS=500;X-TITLE=Fourth Street & Independence Ave. SW:geo:-77.0175504,38.8875786
END:VEVENT
END:VCALENDAR