BEGIN:VCALENDAR
VERSION:2.0
PRODID:-//Capital Nature - ECPv6.15.20//NONSGML v1.0//EN
CALSCALE:GREGORIAN
METHOD:PUBLISH
X-WR-CALNAME:Capital Nature
X-ORIGINAL-URL:https://capitalnature.org
X-WR-CALDESC:Events for Capital Nature
REFRESH-INTERVAL;VALUE=DURATION:PT1H
X-Robots-Tag:noindex
X-PUBLISHED-TTL:PT1H
BEGIN:VTIMEZONE
TZID:America/New_York
BEGIN:DAYLIGHT
TZOFFSETFROM:-0500
TZOFFSETTO:-0400
TZNAME:EDT
DTSTART:20250309T070000
END:DAYLIGHT
BEGIN:STANDARD
TZOFFSETFROM:-0400
TZOFFSETTO:-0500
TZNAME:EST
DTSTART:20251102T060000
END:STANDARD
BEGIN:DAYLIGHT
TZOFFSETFROM:-0500
TZOFFSETTO:-0400
TZNAME:EDT
DTSTART:20260308T070000
END:DAYLIGHT
BEGIN:STANDARD
TZOFFSETFROM:-0400
TZOFFSETTO:-0500
TZNAME:EST
DTSTART:20261101T060000
END:STANDARD
BEGIN:DAYLIGHT
TZOFFSETFROM:-0500
TZOFFSETTO:-0400
TZNAME:EDT
DTSTART:20270314T070000
END:DAYLIGHT
BEGIN:STANDARD
TZOFFSETFROM:-0400
TZOFFSETTO:-0500
TZNAME:EST
DTSTART:20271107T060000
END:STANDARD
END:VTIMEZONE
BEGIN:VEVENT
DTSTART;TZID=America/New_York:20260425T100000
DTEND;TZID=America/New_York:20260425T120000
DTSTAMP:20260423T104130
CREATED:20260419T170255Z
LAST-MODIFIED:20260419T170530Z
UID:10004338-1777111200-1777118400@capitalnature.org
SUMMARY:Earth Day Celebration and Trail Care
DESCRIPTION:(VA) (Friends of Mount the Vernon Trail) Celebrate Earth Day and help us remove trash from the marsh near Marina Towers on the Mount Vernon Trail. This event is celebrating Earth Day and Celebrate Trails Day. The last time we removed trash at this location volunteers picked up 2\,400+ lbs of trash. Let’s try and break that record. This is a kid friendly event! Snacks will be provided. \nSee registration page for location details.
URL:https://capitalnature.org/event/earth-day-celebration-and-trail-care/
CATEGORIES:Family,Stewardship,Volunteering
END:VEVENT
BEGIN:VEVENT
DTSTART;TZID=America/New_York:20260426T100000
DTEND;TZID=America/New_York:20260426T120000
DTSTAMP:20260423T104130
CREATED:20260419T171041Z
LAST-MODIFIED:20260419T171041Z
UID:10004339-1777197600-1777204800@capitalnature.org
SUMMARY:CNC iNaturalist Bioblitz on Mount Vernon Trail
DESCRIPTION:(VA) (Friends of the Mount Vernon Trail) Help document and learn more about animal and plant species on the Mount Vernon Trail. Join us to find and document plants and animals for the City Nature Challenge! A Bioblitz is a communal citizen-science effort to record as many species within a designated location and time period as possible. Bioblitzes are also an excuse for naturalists\, scientists\, and curious members of the public to meet in person in the great outdoors and are a lot of fun! \n\nSee the registration page for exact event location.
URL:https://capitalnature.org/event/cnc-inaturalist-bioblitz-on-mount-vernon-trail/
LOCATION:Daingerfield Island Marina\, Washington Sailing Marina 1 Marina Dr\, Alexandria\, VA\, 22314\, United States
CATEGORIES:Citizen Science,Nature Observation,Outdoor Experience
GEO:38.8332089;-77.0416836
X-APPLE-STRUCTURED-LOCATION;VALUE=URI;X-ADDRESS=Daingerfield Island Marina Washington Sailing Marina 1 Marina Dr Alexandria VA 22314 United States;X-APPLE-RADIUS=500;X-TITLE=Washington Sailing Marina 1 Marina Dr:geo:-77.0416836,38.8332089
END:VEVENT
END:VCALENDAR