BEGIN:VCALENDAR
VERSION:2.0
PRODID:-//Capital Nature - ECPv6.15.20//NONSGML v1.0//EN
CALSCALE:GREGORIAN
METHOD:PUBLISH
X-ORIGINAL-URL:https://capitalnature.org
X-WR-CALDESC:Events for Capital Nature
REFRESH-INTERVAL;VALUE=DURATION:PT1H
X-Robots-Tag:noindex
X-PUBLISHED-TTL:PT1H
BEGIN:VTIMEZONE
TZID:America/New_York
BEGIN:DAYLIGHT
TZOFFSETFROM:-0500
TZOFFSETTO:-0400
TZNAME:EDT
DTSTART:20250309T070000
END:DAYLIGHT
BEGIN:STANDARD
TZOFFSETFROM:-0400
TZOFFSETTO:-0500
TZNAME:EST
DTSTART:20251102T060000
END:STANDARD
BEGIN:DAYLIGHT
TZOFFSETFROM:-0500
TZOFFSETTO:-0400
TZNAME:EDT
DTSTART:20260308T070000
END:DAYLIGHT
BEGIN:STANDARD
TZOFFSETFROM:-0400
TZOFFSETTO:-0500
TZNAME:EST
DTSTART:20261101T060000
END:STANDARD
BEGIN:DAYLIGHT
TZOFFSETFROM:-0500
TZOFFSETTO:-0400
TZNAME:EDT
DTSTART:20270314T070000
END:DAYLIGHT
BEGIN:STANDARD
TZOFFSETFROM:-0400
TZOFFSETTO:-0500
TZNAME:EST
DTSTART:20271107T060000
END:STANDARD
END:VTIMEZONE
BEGIN:VEVENT
DTSTART;TZID=America/New_York:20260228T100000
DTEND;TZID=America/New_York:20260228T170000
DTSTAMP:20260424T070905
CREATED:20251222T025342Z
LAST-MODIFIED:20251222T025342Z
UID:10003864-1772272800-1772298000@capitalnature.org
SUMMARY:Exhibit: For the Love of Birds
DESCRIPTION:(MD) (Garrett County Arts Council)“For the Love of Birds” is an installation piece that incorporates The National Audubon Society’s climate report: Survival by Degrees: 389 Birds on the Brink and artwork curated by curated by Caroline Blizzard and Julie Turrentine. The art exhibit tells the story of how birds will be affected by climate change\, with different habitats illustrated through canvas photography and supported by interpretive signage and glass birds. \nExhibit is open during Discovery Center hours Friday through Sunday\, 10:00 am to 5:00 pm\, from January 10th through March 1st.
URL:https://capitalnature.org/event/exhibit-for-the-love-of-birds-9/
LOCATION:Black Hill Discovery Center\, 20926 Lake Ridge Drive\, Boyds\, MD\, 20841\, United States
CATEGORIES:Art,Birds,Climate
GEO:39.1925249;-77.2961381
X-APPLE-STRUCTURED-LOCATION;VALUE=URI;X-ADDRESS=Black Hill Discovery Center 20926 Lake Ridge Drive Boyds MD 20841 United States;X-APPLE-RADIUS=500;X-TITLE=20926 Lake Ridge Drive:geo:-77.2961381,39.1925249
END:VEVENT
BEGIN:VEVENT
DTSTART;TZID=America/New_York:20260215T100000
DTEND;TZID=America/New_York:20260215T170000
DTSTAMP:20260424T070905
CREATED:20251222T025318Z
LAST-MODIFIED:20251222T025318Z
UID:10003863-1771149600-1771174800@capitalnature.org
SUMMARY:Exhibit: For the Love of Birds
DESCRIPTION:(MD) (Garrett County Arts Council)“For the Love of Birds” is an installation piece that incorporates The National Audubon Society’s climate report: Survival by Degrees: 389 Birds on the Brink and artwork curated by curated by Caroline Blizzard and Julie Turrentine. The art exhibit tells the story of how birds will be affected by climate change\, with different habitats illustrated through canvas photography and supported by interpretive signage and glass birds. \nExhibit is open during Discovery Center hours Friday through Sunday\, 10:00 am to 5:00 pm\, from January 10th through March 1st.
URL:https://capitalnature.org/event/exhibit-for-the-love-of-birds-8/
LOCATION:Black Hill Discovery Center\, 20926 Lake Ridge Drive\, Boyds\, MD\, 20841\, United States
CATEGORIES:Art,Birds,Climate
GEO:39.1925249;-77.2961381
X-APPLE-STRUCTURED-LOCATION;VALUE=URI;X-ADDRESS=Black Hill Discovery Center 20926 Lake Ridge Drive Boyds MD 20841 United States;X-APPLE-RADIUS=500;X-TITLE=20926 Lake Ridge Drive:geo:-77.2961381,39.1925249
END:VEVENT
BEGIN:VEVENT
DTSTART;TZID=America/New_York:20260213T100000
DTEND;TZID=America/New_York:20260213T170000
DTSTAMP:20260424T070905
CREATED:20251222T025247Z
LAST-MODIFIED:20251222T025247Z
UID:10003862-1770976800-1771002000@capitalnature.org
SUMMARY:Exhibit: For the Love of Birds
DESCRIPTION:(MD) (Garrett County Arts Council)“For the Love of Birds” is an installation piece that incorporates The National Audubon Society’s climate report: Survival by Degrees: 389 Birds on the Brink and artwork curated by curated by Caroline Blizzard and Julie Turrentine. The art exhibit tells the story of how birds will be affected by climate change\, with different habitats illustrated through canvas photography and supported by interpretive signage and glass birds. \nExhibit is open during Discovery Center hours Friday through Sunday\, 10:00 am to 5:00 pm\, from January 10th through March 1st.
URL:https://capitalnature.org/event/exhibit-for-the-love-of-birds-7/
LOCATION:Black Hill Discovery Center\, 20926 Lake Ridge Drive\, Boyds\, MD\, 20841\, United States
CATEGORIES:Art,Birds,Climate
GEO:39.1925249;-77.2961381
X-APPLE-STRUCTURED-LOCATION;VALUE=URI;X-ADDRESS=Black Hill Discovery Center 20926 Lake Ridge Drive Boyds MD 20841 United States;X-APPLE-RADIUS=500;X-TITLE=20926 Lake Ridge Drive:geo:-77.2961381,39.1925249
END:VEVENT
BEGIN:VEVENT
DTSTART;TZID=America/New_York:20260201T100000
DTEND;TZID=America/New_York:20260201T170000
DTSTAMP:20260424T070905
CREATED:20251222T025215Z
LAST-MODIFIED:20251222T025215Z
UID:10003861-1769940000-1769965200@capitalnature.org
SUMMARY:Exhibit: For the Love of Birds
DESCRIPTION:(MD) (Garrett County Arts Council)“For the Love of Birds” is an installation piece that incorporates The National Audubon Society’s climate report: Survival by Degrees: 389 Birds on the Brink and artwork curated by curated by Caroline Blizzard and Julie Turrentine. The art exhibit tells the story of how birds will be affected by climate change\, with different habitats illustrated through canvas photography and supported by interpretive signage and glass birds. \nExhibit is open during Discovery Center hours Friday through Sunday\, 10:00 am to 5:00 pm\, from January 10th through March 1st.
URL:https://capitalnature.org/event/exhibit-for-the-love-of-birds-6/
LOCATION:Black Hill Discovery Center\, 20926 Lake Ridge Drive\, Boyds\, MD\, 20841\, United States
CATEGORIES:Art,Birds,Climate
GEO:39.1925249;-77.2961381
X-APPLE-STRUCTURED-LOCATION;VALUE=URI;X-ADDRESS=Black Hill Discovery Center 20926 Lake Ridge Drive Boyds MD 20841 United States;X-APPLE-RADIUS=500;X-TITLE=20926 Lake Ridge Drive:geo:-77.2961381,39.1925249
END:VEVENT
BEGIN:VEVENT
DTSTART;TZID=America/New_York:20260124T100000
DTEND;TZID=America/New_York:20260124T170000
DTSTAMP:20260424T070905
CREATED:20251222T025120Z
LAST-MODIFIED:20251222T025120Z
UID:10003860-1769248800-1769274000@capitalnature.org
SUMMARY:Exhibit: For the Love of Birds
DESCRIPTION:(MD) (Garrett County Arts Council)“For the Love of Birds” is an installation piece that incorporates The National Audubon Society’s climate report: Survival by Degrees: 389 Birds on the Brink and artwork curated by curated by Caroline Blizzard and Julie Turrentine. The art exhibit tells the story of how birds will be affected by climate change\, with different habitats illustrated through canvas photography and supported by interpretive signage and glass birds. \nExhibit is open during Discovery Center hours Friday through Sunday\, 10:00 am to 5:00 pm\, from January 10th through March 1st.
URL:https://capitalnature.org/event/exhibit-for-the-love-of-birds-5/
LOCATION:Black Hill Discovery Center\, 20926 Lake Ridge Drive\, Boyds\, MD\, 20841\, United States
CATEGORIES:Art,Birds,Climate
GEO:39.1925249;-77.2961381
X-APPLE-STRUCTURED-LOCATION;VALUE=URI;X-ADDRESS=Black Hill Discovery Center 20926 Lake Ridge Drive Boyds MD 20841 United States;X-APPLE-RADIUS=500;X-TITLE=20926 Lake Ridge Drive:geo:-77.2961381,39.1925249
END:VEVENT
BEGIN:VEVENT
DTSTART;TZID=America/New_York:20260118T100000
DTEND;TZID=America/New_York:20260118T170000
DTSTAMP:20260424T070905
CREATED:20251222T025058Z
LAST-MODIFIED:20251222T025058Z
UID:10003859-1768730400-1768755600@capitalnature.org
SUMMARY:Exhibit: For the Love of Birds
DESCRIPTION:(MD) (Garrett County Arts Council)“For the Love of Birds” is an installation piece that incorporates The National Audubon Society’s climate report: Survival by Degrees: 389 Birds on the Brink and artwork curated by curated by Caroline Blizzard and Julie Turrentine. The art exhibit tells the story of how birds will be affected by climate change\, with different habitats illustrated through canvas photography and supported by interpretive signage and glass birds. \nExhibit is open during Discovery Center hours Friday through Sunday\, 10:00 am to 5:00 pm\, from January 10th through March 1st.
URL:https://capitalnature.org/event/exhibit-for-the-love-of-birds-4/
LOCATION:Black Hill Discovery Center\, 20926 Lake Ridge Drive\, Boyds\, MD\, 20841\, United States
CATEGORIES:Art,Birds,Climate
GEO:39.1925249;-77.2961381
X-APPLE-STRUCTURED-LOCATION;VALUE=URI;X-ADDRESS=Black Hill Discovery Center 20926 Lake Ridge Drive Boyds MD 20841 United States;X-APPLE-RADIUS=500;X-TITLE=20926 Lake Ridge Drive:geo:-77.2961381,39.1925249
END:VEVENT
END:VCALENDAR