BEGIN:VCALENDAR
VERSION:2.0
PRODID:-//Capital Nature - ECPv6.15.20//NONSGML v1.0//EN
CALSCALE:GREGORIAN
METHOD:PUBLISH
X-WR-CALNAME:Capital Nature
X-ORIGINAL-URL:https://capitalnature.org
X-WR-CALDESC:Events for Capital Nature
REFRESH-INTERVAL;VALUE=DURATION:PT1H
X-Robots-Tag:noindex
X-PUBLISHED-TTL:PT1H
BEGIN:VTIMEZONE
TZID:America/New_York
BEGIN:DAYLIGHT
TZOFFSETFROM:-0500
TZOFFSETTO:-0400
TZNAME:EDT
DTSTART:20250309T070000
END:DAYLIGHT
BEGIN:STANDARD
TZOFFSETFROM:-0400
TZOFFSETTO:-0500
TZNAME:EST
DTSTART:20251102T060000
END:STANDARD
BEGIN:DAYLIGHT
TZOFFSETFROM:-0500
TZOFFSETTO:-0400
TZNAME:EDT
DTSTART:20260308T070000
END:DAYLIGHT
BEGIN:STANDARD
TZOFFSETFROM:-0400
TZOFFSETTO:-0500
TZNAME:EST
DTSTART:20261101T060000
END:STANDARD
BEGIN:DAYLIGHT
TZOFFSETFROM:-0500
TZOFFSETTO:-0400
TZNAME:EDT
DTSTART:20270314T070000
END:DAYLIGHT
BEGIN:STANDARD
TZOFFSETFROM:-0400
TZOFFSETTO:-0500
TZNAME:EST
DTSTART:20271107T060000
END:STANDARD
END:VTIMEZONE
BEGIN:VEVENT
DTSTART;TZID=America/New_York:20260503T100000
DTEND;TZID=America/New_York:20260503T120000
DTSTAMP:20260423T153515
CREATED:20260413T001059Z
LAST-MODIFIED:20260413T001059Z
UID:10004321-1777802400-1777809600@capitalnature.org
SUMMARY:Invasive Plant Removal at Little Forest
DESCRIPTION:(DC) (Rock Creek Conservancy) Join Rock Creek Conservancy\, the National Park Service\, and Weed Warrior Leader Bethann Siegel and John Burwell for this invasive plant removal restoration event in Rock Creek Park. Invasive plants are a major threat to our fragile forests\, and stopping their spread helps allow native plants to thrive in the understory. Event location\, directions\, and information will be sent from the event leader 48 hours prior to the event.
URL:https://capitalnature.org/event/invasive-plant-removal-at-little-forest/
LOCATION:Little Forest Park\, Military Road & 28th Street NW\, Washington\, DC\, 20015\, United States
CATEGORIES:Conservation,Stewardship,Volunteering
GEO:38.9610946;-77.0575099
X-APPLE-STRUCTURED-LOCATION;VALUE=URI;X-ADDRESS=Little Forest Park Military Road & 28th Street NW Washington DC 20015 United States;X-APPLE-RADIUS=500;X-TITLE=Military Road & 28th Street NW:geo:-77.0575099,38.9610946
END:VEVENT
BEGIN:VEVENT
DTSTART;TZID=America/New_York:20260506T180000
DTEND;TZID=America/New_York:20260506T193000
DTSTAMP:20260423T153515
CREATED:20260413T001427Z
LAST-MODIFIED:20260413T001427Z
UID:10004322-1778090400-1778095800@capitalnature.org
SUMMARY:Our Watershed
DESCRIPTION:(DC) (Rock Creek Conservancy) Join Stream Team Leaders Kathy Sykes and Andrea Contreras for an engaging presentation on the Lower Rock Creek watershed and why its health matters to our community. This talk will explore what a watershed is\, how everyday activities impact local streams\, and the key indicators of a healthy watershed—from salt and bacteria levels to biodiversity and aquatic life.
URL:https://capitalnature.org/event/our-watershed-3/
LOCATION:West End Neighborhood Library\, 2301 L St NW\, Washington\, 20037\, United States
CATEGORIES:Conservation,Seminars and Lectures,Watershed Ecology
GEO:38.9039687;-77.0505882
X-APPLE-STRUCTURED-LOCATION;VALUE=URI;X-ADDRESS=West End Neighborhood Library 2301 L St NW Washington 20037 United States;X-APPLE-RADIUS=500;X-TITLE=2301 L St NW:geo:-77.0505882,38.9039687
END:VEVENT
BEGIN:VEVENT
DTSTART;TZID=America/New_York:20260509T090000
DTEND;TZID=America/New_York:20260509T120000
DTSTAMP:20260423T153515
CREATED:20260413T001724Z
LAST-MODIFIED:20260413T001724Z
UID:10004323-1778317200-1778328000@capitalnature.org
SUMMARY:Weed Warrior Training - Part 2
DESCRIPTION:(DC) (Rock Creek Conservancy) oin Rock Creek Conservancy and the National Park Service for our Weed Warrior training. Please note that this is a two-part training. Part 2 will take place in-person at an outdoor location in Rock Creek Park on May 9th. The exact location for Part 2 will be shared once finalized. Please ensure that you register for both parts of the training.
URL:https://capitalnature.org/event/weed-warrior-training-part-2/
LOCATION:VA
CATEGORIES:Classes & Workshops,Conservation,Stewardship
END:VEVENT
END:VCALENDAR