BEGIN:VCALENDAR
VERSION:2.0
PRODID:-//Capital Nature - ECPv6.15.20//NONSGML v1.0//EN
CALSCALE:GREGORIAN
METHOD:PUBLISH
X-WR-CALNAME:Capital Nature
X-ORIGINAL-URL:https://capitalnature.org
X-WR-CALDESC:Events for Capital Nature
REFRESH-INTERVAL;VALUE=DURATION:PT1H
X-Robots-Tag:noindex
X-PUBLISHED-TTL:PT1H
BEGIN:VTIMEZONE
TZID:America/New_York
BEGIN:DAYLIGHT
TZOFFSETFROM:-0500
TZOFFSETTO:-0400
TZNAME:EDT
DTSTART:20250309T070000
END:DAYLIGHT
BEGIN:STANDARD
TZOFFSETFROM:-0400
TZOFFSETTO:-0500
TZNAME:EST
DTSTART:20251102T060000
END:STANDARD
BEGIN:DAYLIGHT
TZOFFSETFROM:-0500
TZOFFSETTO:-0400
TZNAME:EDT
DTSTART:20260308T070000
END:DAYLIGHT
BEGIN:STANDARD
TZOFFSETFROM:-0400
TZOFFSETTO:-0500
TZNAME:EST
DTSTART:20261101T060000
END:STANDARD
BEGIN:DAYLIGHT
TZOFFSETFROM:-0500
TZOFFSETTO:-0400
TZNAME:EDT
DTSTART:20270314T070000
END:DAYLIGHT
BEGIN:STANDARD
TZOFFSETFROM:-0400
TZOFFSETTO:-0500
TZNAME:EST
DTSTART:20271107T060000
END:STANDARD
BEGIN:DAYLIGHT
TZOFFSETFROM:-0500
TZOFFSETTO:-0400
TZNAME:EDT
DTSTART:20280312T070000
END:DAYLIGHT
BEGIN:STANDARD
TZOFFSETFROM:-0400
TZOFFSETTO:-0500
TZNAME:EST
DTSTART:20281105T060000
END:STANDARD
END:VTIMEZONE
BEGIN:VEVENT
DTSTART;TZID=America/New_York:20260512T180000
DTEND;TZID=America/New_York:20260512T190000
DTSTAMP:20260423T154735
CREATED:20260413T001920Z
LAST-MODIFIED:20260413T001920Z
UID:10004324-1778608800-1778612400@capitalnature.org
SUMMARY:Stream Team Leader Training (Virtual)
DESCRIPTION:(DC) (MD) (Rock Creek Conservancy) Please join Rock Creek Conservancy for a virtual training for our Stream Team Leader program. Stream Team Leaders are dedicated volunteers that work with the Conservancy to host their own trash cleanups and stormwater engagement events\, increasing stewardship actions within their communities and throughout Washington\, D.C. and Montgomery County\, MD. The training will take place on zoom. A link will be sent to all registered participants on the day of the training.
URL:https://capitalnature.org/event/stream-team-leader-training-virtual-3/
LOCATION:VA
CATEGORIES:Classes & Workshops,Stewardship,Volunteering
END:VEVENT
BEGIN:VEVENT
DTSTART;TZID=America/New_York:20260528T190000
DTEND;TZID=America/New_York:20260528T200000
DTSTAMP:20260423T154735
CREATED:20260207T225612Z
LAST-MODIFIED:20260226T015831Z
UID:10004129-1779994800-1779998400@capitalnature.org
SUMMARY:What Trees Remember: Climate\, Water\, and Change (Virtual)
DESCRIPTION:(MD) (Natural History Society of Maryland) Trees are invaluable record-keepers of the past. Since their annual growth is intrinsically related to a combination of environmental factors\, tree ring data can be used like a Rosetta Stone. Dr. Karen King will demonstrate how her research in biogeography and climate change is informed by tree-ring data. We will focus on regional examples from western Maryland to learn what tree rings can tell us about temperature\, hydroclimate\, and ecological variability.
URL:https://capitalnature.org/event/what-trees-remember-climate-water-and-change-virtual/
LOCATION:VA
CATEGORIES:Classes & Workshops,Natural History,Trees
END:VEVENT
BEGIN:VEVENT
DTSTART;TZID=America/New_York:20260529T093000
DTEND;TZID=America/New_York:20260529T123000
DTSTAMP:20260423T154735
CREATED:20260412T122506Z
LAST-MODIFIED:20260412T122506Z
UID:10004307-1780047000-1780057800@capitalnature.org
SUMMARY:Spring Forest Bathing and Tree Walk at Tregaron
DESCRIPTION:(DC) (Politics & Prose) Join Melanie Choukas-Bradley\, author of Wild Walking—A Guide to Forest Bathing Through the Seasons\, The Joy of Forest Bathing\, A Year in Rock Creek Park\, and several other nature books for a magical spring forest bathing walk through the enchanting Tregaron Conservancy\, a woodland garden tucked away in the midst of northwest Washington that has been restored and stewarded by a non-profit organization since 2006. We will meander under tall trees in autumn glory\, cross picturesque bridges over musical streams\, and climb stone steps through a century-old cultivated and wild woodland landscape reminiscent of “the secret garden.” \nShinrin-yoku\, or forest bathing\, began in the 1980s in Japan and it is rooted in the traditional Japanese reverence for nature. Forest bathing is a mindfulness practice akin to meditation\, yoga and tai chi that involves tuning in to the beauty and wonder of your natural surroundings with all of your senses.
URL:https://capitalnature.org/event/spring-forest-bathing-and-tree-walk-at-tregaron/
LOCATION:Tregaron Conservancy\, 3031 Klingle Road NW\, Washington\, DC\, 20008\, United States
CATEGORIES:Contemplative,Nature Observation,Trees
END:VEVENT
BEGIN:VEVENT
DTSTART;TZID=America/New_York:20260604T083000
DTEND;TZID=America/New_York:20260604T103000
DTSTAMP:20260423T154735
CREATED:20260309T132629Z
LAST-MODIFIED:20260309T132629Z
UID:10004190-1780561800-1780569000@capitalnature.org
SUMMARY:An Immersion in Nature: Japanese Forest Bathing in Rock Creek Park
DESCRIPTION:(DC) (Smithsonian Associates) Experience forest bathing as Melanie Choukas-Bradley\, a certified nature and forest-therapy guide and author of Wild Walking—A Guide to Forest Bathing Through the Seasons and A Year in Rock Creek Park\, leads a 2-hour walk along a scenic stretch of Rock Creek in the nation’s oldest urban national park. Move slowly to soak up the beauty of the flowing creek and the lush June greens of the bountiful trees. Focus on the sights\, sounds\, and woodsy fragrances of Rock Creek Park\, letting go of cares while slowly exploring the surroundings through all senses. This restorative celebration of the beauty of late spring in the wooded heart of the nation’s capital is the perfect way to learn why forest bathing is becoming popular all over the world. \nParticipants receive a signed copy of Wild Walking—A Guide to Forest Bathing Through the Seasons.
URL:https://capitalnature.org/event/an-immersion-in-nature-japanese-forest-bathing-in-rock-creek-park/
LOCATION:VA
CATEGORIES:Contemplative,Nature Observation,Outdoor Experience
END:VEVENT
BEGIN:VEVENT
DTSTART;TZID=America/New_York:20260605T083000
DTEND;TZID=America/New_York:20260605T103000
DTSTAMP:20260423T154735
CREATED:20260309T132812Z
LAST-MODIFIED:20260309T132812Z
UID:10004191-1780648200-1780655400@capitalnature.org
SUMMARY:An Immersion in Nature: Japanese Forest Bathing in Rock Creek Park
DESCRIPTION:(DC) (Smithsonian Associates) Experience forest bathing as Melanie Choukas-Bradley\, a certified nature and forest-therapy guide and author of Wild Walking—A Guide to Forest Bathing Through the Seasons and A Year in Rock Creek Park\, leads a 2-hour walk along a scenic stretch of Rock Creek in the nation’s oldest urban national park. Move slowly to soak up the beauty of the flowing creek and the lush June greens of the bountiful trees. Focus on the sights\, sounds\, and woodsy fragrances of Rock Creek Park\, letting go of cares while slowly exploring the surroundings through all senses. This restorative celebration of the beauty of late spring in the wooded heart of the nation’s capital is the perfect way to learn why forest bathing is becoming popular all over the world. \nParticipants receive a signed copy of Wild Walking—A Guide to Forest Bathing Through the Seasons.
URL:https://capitalnature.org/event/an-immersion-in-nature-japanese-forest-bathing-in-rock-creek-park-2/
LOCATION:VA
CATEGORIES:Contemplative,Nature Observation,Outdoor Experience
END:VEVENT
BEGIN:VEVENT
DTSTART;TZID=America/New_York:20270119T130000
DTEND;TZID=America/New_York:20270119T150000
DTSTAMP:20260423T154735
CREATED:20260111T002002Z
LAST-MODIFIED:20260111T002002Z
UID:10003931-1800363600-1800370800@capitalnature.org
SUMMARY:MLK Day: Litter Cleanup at Piney Branch
DESCRIPTION:(DC) (Rock Creek Conservancy) Join Rock Creek Conservancy\, the National Park Service\, and Stream Team Leaders Keith Krosinsky and Alice Zou for a litter removal restoration event in Rock Creek Park. Trash is the visible form of stormwater pollution\, a major threat to water quality and park health and its removal makes the parklands cleaner\, safer\, and more beautiful for all.
URL:https://capitalnature.org/event/mlk-day-litter-cleanup-at-piney-branch/
LOCATION:Piney Branch Oasis\, 3499 Mt Pleasant St NW\, Washington\, 20010\, United States
CATEGORIES:Conservation,Stewardship,Volunteering
END:VEVENT
BEGIN:VEVENT
DTSTART;TZID=America/New_York:20270404T130000
DTEND;TZID=America/New_York:20270404T150000
DTSTAMP:20260423T154735
CREATED:20260308T223010Z
LAST-MODIFIED:20260308T223010Z
UID:10004172-1806843600-1806850800@capitalnature.org
SUMMARY:Extreme Cleanup at Broad Branch
DESCRIPTION:(DC) (Rock Creek Conservancy) Join Rock Creek Conservancy and the National Park Service for a litter removal restoration event in Rock Creek Park. Trash is the visible form of stormwater pollution\, a major threat to water quality and park health and its removal makes the parklands cleaner\, safer\, and more beautiful for all. This event is part of the Annual Rock Creek Extreme Cleanup – a month-long push to remove litter throughout the Rock Creek watershed! Additional information will be sent from the event leader one business day before the event.
URL:https://capitalnature.org/event/extreme-cleanup-at-broad-branch/
LOCATION:VA
CATEGORIES:Conservation,Stewardship,Volunteering
END:VEVENT
END:VCALENDAR