BEGIN:VCALENDAR
VERSION:2.0
PRODID:-//Capital Nature - ECPv6.15.20//NONSGML v1.0//EN
CALSCALE:GREGORIAN
METHOD:PUBLISH
X-ORIGINAL-URL:https://capitalnature.org
X-WR-CALDESC:Events for Capital Nature
REFRESH-INTERVAL;VALUE=DURATION:PT1H
X-Robots-Tag:noindex
X-PUBLISHED-TTL:PT1H
BEGIN:VTIMEZONE
TZID:America/New_York
BEGIN:DAYLIGHT
TZOFFSETFROM:-0500
TZOFFSETTO:-0400
TZNAME:EDT
DTSTART:20250309T070000
END:DAYLIGHT
BEGIN:STANDARD
TZOFFSETFROM:-0400
TZOFFSETTO:-0500
TZNAME:EST
DTSTART:20251102T060000
END:STANDARD
BEGIN:DAYLIGHT
TZOFFSETFROM:-0500
TZOFFSETTO:-0400
TZNAME:EDT
DTSTART:20260308T070000
END:DAYLIGHT
BEGIN:STANDARD
TZOFFSETFROM:-0400
TZOFFSETTO:-0500
TZNAME:EST
DTSTART:20261101T060000
END:STANDARD
BEGIN:DAYLIGHT
TZOFFSETFROM:-0500
TZOFFSETTO:-0400
TZNAME:EDT
DTSTART:20270314T070000
END:DAYLIGHT
BEGIN:STANDARD
TZOFFSETFROM:-0400
TZOFFSETTO:-0500
TZNAME:EST
DTSTART:20271107T060000
END:STANDARD
END:VTIMEZONE
BEGIN:VEVENT
DTSTART;TZID=America/New_York:20260120T140000
DTEND;TZID=America/New_York:20260120T150000
DTSTAMP:20260424T130106
CREATED:20260115T183603Z
LAST-MODIFIED:20260115T183736Z
UID:10004064-1768917600-1768921200@capitalnature.org
SUMMARY:Nature\, Art\, and Service as Medicine (Virtual)
DESCRIPTION:(VA) (Alexandria Library) Jump start your new year with us as we chat with journalist and author Julia Hotz about her book The Connection Cure: The Prescriptive Power of Movement\, Nature\, Art\, Service\, and Belonging. By integrating age-old medicines like art\, nature\, movement\, and volunteer service into patient’s daily lives\, social prescriptions are radically changing health and healthcare in more than thirty countries.
URL:https://capitalnature.org/event/nature-art-and-service-as-medicine-virtual/
LOCATION:DC
CATEGORIES:Seminars and Lectures,Wellness
END:VEVENT
END:VCALENDAR