BEGIN:VCALENDAR
VERSION:2.0
PRODID:-//Capital Nature - ECPv6.15.20//NONSGML v1.0//EN
CALSCALE:GREGORIAN
METHOD:PUBLISH
X-WR-CALNAME:Capital Nature
X-ORIGINAL-URL:https://capitalnature.org
X-WR-CALDESC:Events for Capital Nature
REFRESH-INTERVAL;VALUE=DURATION:PT1H
X-Robots-Tag:noindex
X-PUBLISHED-TTL:PT1H
BEGIN:VTIMEZONE
TZID:America/New_York
BEGIN:DAYLIGHT
TZOFFSETFROM:-0500
TZOFFSETTO:-0400
TZNAME:EDT
DTSTART:20250309T070000
END:DAYLIGHT
BEGIN:STANDARD
TZOFFSETFROM:-0400
TZOFFSETTO:-0500
TZNAME:EST
DTSTART:20251102T060000
END:STANDARD
BEGIN:DAYLIGHT
TZOFFSETFROM:-0500
TZOFFSETTO:-0400
TZNAME:EDT
DTSTART:20260308T070000
END:DAYLIGHT
BEGIN:STANDARD
TZOFFSETFROM:-0400
TZOFFSETTO:-0500
TZNAME:EST
DTSTART:20261101T060000
END:STANDARD
BEGIN:DAYLIGHT
TZOFFSETFROM:-0500
TZOFFSETTO:-0400
TZNAME:EDT
DTSTART:20270314T070000
END:DAYLIGHT
BEGIN:STANDARD
TZOFFSETFROM:-0400
TZOFFSETTO:-0500
TZNAME:EST
DTSTART:20271107T060000
END:STANDARD
END:VTIMEZONE
BEGIN:VEVENT
DTSTART;TZID=America/New_York:20260217T190000
DTEND;TZID=America/New_York:20260217T203000
DTSTAMP:20260424T121537
CREATED:20260110T021541Z
LAST-MODIFIED:20260110T021541Z
UID:10003901-1771354800-1771360200@capitalnature.org
SUMMARY:Restoring the Chesapeake Bay (Virtual)
DESCRIPTION:(MD) (Smithsonian Environmental Research Center) Former Senator Gerald Winegrad has devoted himself to environmental causes for 56 years\, including Chesapeake Bay restoration. He represented the SERC area in the Maryland legislature for 16 years. In this talk\, he will examine the results of 42 years of formal efforts to restore the Bay in which he was intricately involved\, winning many awards for his environmental advocacy.
URL:https://capitalnature.org/event/restoring-the-chesapeake-bay-virtual/
CATEGORIES:Classes & Workshops,Conservation,Watershed Ecology
END:VEVENT
END:VCALENDAR