BEGIN:VCALENDAR
VERSION:2.0
PRODID:-//Capital Nature - ECPv6.15.20//NONSGML v1.0//EN
CALSCALE:GREGORIAN
METHOD:PUBLISH
X-WR-CALNAME:Capital Nature
X-ORIGINAL-URL:https://capitalnature.org
X-WR-CALDESC:Events for Capital Nature
REFRESH-INTERVAL;VALUE=DURATION:PT1H
X-Robots-Tag:noindex
X-PUBLISHED-TTL:PT1H
BEGIN:VTIMEZONE
TZID:America/New_York
BEGIN:DAYLIGHT
TZOFFSETFROM:-0500
TZOFFSETTO:-0400
TZNAME:EDT
DTSTART:20250309T070000
END:DAYLIGHT
BEGIN:STANDARD
TZOFFSETFROM:-0400
TZOFFSETTO:-0500
TZNAME:EST
DTSTART:20251102T060000
END:STANDARD
BEGIN:DAYLIGHT
TZOFFSETFROM:-0500
TZOFFSETTO:-0400
TZNAME:EDT
DTSTART:20260308T070000
END:DAYLIGHT
BEGIN:STANDARD
TZOFFSETFROM:-0400
TZOFFSETTO:-0500
TZNAME:EST
DTSTART:20261101T060000
END:STANDARD
BEGIN:DAYLIGHT
TZOFFSETFROM:-0500
TZOFFSETTO:-0400
TZNAME:EDT
DTSTART:20270314T070000
END:DAYLIGHT
BEGIN:STANDARD
TZOFFSETFROM:-0400
TZOFFSETTO:-0500
TZNAME:EST
DTSTART:20271107T060000
END:STANDARD
END:VTIMEZONE
BEGIN:VEVENT
DTSTART;TZID=America/New_York:20260422T080000
DTEND;TZID=America/New_York:20260422T120000
DTSTAMP:20260424T092751
CREATED:20260412T014049Z
LAST-MODIFIED:20260412T014049Z
UID:10004297-1776844800-1776859200@capitalnature.org
SUMMARY:Community Tree Planting at Mount Olivet
DESCRIPTION:(DC) (Casey Trees) Join Casey Trees as we partner with HITT to celebrate Earth Day and plant trees at Mount Olivet Cemetery! \nYou provide the volunteers\, we provide all the necessary tools and supplies to plant the trees. Participants will receive a hands-on training on site. After learning the tools and techniques\, participants will be split up into groups supervised by a trained volunteer Team Leader and begin planting trees throughout the space.
URL:https://capitalnature.org/event/community-tree-planting-at-mount-olivet-2/
LOCATION:Mount Olivet Cemetary\, 300 Bladensburg Road NE\, Washington\, DC\, 20002
CATEGORIES:Conservation,Trees,Volunteering
END:VEVENT
BEGIN:VEVENT
DTSTART;TZID=America/New_York:20260423T083000
DTEND;TZID=America/New_York:20260423T100000
DTSTAMP:20260424T092751
CREATED:20260412T014416Z
LAST-MODIFIED:20260412T014416Z
UID:10004298-1776933000-1776938400@capitalnature.org
SUMMARY:Canopies & Communities
DESCRIPTION:(DC) (Casey Trees) Join D.C. based nonprofits JGI USA and Casey Trees as they share their approaches to engaging communities to make an impact\, including their successful efforts to restore and protect forest habitats both locally in Washington\, D.C. and internationally along chimpanzee range in Africa. This event will feature presentations from both JGI USA and Casey Trees\, followed by a short Q&A and opportunities to network with conservation colleagues.
URL:https://capitalnature.org/event/canopies-communities/
LOCATION:Jane Goodall Institute\, 1120 20th St NW\, Washington\, DC\, 20036\, United States
CATEGORIES:Conservation,Seminars and Lectures,Trees
GEO:38.9046524;-77.0458322
X-APPLE-STRUCTURED-LOCATION;VALUE=URI;X-ADDRESS=Jane Goodall Institute 1120 20th St NW Washington DC 20036 United States;X-APPLE-RADIUS=500;X-TITLE=1120 20th St NW:geo:-77.0458322,38.9046524
END:VEVENT
BEGIN:VEVENT
DTSTART;TZID=America/New_York:20260423T190000
DTEND;TZID=America/New_York:20260423T200000
DTSTAMP:20260424T092751
CREATED:20260412T014808Z
LAST-MODIFIED:20260412T014808Z
UID:10004299-1776970800-1776974400@capitalnature.org
SUMMARY:Tree of Life Project (Virtual)
DESCRIPTION:(DC) (Grace Capital City) Learn more about how we’re resourcing and partnering with low tree canopy neighborhoods in the DMV to provide free trees and elbow grease! \n\n\nGrace Capital City is working with EEN to increase tree coverage in low canopy areas of the DMV starting with houses of worship – trusted community centers within these neighborhoods- in an effort we call the Tree of Life Project. \nJoin GCC’s Justice Director Hannah Martha Cohen Banks from 7:00 PM – 8:00 PM for an online webinar where we’ll share about the Tree of Life Project and how to get involved!
URL:https://capitalnature.org/event/tree-of-life-project-virtual/
CATEGORIES:Climate,Seminars and Lectures,Trees
END:VEVENT
BEGIN:VEVENT
DTSTART;TZID=America/New_York:20260424T080000
DTEND;TZID=America/New_York:20260424T120000
DTSTAMP:20260424T092751
CREATED:20260412T015145Z
LAST-MODIFIED:20260412T015145Z
UID:10004300-1777017600-1777032000@capitalnature.org
SUMMARY:Community Tree Planting at Stanton Park
DESCRIPTION:(DC) (Casey Trees) In honor of America’s 250th anniversary\, we’re planting 250 trees across DC’s national parks with National Capital Parks-East\, a unit of the National Park Service. Join us to help plant and welcome 19 trees at the historic Stanton Park\, part of this milestone campaign made possible by generous donations. \nParticipants will receive hands-on training on-site. After learning the tools and techniques\, participants will be split up into groups supervised by a trained volunteer Team Leader and begin planting trees throughout the space.
URL:https://capitalnature.org/event/community-tree-planting-at-stanton-park/
LOCATION:Stanton Park\, 6th Street NE and 226 4th St NE\, Washington\, DC\, 20002\, United States
CATEGORIES:Conservation,Trees,Volunteering
GEO:38.8935454;-76.9999467
X-APPLE-STRUCTURED-LOCATION;VALUE=URI;X-ADDRESS=Stanton Park 6th Street NE and 226 4th St NE Washington DC 20002 United States;X-APPLE-RADIUS=500;X-TITLE=6th Street NE and 226 4th St NE:geo:-76.9999467,38.8935454
END:VEVENT
END:VCALENDAR