BEGIN:VCALENDAR
VERSION:2.0
PRODID:-//Capital Nature - ECPv6.15.20//NONSGML v1.0//EN
CALSCALE:GREGORIAN
METHOD:PUBLISH
X-WR-CALNAME:Capital Nature
X-ORIGINAL-URL:https://capitalnature.org
X-WR-CALDESC:Events for Capital Nature
REFRESH-INTERVAL;VALUE=DURATION:PT1H
X-Robots-Tag:noindex
X-PUBLISHED-TTL:PT1H
BEGIN:VTIMEZONE
TZID:America/New_York
BEGIN:DAYLIGHT
TZOFFSETFROM:-0500
TZOFFSETTO:-0400
TZNAME:EDT
DTSTART:20250309T070000
END:DAYLIGHT
BEGIN:STANDARD
TZOFFSETFROM:-0400
TZOFFSETTO:-0500
TZNAME:EST
DTSTART:20251102T060000
END:STANDARD
BEGIN:DAYLIGHT
TZOFFSETFROM:-0500
TZOFFSETTO:-0400
TZNAME:EDT
DTSTART:20260308T070000
END:DAYLIGHT
BEGIN:STANDARD
TZOFFSETFROM:-0400
TZOFFSETTO:-0500
TZNAME:EST
DTSTART:20261101T060000
END:STANDARD
BEGIN:DAYLIGHT
TZOFFSETFROM:-0500
TZOFFSETTO:-0400
TZNAME:EDT
DTSTART:20270314T070000
END:DAYLIGHT
BEGIN:STANDARD
TZOFFSETFROM:-0400
TZOFFSETTO:-0500
TZNAME:EST
DTSTART:20271107T060000
END:STANDARD
END:VTIMEZONE
BEGIN:VEVENT
DTSTART;TZID=America/New_York:20260225T090000
DTEND;TZID=America/New_York:20260225T120000
DTSTAMP:20260424T161249
CREATED:20260206T030038Z
LAST-MODIFIED:20260206T030038Z
UID:10004097-1772010000-1772020800@capitalnature.org
SUMMARY:Invasive Vine Removal at Bladensburg
DESCRIPTION:(MD) (Casey Trees) Join Meredith from Chesapeake Climate Action Network and the Community Native Planting Project to remove Invasive Vines. We will start with a brief training on invasive species and best practices for removal\, and spend about 2 hours removing invasives.
URL:https://capitalnature.org/event/invasive-vine-removal-at-bladensburg/
LOCATION:Publick Playhouse\, 5445 Landover Rd\, Hyattsville\, 20784\, United States
CATEGORIES:Conservation,Stewardship,Trees
GEO:38.9380386;-76.9246582
X-APPLE-STRUCTURED-LOCATION;VALUE=URI;X-ADDRESS=Publick Playhouse 5445 Landover Rd Hyattsville 20784 United States;X-APPLE-RADIUS=500;X-TITLE=5445 Landover Rd:geo:-76.9246582,38.9380386
END:VEVENT
BEGIN:VEVENT
DTSTART;TZID=America/New_York:20260228T100000
DTEND;TZID=America/New_York:20260228T130000
DTSTAMP:20260424T161249
CREATED:20260206T030231Z
LAST-MODIFIED:20260206T030231Z
UID:10004098-1772272800-1772283600@capitalnature.org
SUMMARY:Invasive Vine Removal at Riverdale
DESCRIPTION:(MD) (Casey Trees) Join Chesapeake Climate Action Network volunteer leaders from the Riverdale Park Green Team to remove Invasive Vines around around the Riverdale Park neighborhood.. This event will be a fun mix of door-to-door canvassing and invasive vine removal.
URL:https://capitalnature.org/event/invasive-vine-removal-at-riverdale-2/
LOCATION:Riverside Drive Park\, 5801 Riverside Drive\, Riverdale\, 20737\, United States
CATEGORIES:Conservation,Stewardship,Trees
GEO:38.957847;-76.9296525
X-APPLE-STRUCTURED-LOCATION;VALUE=URI;X-ADDRESS=Riverside Drive Park 5801 Riverside Drive Riverdale 20737 United States;X-APPLE-RADIUS=500;X-TITLE=5801 Riverside Drive:geo:-76.9296525,38.957847
END:VEVENT
BEGIN:VEVENT
DTSTART;TZID=America/New_York:20260304T190000
DTEND;TZID=America/New_York:20260304T203000
DTSTAMP:20260424T161249
CREATED:20260207T230148Z
LAST-MODIFIED:20260207T230148Z
UID:10004130-1772650800-1772656200@capitalnature.org
SUMMARY:On the Heels of Dinosaurs (Virtual)
DESCRIPTION:(MD) (Natural History Society of Maryland) Dinosaur tracks and other trace fossils provide important insights into the behaviors\, locomotion\, postures\, and environments of ancient creatures that are often difficult to glean from body fossils alone. Glen Kuban’s presentation will include an overview of the dinosaur tracks\, including basic types of tracks\, where they are found\, and how they are studied and documented. Glen will also discuss his 45+ years of first-hand research on the remarkably abundant\, varied\, and well-preserved dinosaur tracks in Texas\, and various debates and controversies surrounding them.
URL:https://capitalnature.org/event/on-the-heels-of-dinosaurs-virtual/
CATEGORIES:Animals,Classes & Workshops,Natural History,Trees
END:VEVENT
BEGIN:VEVENT
DTSTART;TZID=America/New_York:20260312T190000
DTEND;TZID=America/New_York:20260312T203000
DTSTAMP:20260424T161249
CREATED:20260207T230806Z
LAST-MODIFIED:20260207T230806Z
UID:10004132-1773342000-1773347400@capitalnature.org
SUMMARY:Evolution of the Bird Brain (Virtual)
DESCRIPTION:(MD) (Natural History Society of Maryland) This talk explores the Mesozoic origin of avian flight from the perspective of the dinosaurian brain. Fossil reconstructions will be integrated with advanced imaging to test hypotheses on how the brain of theropods met the sensory and motor changes of this rare and radical behavioral innovation. \nAmy Balanoff is an assistant professor in the Center for Functional Anatomy & Evolution at Johns Hopkins University School of Medicine.
URL:https://capitalnature.org/event/evolution-of-the-bird-brain-virtual/
CATEGORIES:Birds,Classes & Workshops,Natural History,Trees
END:VEVENT
BEGIN:VEVENT
DTSTART;VALUE=DATE:20260313
DTEND;VALUE=DATE:20260417
DTSTAMP:20260424T161249
CREATED:20260308T225319Z
LAST-MODIFIED:20260308T225319Z
UID:10004177-1773360000-1776383999@capitalnature.org
SUMMARY:National Cherry Blossom Festival
DESCRIPTION:(DC)(MD)(VA) The four-week festival celebrates the enduring friendship between the people of the United States and Japan and the beauty of DC’s iconic cherry blossom trees with diverse and creative programming. Events will be happening throughout the DC metro area.
URL:https://capitalnature.org/event/national-cherry-blossom-festival/
CATEGORIES:Social and Cultural,Trees
ORGANIZER;CN="National Cherry Blossom Festival":MAILTO:ncbf@ncbfdc.org
END:VEVENT
BEGIN:VEVENT
DTSTART;TZID=America/New_York:20260323T090000
DTEND;TZID=America/New_York:20260323T130000
DTSTAMP:20260424T161249
CREATED:20260308T232740Z
LAST-MODIFIED:20260308T232740Z
UID:10004187-1774256400-1774270800@capitalnature.org
SUMMARY:Community Tree Planting at Armed Forces Retirement Home
DESCRIPTION:(DC) (Casey Trees) Join Casey Trees as we partner with the Washington Wizards to plant trees at the Armed Forces Retirement Home! \nYou provide the volunteers\, we provide all the necessary tools and supplies to plant the trees. Participants will receive a hands-on training on site. After learning the tools and techniques\, participants will be split up into groups supervised by a trained volunteer Team Leader and begin planting trees throughout the space.
URL:https://capitalnature.org/event/community-tree-planting-at-armed-forces-retirement-home/
LOCATION:Armed Forces Retirement Home\, 140 Rock Creek Church Rd NW\, Washington\, DC\, 20011
CATEGORIES:Conservation,Trees,Volunteering
GEO:38.9417149;-77.0117572
X-APPLE-STRUCTURED-LOCATION;VALUE=URI;X-ADDRESS=Armed Forces Retirement Home 140 Rock Creek Church Rd NW Washington DC 20011;X-APPLE-RADIUS=500;X-TITLE=140 Rock Creek Church Rd NW:geo:-77.0117572,38.9417149
END:VEVENT
BEGIN:VEVENT
DTSTART;TZID=America/New_York:20260325T183000
DTEND;TZID=America/New_York:20260325T200000
DTSTAMP:20260424T161249
CREATED:20260323T124724Z
LAST-MODIFIED:20260323T124724Z
UID:10004195-1774463400-1774468800@capitalnature.org
SUMMARY:Under the Cherry Trees: From Old Japan to Washington\, D.C.
DESCRIPTION:(DC) (Japan Information and Cultural Center) In Japan\, people have long strolled under masses of cherry blossoms in a springtime tradition known as hanami (花見; flower viewing). Today\, millions of people enjoy a similar experience in Washington\, D.C.\, made possible through the combined efforts of Japanese and American individuals who shared a vision. Local writer Diana Parsell\, author of Eliza Scidmore: The Trailblazing Journalist Behind Washington’s Cherry Trees\, will share the history and symbolism of cherry blossoms in Japan and trace the remarkable story of how they came to grace the banks of the Potomac River. In this richly illustrated talk\, learn about the cultural and spiritual meanings behind hanami that has connected people\, places\, and histories across generations and continents.
URL:https://capitalnature.org/event/under-the-cherry-trees-from-old-japan-to-washington-d-c/
LOCATION:Japan Information and Cultural Center\, 1150 18th Street NW\, Suite 100\, Washington\, DC\, 20036\, United States
CATEGORIES:Seminars and Lectures,Social and Cultural,Trees
GEO:38.9045716;-77.041857
X-APPLE-STRUCTURED-LOCATION;VALUE=URI;X-ADDRESS=Japan Information and Cultural Center 1150 18th Street NW Suite 100 Washington DC 20036 United States;X-APPLE-RADIUS=500;X-TITLE=1150 18th Street NW\, Suite 100:geo:-77.041857,38.9045716
END:VEVENT
BEGIN:VEVENT
DTSTART;TZID=America/New_York:20260328T080000
DTEND;TZID=America/New_York:20260328T120000
DTSTAMP:20260424T161249
CREATED:20260323T204521Z
LAST-MODIFIED:20260323T204521Z
UID:10004207-1774684800-1774699200@capitalnature.org
SUMMARY:Community Tree Planting at Mount Olivet
DESCRIPTION:(DC) (Casey Trees) Join Casey Trees for one of our first plantings of the season\, made possible by partnership with the Arbor Day Foundation and Verizon. \nYou provide the volunteers\, we provide all the necessary tools and supplies to plant the trees. Participants will receive a hands-on training on site. After learning the tools and techniques\, participants will be split up into groups supervised by a trained volunteer Team Leader and begin planting trees throughout the space.
URL:https://capitalnature.org/event/community-tree-planting-at-mount-olivet/
LOCATION:Mount Olivet Cemetary\, 300 Bladensburg Road NE\, Washington\, DC\, 20002
CATEGORIES:Conservation,Trees,Volunteering
END:VEVENT
BEGIN:VEVENT
DTSTART;TZID=America/New_York:20260330T180000
DTEND;TZID=America/New_York:20260330T193000
DTSTAMP:20260424T161249
CREATED:20260326T005743Z
LAST-MODIFIED:20260326T005743Z
UID:10004283-1774893600-1774899000@capitalnature.org
SUMMARY:Guided Cherry Blossom Walk
DESCRIPTION:(DC) (Tree Stories) Join educational arborist Sam Nelson for a guided walk in D.C’s Capitol Hill featuring history\, science\, and beautiful groves of blossoms Together\, we’ll discuss tree science\, history\, and slow down to stroll and reflect under magical blossoms in spring (and take some photos). This walk will not include the beautiful but crowded Tidal Basin. Instead\, we’ll begin in Stanton Park\, walk through the Senate Parks\, and then finish at the U.S. Capitol’s historic cherry groves around sunset.
URL:https://capitalnature.org/event/guided-cherry-blossom-walk/
LOCATION:Stanton Park\, 6th Street NE and 226 4th St NE\, Washington\, DC\, 20002\, United States
CATEGORIES:Nature Observation,Outdoor Experience,Trees
GEO:38.8935454;-76.9999467
X-APPLE-STRUCTURED-LOCATION;VALUE=URI;X-ADDRESS=Stanton Park 6th Street NE and 226 4th St NE Washington DC 20002 United States;X-APPLE-RADIUS=500;X-TITLE=6th Street NE and 226 4th St NE:geo:-76.9999467,38.8935454
END:VEVENT
BEGIN:VEVENT
DTSTART;TZID=America/New_York:20260401T180000
DTEND;TZID=America/New_York:20260401T193000
DTSTAMP:20260424T161249
CREATED:20260326T005855Z
LAST-MODIFIED:20260326T005855Z
UID:10004284-1775066400-1775071800@capitalnature.org
SUMMARY:Guided Cherry Blossom Walk
DESCRIPTION:(DC) (Tree Stories) Join educational arborist Sam Nelson for a guided walk in D.C’s Capitol Hill featuring history\, science\, and beautiful groves of blossoms Together\, we’ll discuss tree science\, history\, and slow down to stroll and reflect under magical blossoms in spring (and take some photos). This walk will not include the beautiful but crowded Tidal Basin. Instead\, we’ll begin in Stanton Park\, walk through the Senate Parks\, and then finish at the U.S. Capitol’s historic cherry groves around sunset.
URL:https://capitalnature.org/event/guided-cherry-blossom-walk-2/
LOCATION:Stanton Park\, 6th Street NE and 226 4th St NE\, Washington\, DC\, 20002\, United States
CATEGORIES:Nature Observation,Outdoor Experience,Trees
GEO:38.8935454;-76.9999467
X-APPLE-STRUCTURED-LOCATION;VALUE=URI;X-ADDRESS=Stanton Park 6th Street NE and 226 4th St NE Washington DC 20002 United States;X-APPLE-RADIUS=500;X-TITLE=6th Street NE and 226 4th St NE:geo:-76.9999467,38.8935454
END:VEVENT
BEGIN:VEVENT
DTSTART;TZID=America/New_York:20260413T150000
DTEND;TZID=America/New_York:20260413T170000
DTSTAMP:20260424T161249
CREATED:20260412T235123Z
LAST-MODIFIED:20260412T235123Z
UID:10004313-1776092400-1776099600@capitalnature.org
SUMMARY:Tree Planting at Linnean Park
DESCRIPTION:(DC) (Rock Creek Conservancy) Join Kathy Sykes\, DOEE Conservation Steward\, for an afternoon of planting at Linnean Park in Ward 3. Tools and instructions provided. Please wear sturdy shoes with good tread\, and weather appropriate clothes you don’t mind getting dirty or snagged. Bring your own water bottle\, sun protection\, etc. \nThe meet up location is at Broad Branch Terrace\, NW and Fessenden Street\, NW.
URL:https://capitalnature.org/event/tree-planting-at-linnean-park/
LOCATION:Linnean Park
CATEGORIES:Stewardship,Trees,Volunteering
END:VEVENT
BEGIN:VEVENT
DTSTART;TZID=America/New_York:20260418T080000
DTEND;TZID=America/New_York:20260418T123000
DTSTAMP:20260424T161249
CREATED:20260412T013555Z
LAST-MODIFIED:20260412T013555Z
UID:10004295-1776499200-1776515400@capitalnature.org
SUMMARY:Community Tree Planting at Armed Forces Retirement Home
DESCRIPTION:(DC) (Casey Trees) Join Casey Trees for an exciting day of tree planting\, made possible by partnership with the Arbor Day Foundation and United. \nYou provide the volunteers\, we provide all the necessary tools and supplies to plant the trees. Participants will receive a hands-on training on site. After learning the tools and techniques\, participants will be split up into groups supervised by a trained volunteer Team Leader and begin planting trees throughout the space.
URL:https://capitalnature.org/event/community-tree-planting-at-armed-forces-retirement-home-2/
LOCATION:Armed Forces Retirement Home\, 140 Rock Creek Church Rd NW\, Washington\, DC\, 20011
CATEGORIES:Conservation,Trees,Volunteering
GEO:38.9417149;-77.0117572
X-APPLE-STRUCTURED-LOCATION;VALUE=URI;X-ADDRESS=Armed Forces Retirement Home 140 Rock Creek Church Rd NW Washington DC 20011;X-APPLE-RADIUS=500;X-TITLE=140 Rock Creek Church Rd NW:geo:-77.0117572,38.9417149
END:VEVENT
BEGIN:VEVENT
DTSTART;TZID=America/New_York:20260422T080000
DTEND;TZID=America/New_York:20260422T120000
DTSTAMP:20260424T161249
CREATED:20260412T014049Z
LAST-MODIFIED:20260412T014049Z
UID:10004297-1776844800-1776859200@capitalnature.org
SUMMARY:Community Tree Planting at Mount Olivet
DESCRIPTION:(DC) (Casey Trees) Join Casey Trees as we partner with HITT to celebrate Earth Day and plant trees at Mount Olivet Cemetery! \nYou provide the volunteers\, we provide all the necessary tools and supplies to plant the trees. Participants will receive a hands-on training on site. After learning the tools and techniques\, participants will be split up into groups supervised by a trained volunteer Team Leader and begin planting trees throughout the space.
URL:https://capitalnature.org/event/community-tree-planting-at-mount-olivet-2/
LOCATION:Mount Olivet Cemetary\, 300 Bladensburg Road NE\, Washington\, DC\, 20002
CATEGORIES:Conservation,Trees,Volunteering
END:VEVENT
BEGIN:VEVENT
DTSTART;TZID=America/New_York:20260423T083000
DTEND;TZID=America/New_York:20260423T100000
DTSTAMP:20260424T161249
CREATED:20260412T014416Z
LAST-MODIFIED:20260412T014416Z
UID:10004298-1776933000-1776938400@capitalnature.org
SUMMARY:Canopies & Communities
DESCRIPTION:(DC) (Casey Trees) Join D.C. based nonprofits JGI USA and Casey Trees as they share their approaches to engaging communities to make an impact\, including their successful efforts to restore and protect forest habitats both locally in Washington\, D.C. and internationally along chimpanzee range in Africa. This event will feature presentations from both JGI USA and Casey Trees\, followed by a short Q&A and opportunities to network with conservation colleagues.
URL:https://capitalnature.org/event/canopies-communities/
LOCATION:Jane Goodall Institute\, 1120 20th St NW\, Washington\, DC\, 20036\, United States
CATEGORIES:Conservation,Seminars and Lectures,Trees
GEO:38.9046524;-77.0458322
X-APPLE-STRUCTURED-LOCATION;VALUE=URI;X-ADDRESS=Jane Goodall Institute 1120 20th St NW Washington DC 20036 United States;X-APPLE-RADIUS=500;X-TITLE=1120 20th St NW:geo:-77.0458322,38.9046524
END:VEVENT
BEGIN:VEVENT
DTSTART;TZID=America/New_York:20260423T190000
DTEND;TZID=America/New_York:20260423T200000
DTSTAMP:20260424T161249
CREATED:20260412T014808Z
LAST-MODIFIED:20260412T014808Z
UID:10004299-1776970800-1776974400@capitalnature.org
SUMMARY:Tree of Life Project (Virtual)
DESCRIPTION:(DC) (Grace Capital City) Learn more about how we’re resourcing and partnering with low tree canopy neighborhoods in the DMV to provide free trees and elbow grease! \n\n\nGrace Capital City is working with EEN to increase tree coverage in low canopy areas of the DMV starting with houses of worship – trusted community centers within these neighborhoods- in an effort we call the Tree of Life Project. \nJoin GCC’s Justice Director Hannah Martha Cohen Banks from 7:00 PM – 8:00 PM for an online webinar where we’ll share about the Tree of Life Project and how to get involved!
URL:https://capitalnature.org/event/tree-of-life-project-virtual/
CATEGORIES:Climate,Seminars and Lectures,Trees
END:VEVENT
BEGIN:VEVENT
DTSTART;TZID=America/New_York:20260424T080000
DTEND;TZID=America/New_York:20260424T120000
DTSTAMP:20260424T161249
CREATED:20260412T015145Z
LAST-MODIFIED:20260412T015145Z
UID:10004300-1777017600-1777032000@capitalnature.org
SUMMARY:Community Tree Planting at Stanton Park
DESCRIPTION:(DC) (Casey Trees) In honor of America’s 250th anniversary\, we’re planting 250 trees across DC’s national parks with National Capital Parks-East\, a unit of the National Park Service. Join us to help plant and welcome 19 trees at the historic Stanton Park\, part of this milestone campaign made possible by generous donations. \nParticipants will receive hands-on training on-site. After learning the tools and techniques\, participants will be split up into groups supervised by a trained volunteer Team Leader and begin planting trees throughout the space.
URL:https://capitalnature.org/event/community-tree-planting-at-stanton-park/
LOCATION:Stanton Park\, 6th Street NE and 226 4th St NE\, Washington\, DC\, 20002\, United States
CATEGORIES:Conservation,Trees,Volunteering
GEO:38.8935454;-76.9999467
X-APPLE-STRUCTURED-LOCATION;VALUE=URI;X-ADDRESS=Stanton Park 6th Street NE and 226 4th St NE Washington DC 20002 United States;X-APPLE-RADIUS=500;X-TITLE=6th Street NE and 226 4th St NE:geo:-76.9999467,38.8935454
END:VEVENT
BEGIN:VEVENT
DTSTART;TZID=America/New_York:20260428T180000
DTEND;TZID=America/New_York:20260428T190000
DTSTAMP:20260424T161249
CREATED:20260419T212749Z
LAST-MODIFIED:20260419T213004Z
UID:10004341-1777399200-1777402800@capitalnature.org
SUMMARY:Meet Your Neighborhood Arborist
DESCRIPTION:(DC) (Capital Nature) Did you know that every neighborhood in the District has a city Arborist who manages its public trees? Join us for a discussion with Aaron Rowe\, the DC Arborist who looks out for the street and park trees in Cleveland Park and Woodley Park\, two of Northwest DC’s greenest neighborhoods. Aaron will give an overview of the city’s Urban Forestry Division and his work as a public Arborist\, then join Capital Nature’s co-founder Stella Tarnay for a discussion. We’ll talk about the health of the area’s trees\, how the city is protecting them\, the challenges they are facing\, and how residents can contribute to the health of our public canopy. \nThis is the first in a three-part series on trees and their care hosted by Cleveland Park Library in collaboration with Capital Nature.
URL:https://capitalnature.org/event/meet-your-neighborhood-arborist/
LOCATION:Cleveland Park Library\, 3310 Connecticut Ave. NW\, Washington\, 20008\, United States
CATEGORIES:Seminars and Lectures,Stewardship,Trees
GEO:38.9338544;-77.0579728
X-APPLE-STRUCTURED-LOCATION;VALUE=URI;X-ADDRESS=Cleveland Park Library 3310 Connecticut Ave. NW Washington 20008 United States;X-APPLE-RADIUS=500;X-TITLE=3310 Connecticut Ave. NW:geo:-77.0579728,38.9338544
END:VEVENT
BEGIN:VEVENT
DTSTART;TZID=America/New_York:20260501T093000
DTEND;TZID=America/New_York:20260501T123000
DTSTAMP:20260424T161249
CREATED:20260412T122029Z
LAST-MODIFIED:20260412T122029Z
UID:10004306-1777627800-1777638600@capitalnature.org
SUMMARY:Tree Walk at Theodore Roosevelt Island
DESCRIPTION:(DC) (Nature Forward) Usher in the merry month of May with a springtime nature stroll on the trails and boardwalk of DC’s Theodore Roosevelt Island with naturalist and author Melanie Choukas-Bradley. This springtime tree walk will take you deep into the island\, where swamp and tidal inlet can be explored by boardwalk as willow\, bald cypresses\, and cattails frame views of the city beyond it. In addition to sharing her knowledge and love of the island’s trees\, Melanie will share details of this National Park’s fascinating history.
URL:https://capitalnature.org/event/tree-walk-at-theodore-roosevelt-island/
LOCATION:Theodore Roosevelt Island\, Washington DC\, United States
CATEGORIES:Natural History,Nature Observation,Trees
ORGANIZER;CN="Nature Forward":MAILTO:contact@natureforward.org
END:VEVENT
BEGIN:VEVENT
DTSTART;TZID=America/New_York:20260502T100000
DTEND;TZID=America/New_York:20260502T130000
DTSTAMP:20260424T161249
CREATED:20260412T121541Z
LAST-MODIFIED:20260412T121541Z
UID:10004305-1777716000-1777726800@capitalnature.org
SUMMARY:Spring Tree Walk in Rock Creek Park
DESCRIPTION:(DC) (Casey Trees) Join us and nature book author Melanie Choukas-Bradley for a three-hour tree walk along scenic Rock Creek and through the upland woods of the Western Ridge Trail. Melanie will show you how to identify American hornbeam\, American elm\, river birch\, American sycamore\, boxelder\, black walnut and other stalwarts of the floodplain forest. She’ll then lead us into the upland woods where several species of oak\, including DC’s official tree\, the scarlet oak and a large spreading post oak\, mockernut and pignut hickories\, American beeches\, and sugar and red maples flourish.
URL:https://capitalnature.org/event/spring-tree-walk-in-rock-creek-park/
LOCATION:Peirce Mill\, 2401 Tilden St NW\, Washington DC\, 20008\, United States
CATEGORIES:Natural History,Nature Observation,Trees
END:VEVENT
BEGIN:VEVENT
DTSTART;TZID=America/New_York:20260528T190000
DTEND;TZID=America/New_York:20260528T200000
DTSTAMP:20260424T161249
CREATED:20260207T225612Z
LAST-MODIFIED:20260226T015831Z
UID:10004129-1779994800-1779998400@capitalnature.org
SUMMARY:What Trees Remember: Climate\, Water\, and Change (Virtual)
DESCRIPTION:(MD) (Natural History Society of Maryland) Trees are invaluable record-keepers of the past. Since their annual growth is intrinsically related to a combination of environmental factors\, tree ring data can be used like a Rosetta Stone. Dr. Karen King will demonstrate how her research in biogeography and climate change is informed by tree-ring data. We will focus on regional examples from western Maryland to learn what tree rings can tell us about temperature\, hydroclimate\, and ecological variability.
URL:https://capitalnature.org/event/what-trees-remember-climate-water-and-change-virtual/
CATEGORIES:Classes & Workshops,Natural History,Trees
END:VEVENT
BEGIN:VEVENT
DTSTART;TZID=America/New_York:20260529T093000
DTEND;TZID=America/New_York:20260529T123000
DTSTAMP:20260424T161249
CREATED:20260412T122506Z
LAST-MODIFIED:20260412T122506Z
UID:10004307-1780047000-1780057800@capitalnature.org
SUMMARY:Spring Forest Bathing and Tree Walk at Tregaron
DESCRIPTION:(DC) (Politics & Prose) Join Melanie Choukas-Bradley\, author of Wild Walking—A Guide to Forest Bathing Through the Seasons\, The Joy of Forest Bathing\, A Year in Rock Creek Park\, and several other nature books for a magical spring forest bathing walk through the enchanting Tregaron Conservancy\, a woodland garden tucked away in the midst of northwest Washington that has been restored and stewarded by a non-profit organization since 2006. We will meander under tall trees in autumn glory\, cross picturesque bridges over musical streams\, and climb stone steps through a century-old cultivated and wild woodland landscape reminiscent of “the secret garden.” \nShinrin-yoku\, or forest bathing\, began in the 1980s in Japan and it is rooted in the traditional Japanese reverence for nature. Forest bathing is a mindfulness practice akin to meditation\, yoga and tai chi that involves tuning in to the beauty and wonder of your natural surroundings with all of your senses.
URL:https://capitalnature.org/event/spring-forest-bathing-and-tree-walk-at-tregaron/
LOCATION:Tregaron Conservancy\, 3031 Klingle Road NW\, Washington\, DC\, 20008\, United States
CATEGORIES:Contemplative,Nature Observation,Trees
END:VEVENT
END:VCALENDAR