BEGIN:VCALENDAR
VERSION:2.0
PRODID:-//Capital Nature - ECPv6.15.20//NONSGML v1.0//EN
CALSCALE:GREGORIAN
METHOD:PUBLISH
X-WR-CALNAME:Capital Nature
X-ORIGINAL-URL:https://capitalnature.org
X-WR-CALDESC:Events for Capital Nature
REFRESH-INTERVAL;VALUE=DURATION:PT1H
X-Robots-Tag:noindex
X-PUBLISHED-TTL:PT1H
BEGIN:VTIMEZONE
TZID:America/New_York
BEGIN:DAYLIGHT
TZOFFSETFROM:-0500
TZOFFSETTO:-0400
TZNAME:EDT
DTSTART:20250309T070000
END:DAYLIGHT
BEGIN:STANDARD
TZOFFSETFROM:-0400
TZOFFSETTO:-0500
TZNAME:EST
DTSTART:20251102T060000
END:STANDARD
BEGIN:DAYLIGHT
TZOFFSETFROM:-0500
TZOFFSETTO:-0400
TZNAME:EDT
DTSTART:20260308T070000
END:DAYLIGHT
BEGIN:STANDARD
TZOFFSETFROM:-0400
TZOFFSETTO:-0500
TZNAME:EST
DTSTART:20261101T060000
END:STANDARD
BEGIN:DAYLIGHT
TZOFFSETFROM:-0500
TZOFFSETTO:-0400
TZNAME:EDT
DTSTART:20270314T070000
END:DAYLIGHT
BEGIN:STANDARD
TZOFFSETFROM:-0400
TZOFFSETTO:-0500
TZNAME:EST
DTSTART:20271107T060000
END:STANDARD
END:VTIMEZONE
BEGIN:VEVENT
DTSTART;TZID=America/New_York:20260324T180000
DTEND;TZID=America/New_York:20260324T190000
DTSTAMP:20260423T153918
CREATED:20260308T222508Z
LAST-MODIFIED:20260308T222508Z
UID:10004169-1774375200-1774378800@capitalnature.org
SUMMARY:Stream Team Leader Training (Virtual)
DESCRIPTION:(DC) (MD) (Rock Creek Conservancy) Please join Rock Creek Conservancy for a virtual training for our Stream Team Leader program. Stream Team Leaders are dedicated volunteers that work with the Conservancy to host their own trash cleanups and stormwater engagement events\, increasing stewardship actions within their communities and throughout Washington\, D.C. and Montgomery County\, MD. The training will take place on zoom. A link will be sent to all registered participants on the day of the training.
URL:https://capitalnature.org/event/stream-team-leader-training-virtual-5/
CATEGORIES:Classes & Workshops,Stewardship,Volunteering
END:VEVENT
BEGIN:VEVENT
DTSTART;TZID=America/New_York:20260328T090000
DTEND;TZID=America/New_York:20260328T110000
DTSTAMP:20260423T153918
CREATED:20260325T015008Z
LAST-MODIFIED:20260325T015008Z
UID:10004256-1774688400-1774695600@capitalnature.org
SUMMARY:Four Mile Run Litter Cleanup
DESCRIPTION:(VA) (Four Mile Run Conservancy) Join the Four Mile Run Conservancy to collect litter along the trails and stream banks at Lower Long Branch Creek.
URL:https://capitalnature.org/event/four-mile-run-litter-cleanup/
LOCATION:Troy Park\, 2629 South Troy Street\, Arlington\, VA\, 22206\, United States
CATEGORIES:Conservation,Stewardship,Volunteering
GEO:38.8448869;-77.0713766
X-APPLE-STRUCTURED-LOCATION;VALUE=URI;X-ADDRESS=Troy Park 2629 South Troy Street Arlington VA 22206 United States;X-APPLE-RADIUS=500;X-TITLE=2629 South Troy Street:geo:-77.0713766,38.8448869
END:VEVENT
BEGIN:VEVENT
DTSTART;TZID=America/New_York:20260328T100000
DTEND;TZID=America/New_York:20260328T120000
DTSTAMP:20260423T153918
CREATED:20260308T222639Z
LAST-MODIFIED:20260308T222639Z
UID:10004170-1774692000-1774699200@capitalnature.org
SUMMARY:Invasive Plant Removal at 630 West
DESCRIPTION:(DC) (Rock Creek Conservancy) Join Rock Creek Conservancy and the National Park Service for this invasive plant removal restoration event in Rock Creek Park. Invasive plants are a major threat to our fragile forests\, and stopping their spread helps allow native plants to thrive in the understory. Event location\, directions\, and information will be sent from the event leader 48 hours prior to the event.
URL:https://capitalnature.org/event/invasive-plant-removal-at-630-west-10/
LOCATION:Reservation 630 West\, 3031 Sedgwick Street Northwest\, Washington\, DC\, 20008\, United States
CATEGORIES:Conservation,Stewardship,Volunteering
END:VEVENT
BEGIN:VEVENT
DTSTART;TZID=America/New_York:20260328T100000
DTEND;TZID=America/New_York:20260328T120000
DTSTAMP:20260423T153918
CREATED:20260323T145153Z
LAST-MODIFIED:20260323T145153Z
UID:10004199-1774692000-1774699200@capitalnature.org
SUMMARY:B.A.R.K. Rangers at Rock Creek Park
DESCRIPTION:(DC) (National Park Service) Calling all dog owners! If you enjoy adventuring in Rock Creek Park with your furry friend\, consider coming to one of our B.A.R.K. Ranger events! This is a national initiative to encourage responsible recreation and a positive experience for you\, your dog\, and all visitors to the park.  Learn about the principles of being a B.A.R.K. Ranger and earn a B.A.R.K. Ranger badge!
URL:https://capitalnature.org/event/b-a-r-k-rangers-at-rock-creek-park/
LOCATION:Rock Creek Nature Center\, 5200 Glover Rd NW\, Washington\, 20015\, United States
CATEGORIES:Animals,Parks,Stewardship
GEO:38.9599553;-77.0516936
X-APPLE-STRUCTURED-LOCATION;VALUE=URI;X-ADDRESS=Rock Creek Nature Center 5200 Glover Rd NW Washington 20015 United States;X-APPLE-RADIUS=500;X-TITLE=5200 Glover Rd NW:geo:-77.0516936,38.9599553
END:VEVENT
BEGIN:VEVENT
DTSTART;TZID=America/New_York:20260328T100000
DTEND;TZID=America/New_York:20260328T120000
DTSTAMP:20260423T153918
CREATED:20260324T232653Z
LAST-MODIFIED:20260324T232653Z
UID:10004229-1774692000-1774699200@capitalnature.org
SUMMARY:Weed Warrior Workday at Sligo Creek
DESCRIPTION:(MD) (Montgomery Parks) Join Weed Warrior Supervisor Alexander for a non-native\, invasive plant removal workday at Bullis Local Park in Silver Spring. We will focus on non-native\, invasive vines\, including porcelainberry (Ampelopsis glandulosa var. brevipedunculata)\, wintercreeper (Euonymus fortunei)\, and English ivy (Hedera helix). Native Virginia creeper and poison ivy are also present and beneficial\, so we will avoid those. \nMore details\, including the exact meeting location\, will be emailed to all pre-registrants. \n 
URL:https://capitalnature.org/event/weed-warrior-workday-at-sligo-creek/
LOCATION:Sligo Creek Stream Valley Park\, Silver Spring\, MD\, 20901\, United States
CATEGORIES:Conservation,Stewardship,Volunteering
END:VEVENT
BEGIN:VEVENT
DTSTART;TZID=America/New_York:20260328T100000
DTEND;TZID=America/New_York:20260328T120000
DTSTAMP:20260423T153918
CREATED:20260324T233025Z
LAST-MODIFIED:20260324T233025Z
UID:10004230-1774692000-1774699200@capitalnature.org
SUMMARY:Weed Warrior Workday on the Capital Crescent Trail
DESCRIPTION:(MD) (Montgomery Parks) Join Weed Warrior Supervisor Sarah for a non-native\, invasive plant removal workday on the Capital Crescent Trail at Dorset Avenue in Chevy Chase\, MD. Meet on the CCT where it intersects with Dorset Avenue in Chevy Chase (on the downhill side of the trail at Dorset). \nClick here for more information on the Little Falls Watershed Alliance’s (LFWA) website.  \n 
URL:https://capitalnature.org/event/weed-warrior-workday-on-the-capital-crescent-trail-2/
CATEGORIES:Conservation,Stewardship,Volunteering
END:VEVENT
BEGIN:VEVENT
DTSTART;TZID=America/New_York:20260328T100000
DTEND;TZID=America/New_York:20260328T130000
DTSTAMP:20260423T153918
CREATED:20260323T205121Z
LAST-MODIFIED:20260323T205121Z
UID:10004208-1774692000-1774702800@capitalnature.org
SUMMARY:Invasive Vine Removal and Bike Ride
DESCRIPTION:(DC) (Casey Trees) Join the DC Trail Rangers and the Chesapeake Climate Action Network for Bicyclists Against Invasive Vines event series. On the fourth Saturday of each month we meet up at the Fields at RFK lot 6 at 10am for an ecological ride on the trail. We will be clearing invasive vines from our trees and trail corridors while exploring topics such as plant identification\, invasive plant management and local wetland ecology. \n\n\n 
URL:https://capitalnature.org/event/invasive-vine-removal-and-bike-ride/
LOCATION:Kingman Island _RFK Lot 6\, United States
CATEGORIES:Outdoor Experience,Stewardship,Volunteering
END:VEVENT
BEGIN:VEVENT
DTSTART;TZID=America/New_York:20260328T103000
DTEND;TZID=America/New_York:20260328T123000
DTSTAMP:20260423T153918
CREATED:20260323T150424Z
LAST-MODIFIED:20260323T150424Z
UID:10004203-1774693800-1774701000@capitalnature.org
SUMMARY:Wild Rice Seeding at Kingman
DESCRIPTION:(DC) (Anacostia Watershed Society) Join AWS to propagate wild rice (Zizania aquatica) seeds through mudballing (seeding) in wetlands at Kingman & Heritage Islands Park. We will mix the wild rice seeds in mud and toss our wild rice mudballs into exposed mudflats to encourage plant growth.
URL:https://capitalnature.org/event/wild-rice-seeding-at-kingman/
LOCATION:Kingman Island _RFK Lot 6\, United States
CATEGORIES:Plants,Stewardship,Volunteering
END:VEVENT
END:VCALENDAR