BEGIN:VCALENDAR
VERSION:2.0
PRODID:-//Capital Nature - ECPv6.15.20//NONSGML v1.0//EN
CALSCALE:GREGORIAN
METHOD:PUBLISH
X-WR-CALNAME:Capital Nature
X-ORIGINAL-URL:https://capitalnature.org
X-WR-CALDESC:Events for Capital Nature
REFRESH-INTERVAL;VALUE=DURATION:PT1H
X-Robots-Tag:noindex
X-PUBLISHED-TTL:PT1H
BEGIN:VTIMEZONE
TZID:America/New_York
BEGIN:DAYLIGHT
TZOFFSETFROM:-0500
TZOFFSETTO:-0400
TZNAME:EDT
DTSTART:20250309T070000
END:DAYLIGHT
BEGIN:STANDARD
TZOFFSETFROM:-0400
TZOFFSETTO:-0500
TZNAME:EST
DTSTART:20251102T060000
END:STANDARD
BEGIN:DAYLIGHT
TZOFFSETFROM:-0500
TZOFFSETTO:-0400
TZNAME:EDT
DTSTART:20260308T070000
END:DAYLIGHT
BEGIN:STANDARD
TZOFFSETFROM:-0400
TZOFFSETTO:-0500
TZNAME:EST
DTSTART:20261101T060000
END:STANDARD
BEGIN:DAYLIGHT
TZOFFSETFROM:-0500
TZOFFSETTO:-0400
TZNAME:EDT
DTSTART:20270314T070000
END:DAYLIGHT
BEGIN:STANDARD
TZOFFSETFROM:-0400
TZOFFSETTO:-0500
TZNAME:EST
DTSTART:20271107T060000
END:STANDARD
END:VTIMEZONE
BEGIN:VEVENT
DTSTART;TZID=America/New_York:20260315T100000
DTEND;TZID=America/New_York:20260315T120000
DTSTAMP:20260423T172746
CREATED:20260308T221154Z
LAST-MODIFIED:20260308T221154Z
UID:10004164-1773568800-1773576000@capitalnature.org
SUMMARY:Invasive Plant Removal at 630 West
DESCRIPTION:(DC) (Rock Creek Conservancy) Join Rock Creek Conservancy\, the National Park Service\, and Weed Warrior Leader Kathy Sykes for this invasive plant removal restoration event in Rock Creek Park. Invasive plants are a major threat to our fragile forests\, and stopping their spread helps allow native plants to thrive in the understory. Event location\, directions\, and information will be sent from the event leader 48 hours prior to the event.
URL:https://capitalnature.org/event/invasive-plant-removal-at-630-west-9/
LOCATION:Reservation 630 West\, 3031 Sedgwick Street Northwest\, Washington\, DC\, 20008\, United States
CATEGORIES:Conservation,Stewardship,Volunteering
END:VEVENT
BEGIN:VEVENT
DTSTART;TZID=America/New_York:20260320T100000
DTEND;TZID=America/New_York:20260320T120000
DTSTAMP:20260423T172746
CREATED:20260308T221738Z
LAST-MODIFIED:20260308T221738Z
UID:10004166-1774000800-1774008000@capitalnature.org
SUMMARY:Invasive Plant Removal at Picnic Grove 6
DESCRIPTION:(DC) (Rock Creek Conservancy) Help the National Capital Region Invasive Plant Management Team and Rock Creek Park remove invasive species at Picnic Grove 6! We will remove invasive Lonicera japonica (vine honeysuckle)\, Ampelopsis brevipedunculata (porcelain berry)\, Rubus phoniculaceous (wineberry)\, and other invasive shrubs and vines. Our goal is to remove these plants to make room for native flora and fauna in this area.
URL:https://capitalnature.org/event/invasive-plant-removal-at-picnic-grove-6/
CATEGORIES:Conservation,Stewardship,Volunteering
END:VEVENT
BEGIN:VEVENT
DTSTART;TZID=America/New_York:20260320T143000
DTEND;TZID=America/New_York:20260320T163000
DTSTAMP:20260423T172746
CREATED:20260308T232504Z
LAST-MODIFIED:20260308T232504Z
UID:10004186-1774017000-1774024200@capitalnature.org
SUMMARY:Invasive Vine Removal at Catholic U
DESCRIPTION:(DC) (Casey Trees) Join Meredith from CCAN to remove Invasive Vines at Catholic University. We will spend the first 30 minutes doing a brief training on invasive vines and best practices for removal\, and spend about 2 hours removing vines from the trees. We will focus on non-native invasive vines including porcelainberry (Ampelopsis glandulosa var. brevipedunculata) and English ivy (Hedera helix).
URL:https://capitalnature.org/event/invasive-vine-removal-at-catholic-u-2/
LOCATION:Catholic Univeristy\, 620 Michigan Ave NE\, Washington\, DC\, 20064\, United States
CATEGORIES:Conservation,Stewardship,Volunteering
GEO:38.9326924;-76.9979848
X-APPLE-STRUCTURED-LOCATION;VALUE=URI;X-ADDRESS=Catholic Univeristy 620 Michigan Ave NE Washington DC 20064 United States;X-APPLE-RADIUS=500;X-TITLE=620 Michigan Ave NE:geo:-76.9979848,38.9326924
END:VEVENT
END:VCALENDAR