BEGIN:VCALENDAR
VERSION:2.0
PRODID:-//Capital Nature - ECPv6.15.20//NONSGML v1.0//EN
CALSCALE:GREGORIAN
METHOD:PUBLISH
X-ORIGINAL-URL:https://capitalnature.org
X-WR-CALDESC:Events for Capital Nature
REFRESH-INTERVAL;VALUE=DURATION:PT1H
X-Robots-Tag:noindex
X-PUBLISHED-TTL:PT1H
BEGIN:VTIMEZONE
TZID:America/New_York
BEGIN:DAYLIGHT
TZOFFSETFROM:-0500
TZOFFSETTO:-0400
TZNAME:EDT
DTSTART:20250309T070000
END:DAYLIGHT
BEGIN:STANDARD
TZOFFSETFROM:-0400
TZOFFSETTO:-0500
TZNAME:EST
DTSTART:20251102T060000
END:STANDARD
BEGIN:DAYLIGHT
TZOFFSETFROM:-0500
TZOFFSETTO:-0400
TZNAME:EDT
DTSTART:20260308T070000
END:DAYLIGHT
BEGIN:STANDARD
TZOFFSETFROM:-0400
TZOFFSETTO:-0500
TZNAME:EST
DTSTART:20261101T060000
END:STANDARD
BEGIN:DAYLIGHT
TZOFFSETFROM:-0500
TZOFFSETTO:-0400
TZNAME:EDT
DTSTART:20270314T070000
END:DAYLIGHT
BEGIN:STANDARD
TZOFFSETFROM:-0400
TZOFFSETTO:-0500
TZNAME:EST
DTSTART:20271107T060000
END:STANDARD
END:VTIMEZONE
BEGIN:VEVENT
DTSTART;TZID=America/New_York:20260415T090000
DTEND;TZID=America/New_York:20260415T120000
DTSTAMP:20260423T122526
CREATED:20260412T013349Z
LAST-MODIFIED:20260412T013349Z
UID:10004294-1776243600-1776254400@capitalnature.org
SUMMARY:Invasive Vine Removal at Publick Playhouse
DESCRIPTION:(MD) (Casey Trees) Join Meredith from CCAN and Community Native Planting Project to remove invasive vines and transform a two-acre site next to Publick Playhouse into a welcoming natural area. We will start with a brief training on invasive species and best practices for removal\, and spend about two hours removing invasives.
URL:https://capitalnature.org/event/invasive-vine-removal-at-publick-playhouse/
LOCATION:Publick Playhouse\, 5445 Landover Rd\, Hyattsville\, 20784\, United States
CATEGORIES:Activism,Stewardship,Volunteering
GEO:38.9380386;-76.9246582
X-APPLE-STRUCTURED-LOCATION;VALUE=URI;X-ADDRESS=Publick Playhouse 5445 Landover Rd Hyattsville 20784 United States;X-APPLE-RADIUS=500;X-TITLE=5445 Landover Rd:geo:-76.9246582,38.9380386
END:VEVENT
END:VCALENDAR