BEGIN:VCALENDAR
VERSION:2.0
PRODID:-//Capital Nature - ECPv6.15.20//NONSGML v1.0//EN
CALSCALE:GREGORIAN
METHOD:PUBLISH
X-WR-CALNAME:Capital Nature
X-ORIGINAL-URL:https://capitalnature.org
X-WR-CALDESC:Events for Capital Nature
REFRESH-INTERVAL;VALUE=DURATION:PT1H
X-Robots-Tag:noindex
X-PUBLISHED-TTL:PT1H
BEGIN:VTIMEZONE
TZID:America/New_York
BEGIN:DAYLIGHT
TZOFFSETFROM:-0500
TZOFFSETTO:-0400
TZNAME:EDT
DTSTART:20250309T070000
END:DAYLIGHT
BEGIN:STANDARD
TZOFFSETFROM:-0400
TZOFFSETTO:-0500
TZNAME:EST
DTSTART:20251102T060000
END:STANDARD
BEGIN:DAYLIGHT
TZOFFSETFROM:-0500
TZOFFSETTO:-0400
TZNAME:EDT
DTSTART:20260308T070000
END:DAYLIGHT
BEGIN:STANDARD
TZOFFSETFROM:-0400
TZOFFSETTO:-0500
TZNAME:EST
DTSTART:20261101T060000
END:STANDARD
BEGIN:DAYLIGHT
TZOFFSETFROM:-0500
TZOFFSETTO:-0400
TZNAME:EDT
DTSTART:20270314T070000
END:DAYLIGHT
BEGIN:STANDARD
TZOFFSETFROM:-0400
TZOFFSETTO:-0500
TZNAME:EST
DTSTART:20271107T060000
END:STANDARD
END:VTIMEZONE
BEGIN:VEVENT
DTSTART;TZID=America/New_York:20260121T190000
DTEND;TZID=America/New_York:20260121T200000
DTSTAMP:20260423T171338
CREATED:20260110T230046Z
LAST-MODIFIED:20260117T022214Z
UID:10003922-1769022000-1769025600@capitalnature.org
SUMMARY:Intergenerational Care for the Land (Virtual)
DESCRIPTION:(US) (Wild Ones) Robin Wall Kimmerer\, author\, botanist\, and founder of Plant Baby Plant\, and Esther Bonney\, youth organizer and founder of Nurture Natives will draw on their work in education\, storytelling\, and youth leadership in “Intergenerational Care for Land and Community“ to explore how people of all ages can take part in the native plant movement through shared learning\, relationships\, and local action.
URL:https://capitalnature.org/event/conversation-with-robin-wall-kimmerer-virtual/
CATEGORIES:Conservation,Plants,Stewardship
END:VEVENT
END:VCALENDAR