BEGIN:VCALENDAR
VERSION:2.0
PRODID:-//Capital Nature - ECPv6.15.20//NONSGML v1.0//EN
CALSCALE:GREGORIAN
METHOD:PUBLISH
X-WR-CALNAME:Capital Nature
X-ORIGINAL-URL:https://capitalnature.org
X-WR-CALDESC:Events for Capital Nature
REFRESH-INTERVAL;VALUE=DURATION:PT1H
X-Robots-Tag:noindex
X-PUBLISHED-TTL:PT1H
BEGIN:VTIMEZONE
TZID:America/New_York
BEGIN:DAYLIGHT
TZOFFSETFROM:-0500
TZOFFSETTO:-0400
TZNAME:EDT
DTSTART:20250309T070000
END:DAYLIGHT
BEGIN:STANDARD
TZOFFSETFROM:-0400
TZOFFSETTO:-0500
TZNAME:EST
DTSTART:20251102T060000
END:STANDARD
BEGIN:DAYLIGHT
TZOFFSETFROM:-0500
TZOFFSETTO:-0400
TZNAME:EDT
DTSTART:20260308T070000
END:DAYLIGHT
BEGIN:STANDARD
TZOFFSETFROM:-0400
TZOFFSETTO:-0500
TZNAME:EST
DTSTART:20261101T060000
END:STANDARD
BEGIN:DAYLIGHT
TZOFFSETFROM:-0500
TZOFFSETTO:-0400
TZNAME:EDT
DTSTART:20270314T070000
END:DAYLIGHT
BEGIN:STANDARD
TZOFFSETFROM:-0400
TZOFFSETTO:-0500
TZNAME:EST
DTSTART:20271107T060000
END:STANDARD
END:VTIMEZONE
BEGIN:VEVENT
DTSTART;TZID=America/New_York:20260201T180000
DTEND;TZID=America/New_York:20260201T203000
DTSTAMP:20260424T111830
CREATED:20260114T215600Z
LAST-MODIFIED:20260114T215600Z
UID:10004040-1769968800-1769977800@capitalnature.org
SUMMARY:Full Moon Nature Hike and Campfire
DESCRIPTION:(VA) (Fairfax County Parks) Enjoy nature’s tranquil beauty and the night sky under a full moon. Your naturalist guide points out signs of creatures that glide\, fly and tiptoe through the woods in the dark. Enjoy a campfire after the hike with s’mores provided. Ages 6 to Adult.
URL:https://capitalnature.org/event/full-moon-nature-hike-and-campfire-2/
LOCATION:Riverbend Park\, 8700 Potomac Hills St\, Great Falls\, VA\, 22066\, United States
CATEGORIES:Hike,Nature Observation,Social & Cultural
END:VEVENT
BEGIN:VEVENT
DTSTART;TZID=America/New_York:20260206T173000
DTEND;TZID=America/New_York:20260206T190000
DTSTAMP:20260424T111830
CREATED:20260114T032924Z
LAST-MODIFIED:20260114T032924Z
UID:10004026-1770399000-1770404400@capitalnature.org
SUMMARY:Full Moon Friday
DESCRIPTION:(MD) (Montgomery Parks) Join us for the magic of the full moon for a hike and campfire on each Friday nearest to the full moon. Feel free to bring your own hotdogs to warm over the fire and we’ll provide marshmallows. The program will be mainly outdoors with a hiking component. All hikes will be on natural surface trails.
URL:https://capitalnature.org/event/full-moon-friday/
LOCATION:Locust Grove Nature Center\, 7777 Democracy Blvd\, Bethesda\, MD\, 20817\, United States
CATEGORIES:Astronomy,Outdoor Experience,Social & Cultural
END:VEVENT
BEGIN:VEVENT
DTSTART;TZID=America/New_York:20260207T140000
DTEND;TZID=America/New_York:20260207T150000
DTSTAMP:20260424T111830
CREATED:20260114T225432Z
LAST-MODIFIED:20260118T013420Z
UID:10004054-1770472800-1770476400@capitalnature.org
SUMMARY:Won't You be My Owlentine?
DESCRIPTION:(VA) (NOVA Parks) Love is in the air… and literally for these beautiful birds of prey! See live raptors\, learn about their mating habits during breeding season\, and have your picture taken with a live bird of prey. Age 6+.
URL:https://capitalnature.org/event/wont-you-be-my-owletine/
LOCATION:Potomac Overlook Regional Park\, 2845 N. Marcey Road\, Arlington\, VA\, 22207\, United States
CATEGORIES:Birds,Classes & Workshops,Social & Cultural
END:VEVENT
BEGIN:VEVENT
DTSTART;TZID=America/New_York:20260208T090000
DTEND;TZID=America/New_York:20260208T120000
DTSTAMP:20260424T111830
CREATED:20260111T221755Z
LAST-MODIFIED:20260111T222218Z
UID:10003954-1770541200-1770552000@capitalnature.org
SUMMARY:RunJuneteenth Winter Trail Series: Difficult Run
DESCRIPTION:(VA) (RunJuneteenth) The Winter Trail Series is an annual event comprised of a rotating set of trail-running meetups held throughout the DC–Maryland–Virginia region. Powered by REI Co-op\, the weekly trail runs will feature trail-shoe demos from several top brands–giving participants the opportunity to test gear directly on different local trails\, while also offering a mix of terrain\, elevation\, and mileage options to keep runners challenged and engaged. \nWe’ll meet at REI Fairfax.
URL:https://capitalnature.org/event/runjuneteenth-winter-trail-series-difficult-run/
LOCATION:Fairfax REI\, 11950 Grand Commons Ave\, Fairfax\, VA\, 22030\, United States
CATEGORIES:Fitness,Outdoor Experience,Social & Cultural
END:VEVENT
BEGIN:VEVENT
DTSTART;TZID=America/New_York:20260215T090000
DTEND;TZID=America/New_York:20260215T120000
DTSTAMP:20260424T111830
CREATED:20260111T222110Z
LAST-MODIFIED:20260111T222110Z
UID:10003955-1771146000-1771156800@capitalnature.org
SUMMARY:RunJuneteenth Winter Trail Series: Greenbelt Park
DESCRIPTION:(MD) (RunJuneteenth) The Winter Trail Series is an annual event comprised of a rotating set of trail-running meetups held throughout the DC–Maryland–Virginia region. Powered by REI Co-op\, the weekly trail runs will feature trail-shoe demos from several top brands–giving participants the opportunity to test gear directly on different local trails\, while also offering a mix of terrain\, elevation\, and mileage options to keep runners challenged and engaged. \nWe’ll meet at REI DC.
URL:https://capitalnature.org/event/runjuneteenth-winter-trail-series-greenbelt-park/
LOCATION:Washington DC REI\, 201 M Street NE\, Washington DC\, 20002\, United States
CATEGORIES:Fitness,Outdoor Experience,Social & Cultural
END:VEVENT
BEGIN:VEVENT
DTSTART;TZID=America/New_York:20260221T100000
DTEND;TZID=America/New_York:20260221T130000
DTSTAMP:20260424T111830
CREATED:20260206T033818Z
LAST-MODIFIED:20260206T033818Z
UID:10004108-1771668000-1771678800@capitalnature.org
SUMMARY:Lunar New Year Festival
DESCRIPTION:(DC) (Smithsonian) Gallop into 2026\, the year of the horse\, and celebrate Lunar New Year with us! This year we’re hosting a festival and market pop-up at the nearby Smithsonian Arts + Industries Building (AIB). Experience cultural performances\, lion dances\, food\, makers\, and more! Plus\, enjoy curator talks and tours at the museum throughout the day.
URL:https://capitalnature.org/event/lunar-new-year-festival/
LOCATION:National Museum of Asian Art\, 1050 Independence Ave. SW\, Washington\, DC\, 20560\, United States
CATEGORIES:Animals,Holiday,Social & Cultural
GEO:38.887983;-77.0264455
X-APPLE-STRUCTURED-LOCATION;VALUE=URI;X-ADDRESS=National Museum of Asian Art 1050 Independence Ave. SW Washington DC 20560 United States;X-APPLE-RADIUS=500;X-TITLE=1050 Independence Ave. SW:geo:-77.0264455,38.887983
END:VEVENT
END:VCALENDAR