BEGIN:VCALENDAR
VERSION:2.0
PRODID:-//Capital Nature - ECPv6.15.20//NONSGML v1.0//EN
CALSCALE:GREGORIAN
METHOD:PUBLISH
X-ORIGINAL-URL:https://capitalnature.org
X-WR-CALDESC:Events for Capital Nature
REFRESH-INTERVAL;VALUE=DURATION:PT1H
X-Robots-Tag:noindex
X-PUBLISHED-TTL:PT1H
BEGIN:VTIMEZONE
TZID:America/New_York
BEGIN:DAYLIGHT
TZOFFSETFROM:-0500
TZOFFSETTO:-0400
TZNAME:EDT
DTSTART:20250309T070000
END:DAYLIGHT
BEGIN:STANDARD
TZOFFSETFROM:-0400
TZOFFSETTO:-0500
TZNAME:EST
DTSTART:20251102T060000
END:STANDARD
BEGIN:DAYLIGHT
TZOFFSETFROM:-0500
TZOFFSETTO:-0400
TZNAME:EDT
DTSTART:20260308T070000
END:DAYLIGHT
BEGIN:STANDARD
TZOFFSETFROM:-0400
TZOFFSETTO:-0500
TZNAME:EST
DTSTART:20261101T060000
END:STANDARD
BEGIN:DAYLIGHT
TZOFFSETFROM:-0500
TZOFFSETTO:-0400
TZNAME:EDT
DTSTART:20270314T070000
END:DAYLIGHT
BEGIN:STANDARD
TZOFFSETFROM:-0400
TZOFFSETTO:-0500
TZNAME:EST
DTSTART:20271107T060000
END:STANDARD
END:VTIMEZONE
BEGIN:VEVENT
DTSTART;TZID=America/New_York:20260329T120000
DTEND;TZID=America/New_York:20260329T150000
DTSTAMP:20260424T150747
CREATED:20260323T144342Z
LAST-MODIFIED:20260323T144342Z
UID:10004197-1774785600-1774796400@capitalnature.org
SUMMARY:Oxon Run Pinknic & Kite Fly
DESCRIPTION:(DC) (Friends of Oxon Run) Soar into spring at the Oxon Run Pinknic & Kite Fly on March 29\, 2026\, at Oxon Run Park in Ward 8! Enjoy a day of kites\, culture\, exciting activities\, and community crafts for all ages. Explore the Ward 8 vendor market\, connect with neighbors\, and experience the joy of spring in a vibrant and welcoming atmosphere. Stay tuned for even more activities coming soon—don’t miss this unforgettable celebration!
URL:https://capitalnature.org/event/oxon-run-pinknic-kite-fly/
LOCATION:Oxon Run Park\, 1200 Mississippi Ave SE\, Washington DC\, 20032\, United States
CATEGORIES:Family,Social and Cultural
ORGANIZER;CN="Friends of Oxon Run":MAILTO:brendarichardson724@gmail.com
GEO:38.8397177;-76.9900006
X-APPLE-STRUCTURED-LOCATION;VALUE=URI;X-ADDRESS=Oxon Run Park 1200 Mississippi Ave SE Washington DC 20032 United States;X-APPLE-RADIUS=500;X-TITLE=1200 Mississippi Ave SE:geo:-76.9900006,38.8397177
END:VEVENT
BEGIN:VEVENT
DTSTART;TZID=America/New_York:20260411T110000
DTEND;TZID=America/New_York:20260411T133000
DTSTAMP:20260424T150747
CREATED:20260323T144617Z
LAST-MODIFIED:20260323T144617Z
UID:10004198-1775905200-1775914200@capitalnature.org
SUMMARY:Cherry Blossom Festival Parade
DESCRIPTION:(DC) (National Cherry Blossom Festival) One of DC’s largest spectator events\, the energy-filled National Cherry Blossom Festival Parade® presented by Events DC runs for 10 blocks along iconic Constitution Avenue. Giant colorful helium balloons\, elaborate floats\, marching bands from across the country\, celebrity entertainers\, and performers burst down the Parade route in a grand spectacle of music and showmanship seen only once a year during the Festival.
URL:https://capitalnature.org/event/cherry-blossom-festival-parade/
LOCATION:VA
CATEGORIES:Social and Cultural
ORGANIZER;CN="National Cherry Blossom Festival":MAILTO:ncbf@ncbfdc.org
END:VEVENT
BEGIN:VEVENT
DTSTART;TZID=America/New_York:20260411T110000
DTEND;TZID=America/New_York:20260411T150000
DTSTAMP:20260424T150747
CREATED:20260323T150719Z
LAST-MODIFIED:20260323T150719Z
UID:10004204-1775905200-1775919600@capitalnature.org
SUMMARY:Seed Swap Festival
DESCRIPTION:(MD) (Anacostia Watershed Society) Join M-NCPPC\, Department of Parks and Recreation\, Prince George’s County\, Anacostia Watershed Society\, & Mount Rainier Public Library to celebrate a belated National Seed Swap Day. Exchange seeds with your neighbors and meet local organizations as you prepare for spring and diversify your garden!
URL:https://capitalnature.org/event/seed-swap-festival/
LOCATION:Mount Rainier Nature Center\, 4701 31st Pl\, Mount Rainier\, MD\, 20712\, United States
CATEGORIES:Conservation,Plants,Social and Cultural
GEO:38.9481492;-76.9650431
X-APPLE-STRUCTURED-LOCATION;VALUE=URI;X-ADDRESS=Mount Rainier Nature Center 4701 31st Pl Mount Rainier MD 20712 United States;X-APPLE-RADIUS=500;X-TITLE=4701 31st Pl:geo:-76.9650431,38.9481492
END:VEVENT
END:VCALENDAR