BEGIN:VCALENDAR
VERSION:2.0
PRODID:-//Capital Nature - ECPv6.15.20//NONSGML v1.0//EN
CALSCALE:GREGORIAN
METHOD:PUBLISH
X-ORIGINAL-URL:https://capitalnature.org
X-WR-CALDESC:Events for Capital Nature
REFRESH-INTERVAL;VALUE=DURATION:PT1H
X-Robots-Tag:noindex
X-PUBLISHED-TTL:PT1H
BEGIN:VTIMEZONE
TZID:America/New_York
BEGIN:DAYLIGHT
TZOFFSETFROM:-0500
TZOFFSETTO:-0400
TZNAME:EDT
DTSTART:20250309T070000
END:DAYLIGHT
BEGIN:STANDARD
TZOFFSETFROM:-0400
TZOFFSETTO:-0500
TZNAME:EST
DTSTART:20251102T060000
END:STANDARD
BEGIN:DAYLIGHT
TZOFFSETFROM:-0500
TZOFFSETTO:-0400
TZNAME:EDT
DTSTART:20260308T070000
END:DAYLIGHT
BEGIN:STANDARD
TZOFFSETFROM:-0400
TZOFFSETTO:-0500
TZNAME:EST
DTSTART:20261101T060000
END:STANDARD
BEGIN:DAYLIGHT
TZOFFSETFROM:-0500
TZOFFSETTO:-0400
TZNAME:EDT
DTSTART:20270314T070000
END:DAYLIGHT
BEGIN:STANDARD
TZOFFSETFROM:-0400
TZOFFSETTO:-0500
TZNAME:EST
DTSTART:20271107T060000
END:STANDARD
END:VTIMEZONE
BEGIN:VEVENT
DTSTART;TZID=America/New_York:20260426T140000
DTEND;TZID=America/New_York:20260426T150000
DTSTAMP:20260424T124309
CREATED:20260422T124531Z
LAST-MODIFIED:20260422T124531Z
UID:10004344-1777212000-1777215600@capitalnature.org
SUMMARY:Native Plant Walk at Meadowlark
DESCRIPTION:(VA) (NOVA Parks) Experience the beauty of spring woodlands on a guided walk through Meadowlark Botanical Gardens’ Potomac Valley Collection! Led by Keith Tomlinson\, former Garden Manager who developed and curated Meadowlark’s native plant collection\, this walk offers a unique opportunity to explore the region’s rich botanical diversity. \nWith 45 years of experience in botanical gardens\, museums\, environmental education\, and plant conservation\, Keith brings a wealth of knowledge and insight to this immersive tour. His expertise and passion for native plants will deepen your appreciation for the beauty and ecological importance of our local flora and fauna\, information that will be helpful to those who are interested in adding native plants to their own yards.
URL:https://capitalnature.org/event/native-plant-walk-at-meadowlark/
LOCATION:Meadowlark Botanical Gardens\, 9750 Meadowlark Gardens\, Vienna\, VA\, 22182\, United States
CATEGORIES:Nature Observation,Outdoor Experience,Plants
END:VEVENT
END:VCALENDAR