BEGIN:VCALENDAR
VERSION:2.0
PRODID:-//Capital Nature - ECPv6.15.20//NONSGML v1.0//EN
CALSCALE:GREGORIAN
METHOD:PUBLISH
X-ORIGINAL-URL:https://capitalnature.org
X-WR-CALDESC:Events for Capital Nature
REFRESH-INTERVAL;VALUE=DURATION:PT1H
X-Robots-Tag:noindex
X-PUBLISHED-TTL:PT1H
BEGIN:VTIMEZONE
TZID:America/New_York
BEGIN:DAYLIGHT
TZOFFSETFROM:-0500
TZOFFSETTO:-0400
TZNAME:EDT
DTSTART:20250309T070000
END:DAYLIGHT
BEGIN:STANDARD
TZOFFSETFROM:-0400
TZOFFSETTO:-0500
TZNAME:EST
DTSTART:20251102T060000
END:STANDARD
BEGIN:DAYLIGHT
TZOFFSETFROM:-0500
TZOFFSETTO:-0400
TZNAME:EDT
DTSTART:20260308T070000
END:DAYLIGHT
BEGIN:STANDARD
TZOFFSETFROM:-0400
TZOFFSETTO:-0500
TZNAME:EST
DTSTART:20261101T060000
END:STANDARD
BEGIN:DAYLIGHT
TZOFFSETFROM:-0500
TZOFFSETTO:-0400
TZNAME:EDT
DTSTART:20270314T070000
END:DAYLIGHT
BEGIN:STANDARD
TZOFFSETFROM:-0400
TZOFFSETTO:-0500
TZNAME:EST
DTSTART:20271107T060000
END:STANDARD
END:VTIMEZONE
BEGIN:VEVENT
DTSTART;TZID=America/New_York:20260418T140000
DTEND;TZID=America/New_York:20260418T160000
DTSTAMP:20260424T124205
CREATED:20260412T013853Z
LAST-MODIFIED:20260412T013853Z
UID:10004296-1776520800-1776528000@capitalnature.org
SUMMARY:Earth Day Film & Nature Walk
DESCRIPTION:(DC) (Casey Trees) Come celebrate and experience Langdon Park Forest Patch\, a 2.2-acre woodland that’s as rich in story as it is in biodiversity. The program will feature a presentation\, a film\, and a walk through the forest patch. Once overrun by invasive vines\, this urban forest is now being brought back to health through the efforts of Langdon Park Forest Stewards\, Casey Trees\, community volunteers\, and city agencies. \nThis program is free and open to the public. No registration needed! \nLearn more about the Langdon Park Forest Stewards at caseytrees.org/langdon.
URL:https://capitalnature.org/event/earth-day-film-nature-walk/
LOCATION:Langdon Park Recreation Center\, 2901 20th St NE\, Washington DC\, 20018\, United States
CATEGORIES:Film,Nature Observation,Parks
END:VEVENT
BEGIN:VEVENT
DTSTART;TZID=America/New_York:20260328T100000
DTEND;TZID=America/New_York:20260328T120000
DTSTAMP:20260424T124205
CREATED:20260323T145153Z
LAST-MODIFIED:20260323T145153Z
UID:10004199-1774692000-1774699200@capitalnature.org
SUMMARY:B.A.R.K. Rangers at Rock Creek Park
DESCRIPTION:(DC) (National Park Service) Calling all dog owners! If you enjoy adventuring in Rock Creek Park with your furry friend\, consider coming to one of our B.A.R.K. Ranger events! This is a national initiative to encourage responsible recreation and a positive experience for you\, your dog\, and all visitors to the park.  Learn about the principles of being a B.A.R.K. Ranger and earn a B.A.R.K. Ranger badge!
URL:https://capitalnature.org/event/b-a-r-k-rangers-at-rock-creek-park/
LOCATION:Rock Creek Nature Center\, 5200 Glover Rd NW\, Washington\, 20015\, United States
CATEGORIES:Animals,Parks,Stewardship
GEO:38.9599553;-77.0516936
X-APPLE-STRUCTURED-LOCATION;VALUE=URI;X-ADDRESS=Rock Creek Nature Center 5200 Glover Rd NW Washington 20015 United States;X-APPLE-RADIUS=500;X-TITLE=5200 Glover Rd NW:geo:-77.0516936,38.9599553
END:VEVENT
BEGIN:VEVENT
DTSTART;TZID=America/New_York:20260321T133000
DTEND;TZID=America/New_York:20260321T150000
DTSTAMP:20260424T124205
CREATED:20260308T222324Z
LAST-MODIFIED:20260308T222324Z
UID:10004168-1774099800-1774105200@capitalnature.org
SUMMARY:Blossoms in America's Backyard
DESCRIPTION:(DC) (Rock Creek Conservancy) This time of year in Washington\, DC is all about the Cherry Blossoms\, but before the cherry trees on the Tidal Basin were a thing\, the roots of DC’s cherry blossom history got planted in the Rock Creek Valley. Come for a short ranger talk about the history of cherry trees in Washington away from the bustle of the Tidal Basin and then enjoy a walk up to 2 miles through some of our trails to see what’s blooming this spring in Rock Creek Park.
URL:https://capitalnature.org/event/blossoms-in-americas-backyard/
LOCATION:Peirce Mill\, 2401 Tilden St NW\, Washington DC\, 20008\, United States
CATEGORIES:History,Nature Observation,Parks
END:VEVENT
BEGIN:VEVENT
DTSTART;TZID=America/New_York:20260227T090000
DTEND;TZID=America/New_York:20260227T110000
DTSTAMP:20260424T124205
CREATED:20260206T204822Z
LAST-MODIFIED:20260206T204822Z
UID:10004124-1772182800-1772190000@capitalnature.org
SUMMARY:Explore Rachel Carson Conservation Park
DESCRIPTION:(MD) (Montgomery Parks) New to the area or just want to get out for a hike? Explore different parks in Montgomery County with an experienced naturalist. Length of hike and trail difficulty varies from site to site. Today we’ll explore Rachel Carson Conservation Park\, one of the county’s premier conservation areas\, walking through meadows\, forest and along the Hawlings River. The length of this moderate hike depends on the pace and size of the group.
URL:https://capitalnature.org/event/explore-rachel-carson-conservation-park/
LOCATION:Rachel Carson Conservation Park\, 22201 Zion Road\, Olney\, MD\, 20833\, United States
CATEGORIES:Nature Observation,Outdoor Experience,Parks
GEO:39.220022;-77.085897
X-APPLE-STRUCTURED-LOCATION;VALUE=URI;X-ADDRESS=Rachel Carson Conservation Park 22201 Zion Road Olney MD 20833 United States;X-APPLE-RADIUS=500;X-TITLE=22201 Zion Road:geo:-77.085897,39.220022
END:VEVENT
BEGIN:VEVENT
DTSTART;TZID=America/New_York:20260224T100000
DTEND;TZID=America/New_York:20260224T110000
DTSTAMP:20260424T124205
CREATED:20260207T231957Z
LAST-MODIFIED:20260207T231957Z
UID:10004138-1771927200-1771930800@capitalnature.org
SUMMARY:Winter Walk at Meadowlark
DESCRIPTION:(VA) (NOVA Parks) Enjoy free garden admission and a guided walk around Meadowlark Botanical Gardens’ 95 acres on Tuesdays. Each 75-minute walk will be over uneven\, hilly terrain\, have a positive focus\, and include a silent\, meditative portion and a few interesting facts from our docent along the way. Ages 18 + \nThis is a drop-in program.
URL:https://capitalnature.org/event/winter-walk-at-meadowlark-2/
LOCATION:Meadowlark Botanical Gardens\, 9750 Meadowlark Gardens\, Vienna\, VA\, 22182\, United States
CATEGORIES:Nature Observation,Outdoor Experience,Parks
END:VEVENT
BEGIN:VEVENT
DTSTART;TZID=America/New_York:20260221T100000
DTEND;TZID=America/New_York:20260221T120000
DTSTAMP:20260424T124205
CREATED:20260209T021533Z
LAST-MODIFIED:20260209T021533Z
UID:10004155-1771668000-1771675200@capitalnature.org
SUMMARY:Invasive Plant Removal at Carter Barron
DESCRIPTION:(DC) (Rock Creek Conservancy)  Join Rock Creek Conservancy for this invasive plant removal restoration event in Rock Creek Park. Invasive plants are a major threat to our fragile forests\, and stopping their spread helps allow native plants to thrive in the understory. Event location\, directions\, and information will be sent from the event leader 48 hours prior to the event.
URL:https://capitalnature.org/event/invasive-plant-removal-at-carter-barron-3/
LOCATION:Carter Barron Amphitheatre\, 4850 Colorado Ave NW\, Washington DC\, 20011\, United States
CATEGORIES:Parks,Stewardship,Volunteering
END:VEVENT
BEGIN:VEVENT
DTSTART;TZID=America/New_York:20260217T100000
DTEND;TZID=America/New_York:20260217T110000
DTSTAMP:20260424T124205
CREATED:20260207T231630Z
LAST-MODIFIED:20260207T231630Z
UID:10004136-1771322400-1771326000@capitalnature.org
SUMMARY:Winter Walk at Meadowlark
DESCRIPTION:(VA) (NOVA Parks) Enjoy free garden admission and a guided walk around Meadowlark Botanical Gardens’ 95 acres on Tuesdays. Each 75-minute walk will be over uneven\, hilly terrain\, have a positive focus\, and include a silent\, meditative portion and a few interesting facts from our docent along the way. Ages 18 + \nThis is a drop-in program.
URL:https://capitalnature.org/event/winter-walk-at-meadowlark/
LOCATION:Meadowlark Botanical Gardens\, 9750 Meadowlark Gardens\, Vienna\, VA\, 22182\, United States
CATEGORIES:Nature Observation,Outdoor Experience,Parks
END:VEVENT
BEGIN:VEVENT
DTSTART;TZID=America/New_York:20260119T130000
DTEND;TZID=America/New_York:20260119T153000
DTSTAMP:20260424T124205
CREATED:20260108T201723Z
LAST-MODIFIED:20260108T201723Z
UID:10003878-1768827600-1768836600@capitalnature.org
SUMMARY:MLK Day of Service at Oxon Run Park
DESCRIPTION:(DC) (Casey Trees) Celebrate the legacy of Dr. Martin Luther King Jr. through a day of service at Oxon Run Park\, hosted by Chesapeake Climate Action Network\, DC Greens\, Friends of Oxon Run\, and Casey Trees. As a part of a nationwide effort\, the MLK Day of Service is a great opportunity to give back to our communities\, from helping out our neighbors to uplifting and restoring our green spaces.
URL:https://capitalnature.org/event/mlk-day-of-service-at-oxon-run-park/
LOCATION:The Well at Oxon Run\, 300 Valley Ave\, SE\, Washington\, DC\, 20032\, United States
CATEGORIES:Conservation,Parks,Trees
GEO:38.83287;-77.001718
X-APPLE-STRUCTURED-LOCATION;VALUE=URI;X-ADDRESS=The Well at Oxon Run 300 Valley Ave SE Washington DC 20032 United States;X-APPLE-RADIUS=500;X-TITLE=300 Valley Ave\, SE:geo:-77.001718,38.83287
END:VEVENT
BEGIN:VEVENT
DTSTART;TZID=America/New_York:20260117T100000
DTEND;TZID=America/New_York:20260117T120000
DTSTAMP:20260424T124205
CREATED:20260111T001102Z
LAST-MODIFIED:20260115T191806Z
UID:10003926-1768644000-1768651200@capitalnature.org
SUMMARY:MLK Day: Cleanup at Carter Barron
DESCRIPTION:(DC) (Rock Creek Conservancy) Please join Rock Creek Conservancy and the National Park Service\, and for our cleanup of the Carter Barron amphitheater. We will remove debris\, paint\, clear leaf litter\, weed\, sweep\, and trim back invasive plants\, helping preserve the amphitheater while it awaits future restoration. This is a unique opportunity to get a ‘behind the scenes’ look at the amphitheater and help take care of an important community resource. Event location directions and information will be sent from the event leader 24 hours before the event.
URL:https://capitalnature.org/event/mlk-day-cleanup-at-the-carter-barron/
LOCATION:Carter Barron Amphitheatre\, 4850 Colorado Ave NW\, Washington DC\, 20011\, United States
CATEGORIES:Parks,Stewardship,Volunteering
END:VEVENT
BEGIN:VEVENT
DTSTART;TZID=America/New_York:20260117T093000
DTEND;TZID=America/New_York:20260117T113000
DTSTAMP:20260424T124205
CREATED:20260113T190026Z
LAST-MODIFIED:20260113T190026Z
UID:10003973-1768642200-1768649400@capitalnature.org
SUMMARY:Ramble with a Ranger at Boulder Bridge
DESCRIPTION:(DC) (National Park Service) \nThe Boulder Bridge Loop is a ranger favorite: creek views\, towering forests\, steep ridge climbs\, and long enough to feel like you’ve gotten a workout. Join a ranger on this 3.5 mile hike through the diverse trees\, traipse across two bridges\, and summit the Western Ridge trail all while learning about the park from an expert. \nThis hike leaves from the Nature Center. 
URL:https://capitalnature.org/event/ramble-with-a-ranger-at-boulder-bridge/
LOCATION:Rock Creek Nature Center\, 5200 Glover Rd NW\, Washington\, 20015\, United States
CATEGORIES:Hike,Outdoor Experience,Parks
GEO:38.9599553;-77.0516936
X-APPLE-STRUCTURED-LOCATION;VALUE=URI;X-ADDRESS=Rock Creek Nature Center 5200 Glover Rd NW Washington 20015 United States;X-APPLE-RADIUS=500;X-TITLE=5200 Glover Rd NW:geo:-77.0516936,38.9599553
END:VEVENT
END:VCALENDAR