BEGIN:VCALENDAR
VERSION:2.0
PRODID:-//Capital Nature - ECPv6.15.20//NONSGML v1.0//EN
CALSCALE:GREGORIAN
METHOD:PUBLISH
X-ORIGINAL-URL:https://capitalnature.org
X-WR-CALDESC:Events for Capital Nature
REFRESH-INTERVAL;VALUE=DURATION:PT1H
X-Robots-Tag:noindex
X-PUBLISHED-TTL:PT1H
BEGIN:VTIMEZONE
TZID:America/New_York
BEGIN:DAYLIGHT
TZOFFSETFROM:-0500
TZOFFSETTO:-0400
TZNAME:EDT
DTSTART:20250309T070000
END:DAYLIGHT
BEGIN:STANDARD
TZOFFSETFROM:-0400
TZOFFSETTO:-0500
TZNAME:EST
DTSTART:20251102T060000
END:STANDARD
BEGIN:DAYLIGHT
TZOFFSETFROM:-0500
TZOFFSETTO:-0400
TZNAME:EDT
DTSTART:20260308T070000
END:DAYLIGHT
BEGIN:STANDARD
TZOFFSETFROM:-0400
TZOFFSETTO:-0500
TZNAME:EST
DTSTART:20261101T060000
END:STANDARD
BEGIN:DAYLIGHT
TZOFFSETFROM:-0500
TZOFFSETTO:-0400
TZNAME:EDT
DTSTART:20270314T070000
END:DAYLIGHT
BEGIN:STANDARD
TZOFFSETFROM:-0400
TZOFFSETTO:-0500
TZNAME:EST
DTSTART:20271107T060000
END:STANDARD
END:VTIMEZONE
BEGIN:VEVENT
DTSTART;TZID=America/New_York:20260201T083000
DTEND;TZID=America/New_York:20260201T100000
DTSTAMP:20260424T110400
CREATED:20260112T043237Z
LAST-MODIFIED:20260112T043237Z
UID:10003970-1769934600-1769940000@capitalnature.org
SUMMARY:First Sunday Bird Walk at Kenilworth
DESCRIPTION:(DC) (National Park Service) We invite you to join a National Park Service volunteer birder for an engaging bird walk at Kenilworth Aquatic Gardens. This event is open to all\, including those new to birding.  A limited number of binoculars are available for loan with a photo ID. We will gather in front of the visitor center. The walk will be conducted at a leisurely pace\, covering approximately one mile. We look forward to sharing this delightful experience with you!
URL:https://capitalnature.org/event/first-sunday-bird-walk-at-kenilworth/
LOCATION:Kenilworth Aquatic Gardens\, 1550 Anacostia Ave\, NE\, Washington DC\, 20019\, United States
CATEGORIES:Birding,Nature Observation,Outdoor Experience
END:VEVENT
BEGIN:VEVENT
DTSTART;TZID=America/New_York:20260201T110000
DTEND;TZID=America/New_York:20260201T230000
DTSTAMP:20260424T110400
CREATED:20260114T005719Z
LAST-MODIFIED:20260114T005719Z
UID:10003997-1769943600-1769986800@capitalnature.org
SUMMARY:Ice Skating at the Sculpture Garden
DESCRIPTION:(DC) (National Gallery of Art) The beloved winter tradition returns to the National Gallery of Art! Enjoy the beauty of the Sculpture Garden\, festive displays and winter refreshments through March 2nd. The ice rink is open 11:00 a.m. to 9:00 p.m.\, Sunday through Thursday\, and 11:00 a.m. to 11:00 p.m.\, Friday and Saturday. \nSkating sessions begin on the hour and last 45 minutes\, leaving a 15-minute break for ice maintenance.
URL:https://capitalnature.org/event/ice-skating-at-the-sculpture-garden-12/
LOCATION:National Gallery of Art Sculpture Garden\, 7th Street & Constitution Ave. NW\, Washington\, DC\, 20565\, United States
CATEGORIES:Outdoor Experience,Winter
END:VEVENT
BEGIN:VEVENT
DTSTART;TZID=America/New_York:20260202T080000
DTEND;TZID=America/New_York:20260202T100000
DTSTAMP:20260424T110400
CREATED:20260112T042148Z
LAST-MODIFIED:20260112T042148Z
UID:10003964-1770019200-1770026400@capitalnature.org
SUMMARY:Monday Morning Birdwalk at Huntley Meadows
DESCRIPTION:(VA) (Friends of Huntley Meadows) The Monday Morning Bird Walk is sponsored by the Friends of Huntley Meadows Park and takes place every Monday at 8 a.m. Following the walk\, members of the group gather at the nearby Denny’s for breakfast and to compile the morning’s bird list. All are welcome. \n 
URL:https://capitalnature.org/event/monday-morning-birdwalk-at-huntley-meadows-18/
LOCATION:Huntley Meadows\, 3701 Lockheed Blvd\, Alexandria\, VA\, 22306\, United States
CATEGORIES:Birds,Nature Observation,Outdoor Experience
GEO:38.75372;-77.109302
X-APPLE-STRUCTURED-LOCATION;VALUE=URI;X-ADDRESS=Huntley Meadows 3701 Lockheed Blvd Alexandria VA 22306 United States;X-APPLE-RADIUS=500;X-TITLE=3701 Lockheed Blvd:geo:-77.109302,38.75372
END:VEVENT
BEGIN:VEVENT
DTSTART;TZID=America/New_York:20260202T173000
DTEND;TZID=America/New_York:20260202T183000
DTSTAMP:20260424T110400
CREATED:20260114T032707Z
LAST-MODIFIED:20260114T032707Z
UID:10004025-1770053400-1770057000@capitalnature.org
SUMMARY:Owl Prowl at Black Hill
DESCRIPTION:(MD) (Montgomery Parks) Nature doesn’t sleep once the sun goes down. Go for a walk with us to see who is out and about after sunset. Join us for a post-sunset stroll where we’ll look and listen for owls.
URL:https://capitalnature.org/event/owl-prowl-at-black-hill/
LOCATION:Black Hill Discovery Center\, 20926 Lake Ridge Drive\, Boyds\, MD\, 20841\, United States
CATEGORIES:Birds,Nature Observation,Outdoor Experience
GEO:39.1925249;-77.2961381
X-APPLE-STRUCTURED-LOCATION;VALUE=URI;X-ADDRESS=Black Hill Discovery Center 20926 Lake Ridge Drive Boyds MD 20841 United States;X-APPLE-RADIUS=500;X-TITLE=20926 Lake Ridge Drive:geo:-77.2961381,39.1925249
END:VEVENT
BEGIN:VEVENT
DTSTART;TZID=America/New_York:20260203T083000
DTEND;TZID=America/New_York:20260203T100000
DTSTAMP:20260424T110400
CREATED:20260112T043015Z
LAST-MODIFIED:20260112T043015Z
UID:10003968-1770107400-1770112800@capitalnature.org
SUMMARY:Tuesday Morning Bird Walk at Kenilworth
DESCRIPTION:(DC) (National Park Service) We invite you to join National Park Service volunteer and expert birder Molly Hermann for an engaging bird walk at Kenilworth Aquatic Gardens. This event is open to all\, including those new to birding. We encourage participants to bring water\, sunscreen\, and binoculars if available. A limited number of binoculars are available for loan with a photo ID. \nThe walk will be conducted at a leisurely pace\, covering approximately one mile. We will gather in front of the visitor center\, and the duration of the walk will typically range from 1.5 to 2 hours\, depending on our observations. We look forward to sharing this delightful experience with you!
URL:https://capitalnature.org/event/tuesday-morning-bird-walk-at-kenilworth-3/
LOCATION:Kenilworth Aquatic Gardens\, 1550 Anacostia Ave\, NE\, Washington DC\, 20019\, United States
CATEGORIES:Birds,Nature Observation,Outdoor Experience
END:VEVENT
BEGIN:VEVENT
DTSTART;TZID=America/New_York:20260204T100000
DTEND;TZID=America/New_York:20260204T160000
DTSTAMP:20260424T110400
CREATED:20260114T225029Z
LAST-MODIFIED:20260114T225029Z
UID:10004050-1770199200-1770220800@capitalnature.org
SUMMARY:Pup Stroll Day at Meadowlark
DESCRIPTION:(VA) (NOVA Parks) GREAT NEWS! Now garden guests may enjoy Meadowlark Botanical Gardens with their favorite canines every Wednesday for Pup Stroll Wednesdays. On Wednesdays\, during regular daytime hours\, leashed dogs are welcome in the gardens. (Only service dogs are permitted on other days.) Please note: Garden admission ends at 6:30pm.
URL:https://capitalnature.org/event/pup-stroll-day-at-meadowlark-4/
LOCATION:Meadowlark Botanical Gardens\, 9750 Meadowlark Gardens\, Vienna\, VA\, 22182\, United States
CATEGORIES:Animals,Gardens,Outdoor Experience
END:VEVENT
BEGIN:VEVENT
DTSTART;TZID=America/New_York:20260206T110000
DTEND;TZID=America/New_York:20260206T230000
DTSTAMP:20260424T110400
CREATED:20260114T005747Z
LAST-MODIFIED:20260114T005747Z
UID:10003998-1770375600-1770418800@capitalnature.org
SUMMARY:Ice Skating at the Sculpture Garden
DESCRIPTION:(DC) (National Gallery of Art) The beloved winter tradition returns to the National Gallery of Art! Enjoy the beauty of the Sculpture Garden\, festive displays and winter refreshments through March 2nd. The ice rink is open 11:00 a.m. to 9:00 p.m.\, Sunday through Thursday\, and 11:00 a.m. to 11:00 p.m.\, Friday and Saturday. \nSkating sessions begin on the hour and last 45 minutes\, leaving a 15-minute break for ice maintenance.
URL:https://capitalnature.org/event/ice-skating-at-the-sculpture-garden-13/
LOCATION:National Gallery of Art Sculpture Garden\, 7th Street & Constitution Ave. NW\, Washington\, DC\, 20565\, United States
CATEGORIES:Outdoor Experience,Winter
END:VEVENT
BEGIN:VEVENT
DTSTART;TZID=America/New_York:20260206T163000
DTEND;TZID=America/New_York:20260206T183000
DTSTAMP:20260424T110400
CREATED:20260114T220057Z
LAST-MODIFIED:20260114T220057Z
UID:10004042-1770395400-1770402600@capitalnature.org
SUMMARY:Hot Cocoa Wetland Night Hike
DESCRIPTION:(VA) (Fairfax County Parks) Sip hot cocoa and join a naturalist for a special winter wonder wetland tour after dark. We will look for signs and listen for sounds of beavers\, owls\, deer and other nocturnal winter animals. Participants are encouraged to bring their own mug to help us reduce waste. Ages 4 to Adult.
URL:https://capitalnature.org/event/hot-cocoa-wetland-night-hike/
LOCATION:Huntley Meadows\, 3701 Lockheed Blvd\, Alexandria\, VA\, 22306\, United States
CATEGORIES:Nature Observation,Outdoor Experience
END:VEVENT
BEGIN:VEVENT
DTSTART;TZID=America/New_York:20260206T173000
DTEND;TZID=America/New_York:20260206T190000
DTSTAMP:20260424T110400
CREATED:20260114T032924Z
LAST-MODIFIED:20260114T032924Z
UID:10004026-1770399000-1770404400@capitalnature.org
SUMMARY:Full Moon Friday
DESCRIPTION:(MD) (Montgomery Parks) Join us for the magic of the full moon for a hike and campfire on each Friday nearest to the full moon. Feel free to bring your own hotdogs to warm over the fire and we’ll provide marshmallows. The program will be mainly outdoors with a hiking component. All hikes will be on natural surface trails.
URL:https://capitalnature.org/event/full-moon-friday/
LOCATION:Locust Grove Nature Center\, 7777 Democracy Blvd\, Bethesda\, MD\, 20817\, United States
CATEGORIES:Astronomy,Outdoor Experience,Social & Cultural
END:VEVENT
BEGIN:VEVENT
DTSTART;TZID=America/New_York:20260207T080000
DTEND;TZID=America/New_York:20260207T100000
DTSTAMP:20260424T110400
CREATED:20260114T230140Z
LAST-MODIFIED:20260114T230140Z
UID:10004056-1770451200-1770458400@capitalnature.org
SUMMARY:Bird Walk at Kingman
DESCRIPTION:(DC) (DC Bird Alliance) Join DC Bird Alliance for a winter bird walk through Kingman and Heritage Islands!
URL:https://capitalnature.org/event/bird-walk-at-kingman/
LOCATION:Kingman Island\, United States
CATEGORIES:Birding,Nature Observation,Outdoor Experience
END:VEVENT
BEGIN:VEVENT
DTSTART;TZID=America/New_York:20260207T083000
DTEND;TZID=America/New_York:20260207T100000
DTSTAMP:20260424T110400
CREATED:20260112T043355Z
LAST-MODIFIED:20260112T043355Z
UID:10003971-1770453000-1770458400@capitalnature.org
SUMMARY:First Saturday Bird Walk at Kenilworth
DESCRIPTION:(DC) (National Park Service) We invite you to join a National Park Service volunteer birder for an engaging bird walk at Kenilworth Aquatic Gardens. This event is open to all\, including those new to birding.  A limited number of binoculars are available for loan with a photo ID. We will gather in front of the visitor center. The walk will be conducted at a leisurely pace\, covering approximately one mile. We look forward to sharing this delightful experience with you!
URL:https://capitalnature.org/event/first-saturday-bird-walk-at-kenilworth/
LOCATION:Kenilworth Aquatic Gardens\, 1550 Anacostia Ave\, NE\, Washington DC\, 20019\, United States
CATEGORIES:Birding,Nature Observation,Outdoor Experience
END:VEVENT
BEGIN:VEVENT
DTSTART;TZID=America/New_York:20260207T100000
DTEND;TZID=America/New_York:20260207T120000
DTSTAMP:20260424T110400
CREATED:20260111T005019Z
LAST-MODIFIED:20260111T005019Z
UID:10003939-1770458400-1770465600@capitalnature.org
SUMMARY:Litter Cleanup at Glenmont Park
DESCRIPTION:(MD) (Rock Creek Conservancy) Join Rock Creek Conservancy and Montgomery Parks for a litter removal restoration event in Rock Creek Park. Trash is the visible form of stormwater pollution\, a major threat to water quality and park health and its removal makes the parklands cleaner\, safer\, and more beautiful for all. Event location\, directions\, and information will be sent from the event leader 48 hours prior to the event.
URL:https://capitalnature.org/event/litter-cleanup-at-glenmont-park/
LOCATION:Glenmont Local Park\, 3201 Randolph Rd\, Silver Spring\, MD\, 20906\, United States
CATEGORIES:Outdoor Experience,Stewardship,Volunteering
END:VEVENT
BEGIN:VEVENT
DTSTART;TZID=America/New_York:20260207T103000
DTEND;TZID=America/New_York:20260207T130000
DTSTAMP:20260424T110400
CREATED:20260111T005758Z
LAST-MODIFIED:20260111T005758Z
UID:10003940-1770460200-1770469200@capitalnature.org
SUMMARY:Suitland Parkway Volunteer Day
DESCRIPTION:(DC) (Ward 8 Woods) Join Ward 8 Woods every first Saturday of the month to restore Suitland Parkway by removing trash and invasive vines that are smothering the trees. Since 2018\, Ward 8 Woods Park Stewards and volunteers have removed more than 300 tons of trash from the woods of Suitland Parkway and cut vines from more than 1\,000 trees. On the first Saturday of each month\, we deploy to a different part of the parkway to clean up trash and save trees from being smothered by invasive vines. \nGive back to the earth\, exercise your body\, spend time in nature and meet cool people with the Ward 8 Woods Conservancy.
URL:https://capitalnature.org/event/suitland-parkway-volunteer-day-2/
LOCATION:Suitland Parkway\, 2401 Alabama Ave SE\, Washington\, DC\, 20020\, United States
CATEGORIES:Outdoor Experience,Stewardship,Volunteering
GEO:38.8511572;-76.9717077
X-APPLE-STRUCTURED-LOCATION;VALUE=URI;X-ADDRESS=Suitland Parkway 2401 Alabama Ave SE Washington DC 20020 United States;X-APPLE-RADIUS=500;X-TITLE=2401 Alabama Ave SE:geo:-76.9717077,38.8511572
END:VEVENT
END:VCALENDAR