BEGIN:VCALENDAR
VERSION:2.0
PRODID:-//Capital Nature - ECPv6.15.20//NONSGML v1.0//EN
CALSCALE:GREGORIAN
METHOD:PUBLISH
X-WR-CALNAME:Capital Nature
X-ORIGINAL-URL:https://capitalnature.org
X-WR-CALDESC:Events for Capital Nature
REFRESH-INTERVAL;VALUE=DURATION:PT1H
X-Robots-Tag:noindex
X-PUBLISHED-TTL:PT1H
BEGIN:VTIMEZONE
TZID:America/New_York
BEGIN:DAYLIGHT
TZOFFSETFROM:-0500
TZOFFSETTO:-0400
TZNAME:EDT
DTSTART:20250309T070000
END:DAYLIGHT
BEGIN:STANDARD
TZOFFSETFROM:-0400
TZOFFSETTO:-0500
TZNAME:EST
DTSTART:20251102T060000
END:STANDARD
BEGIN:DAYLIGHT
TZOFFSETFROM:-0500
TZOFFSETTO:-0400
TZNAME:EDT
DTSTART:20260308T070000
END:DAYLIGHT
BEGIN:STANDARD
TZOFFSETFROM:-0400
TZOFFSETTO:-0500
TZNAME:EST
DTSTART:20261101T060000
END:STANDARD
BEGIN:DAYLIGHT
TZOFFSETFROM:-0500
TZOFFSETTO:-0400
TZNAME:EDT
DTSTART:20270314T070000
END:DAYLIGHT
BEGIN:STANDARD
TZOFFSETFROM:-0400
TZOFFSETTO:-0500
TZNAME:EST
DTSTART:20271107T060000
END:STANDARD
END:VTIMEZONE
BEGIN:VEVENT
DTSTART;TZID=America/New_York:20260131T100000
DTEND;TZID=America/New_York:20260131T103000
DTSTAMP:20260424T111915
CREATED:20260113T192309Z
LAST-MODIFIED:20260113T192309Z
UID:10003982-1769853600-1769855400@capitalnature.org
SUMMARY:Winter Wildlife Detectives
DESCRIPTION:(DC) (National Park Service) Bundle up and step into the role of a Winter Wildlife Detective! Explore real pelts and tracks from Rock Creek Park animals—like foxes\, coyotes\, raccoons\, and even sleepy woodchucks—and uncover the secrets they leave behind in the snow. Through hands-on discovery and fun clue-hunting questions\, kids learn how animals stay warm\, find food\, and survive the chilly season. Join us to track\, explore\, and reveal the wild winter stories hiding just beneath our feet!
URL:https://capitalnature.org/event/winter-wildlife-detectives-3/
LOCATION:Rock Creek Nature Center\, 5200 Glover Rd NW\, Washington\, 20015\, United States
CATEGORIES:Children,Nature Play,Outdoor Experience
GEO:38.9599553;-77.0516936
X-APPLE-STRUCTURED-LOCATION;VALUE=URI;X-ADDRESS=Rock Creek Nature Center 5200 Glover Rd NW Washington 20015 United States;X-APPLE-RADIUS=500;X-TITLE=5200 Glover Rd NW:geo:-77.0516936,38.9599553
END:VEVENT
BEGIN:VEVENT
DTSTART;TZID=America/New_York:20260131T120000
DTEND;TZID=America/New_York:20260131T220000
DTSTAMP:20260424T111915
CREATED:20260114T010123Z
LAST-MODIFIED:20260114T010123Z
UID:10004004-1769860800-1769896800@capitalnature.org
SUMMARY:Ice Skating at Canal Park
DESCRIPTION:(DC) (Friends of Fort Dupont Ice Arena) Join the Winter fun at Canal Park Ice Rink! Public skating sessions are available seven days a week during the winter. Sessions are 90 minutes long\, with a break at the half-way point to resurface the ice. \nThe rink is open through March 2nd. Daily hours vary.
URL:https://capitalnature.org/event/ice-skating-at-canal-park-8/
LOCATION:Canal Park\, 200 M Street SE\, Washington\, DC\, 20003\, United States
CATEGORIES:Outdoor Experience,Winter
GEO:38.8779464;-77.0032763
X-APPLE-STRUCTURED-LOCATION;VALUE=URI;X-ADDRESS=Canal Park 200 M Street SE Washington DC 20003 United States;X-APPLE-RADIUS=500;X-TITLE=200 M Street SE:geo:-77.0032763,38.8779464
END:VEVENT
BEGIN:VEVENT
DTSTART;TZID=America/New_York:20260131T180000
DTEND;TZID=America/New_York:20260131T193000
DTSTAMP:20260424T111915
CREATED:20260114T013112Z
LAST-MODIFIED:20260114T013112Z
UID:10004017-1769882400-1769887800@capitalnature.org
SUMMARY:Owl Prowl & Cocoa
DESCRIPTION:(VA) (Arlington Parks) Join us for an evening nature hike when the leaves aren’t on the trees\, making owls easier to spot. Give a hoot… literally as we learn about and try to call to our native nocturnal raptors. Families.
URL:https://capitalnature.org/event/owl-prowl-cocoa/
LOCATION:Long Branch Nature Center at Glencarlyn Park\, 625 S Carlin Springs Rd\, Arlington\, VA\, 22204\, United States
CATEGORIES:Birds,Family,Outdoor Experience
END:VEVENT
END:VCALENDAR