BEGIN:VCALENDAR
VERSION:2.0
PRODID:-//Capital Nature - ECPv6.15.20//NONSGML v1.0//EN
CALSCALE:GREGORIAN
METHOD:PUBLISH
X-ORIGINAL-URL:https://capitalnature.org
X-WR-CALDESC:Events for Capital Nature
REFRESH-INTERVAL;VALUE=DURATION:PT1H
X-Robots-Tag:noindex
X-PUBLISHED-TTL:PT1H
BEGIN:VTIMEZONE
TZID:America/New_York
BEGIN:DAYLIGHT
TZOFFSETFROM:-0500
TZOFFSETTO:-0400
TZNAME:EDT
DTSTART:20250309T070000
END:DAYLIGHT
BEGIN:STANDARD
TZOFFSETFROM:-0400
TZOFFSETTO:-0500
TZNAME:EST
DTSTART:20251102T060000
END:STANDARD
BEGIN:DAYLIGHT
TZOFFSETFROM:-0500
TZOFFSETTO:-0400
TZNAME:EDT
DTSTART:20260308T070000
END:DAYLIGHT
BEGIN:STANDARD
TZOFFSETFROM:-0400
TZOFFSETTO:-0500
TZNAME:EST
DTSTART:20261101T060000
END:STANDARD
BEGIN:DAYLIGHT
TZOFFSETFROM:-0500
TZOFFSETTO:-0400
TZNAME:EDT
DTSTART:20270314T070000
END:DAYLIGHT
BEGIN:STANDARD
TZOFFSETFROM:-0400
TZOFFSETTO:-0500
TZNAME:EST
DTSTART:20271107T060000
END:STANDARD
END:VTIMEZONE
BEGIN:VEVENT
DTSTART;TZID=America/New_York:20260121T100000
DTEND;TZID=America/New_York:20260121T160000
DTSTAMP:20260424T123500
CREATED:20260114T224127Z
LAST-MODIFIED:20260114T224127Z
UID:10004045-1768989600-1769011200@capitalnature.org
SUMMARY:Pup Stroll Day at Meadowlark
DESCRIPTION:(VA) (NOVA Parks) GREAT NEWS! Now garden guests may enjoy Meadowlark Botanical Gardens with their favorite canines every Wednesday for Pup Stroll Wednesdays. On Wednesdays\, during regular daytime hours\, leashed dogs are welcome in the gardens. (Only service dogs are permitted on other days.) Please note: Garden admission ends at 6:30pm.
URL:https://capitalnature.org/event/pup-stroll-day-at-meadowlark-2/
LOCATION:Meadowlark Botanical Gardens\, 9750 Meadowlark Gardens\, Vienna\, VA\, 22182\, United States
CATEGORIES:Animals,Gardens,Outdoor Experience
END:VEVENT
BEGIN:VEVENT
DTSTART;TZID=America/New_York:20260121T103000
DTEND;TZID=America/New_York:20260121T113000
DTSTAMP:20260424T123500
CREATED:20251202T215605Z
LAST-MODIFIED:20260111T005546Z
UID:10003802-1768991400-1768995000@capitalnature.org
SUMMARY:Senior Wellness Walk at Arboretum
DESCRIPTION:(DC) (Department of Parks and Recreation) Just 30 minutes every day can increase cardiovascular fitness\, strengthen bones\, reduce excess body fat\, and boost muscle power and endurance. It can also reduce your risk of developing conditions such as heart disease\, type 2 diabetes\, osteoporosis and some cancers. Participants will enjoy group walking around the neighborhood\, around the park\, or just around. \nEvery Monday\, Wednesday\, and Friday through June 2026.
URL:https://capitalnature.org/event/senior-wellness-walk-arboretum-6/
LOCATION:Arboretum Community Center\, 2412 Rand Pl NE\, Washington\, DC\, 20002\, United States
CATEGORIES:Fitness,Outdoor Experience,Social Event
ORGANIZER;CN="DC Department of Parks and Recreation":MAILTO:dpr@dc.gov
GEO:38.9137434;-76.9710457
X-APPLE-STRUCTURED-LOCATION;VALUE=URI;X-ADDRESS=Arboretum Community Center 2412 Rand Pl NE Washington DC 20002 United States;X-APPLE-RADIUS=500;X-TITLE=2412 Rand Pl NE:geo:-76.9710457,38.9137434
END:VEVENT
END:VCALENDAR