BEGIN:VCALENDAR
VERSION:2.0
PRODID:-//Capital Nature - ECPv6.15.20//NONSGML v1.0//EN
CALSCALE:GREGORIAN
METHOD:PUBLISH
X-WR-CALNAME:Capital Nature
X-ORIGINAL-URL:https://capitalnature.org
X-WR-CALDESC:Events for Capital Nature
REFRESH-INTERVAL;VALUE=DURATION:PT1H
X-Robots-Tag:noindex
X-PUBLISHED-TTL:PT1H
BEGIN:VTIMEZONE
TZID:America/New_York
BEGIN:DAYLIGHT
TZOFFSETFROM:-0500
TZOFFSETTO:-0400
TZNAME:EDT
DTSTART:20250309T070000
END:DAYLIGHT
BEGIN:STANDARD
TZOFFSETFROM:-0400
TZOFFSETTO:-0500
TZNAME:EST
DTSTART:20251102T060000
END:STANDARD
BEGIN:DAYLIGHT
TZOFFSETFROM:-0500
TZOFFSETTO:-0400
TZNAME:EDT
DTSTART:20260308T070000
END:DAYLIGHT
BEGIN:STANDARD
TZOFFSETFROM:-0400
TZOFFSETTO:-0500
TZNAME:EST
DTSTART:20261101T060000
END:STANDARD
BEGIN:DAYLIGHT
TZOFFSETFROM:-0500
TZOFFSETTO:-0400
TZNAME:EDT
DTSTART:20270314T070000
END:DAYLIGHT
BEGIN:STANDARD
TZOFFSETFROM:-0400
TZOFFSETTO:-0500
TZNAME:EST
DTSTART:20271107T060000
END:STANDARD
END:VTIMEZONE
BEGIN:VEVENT
DTSTART;TZID=America/New_York:20260212T120000
DTEND;TZID=America/New_York:20260212T130000
DTSTAMP:20260424T092914
CREATED:20260203T033812Z
LAST-MODIFIED:20260203T034003Z
UID:10004082-1770897600-1770901200@capitalnature.org
SUMMARY:Earthly Love: A Conversation (Virtual)
DESCRIPTION:(US) (Yale School of Environment) The Forest School at the Yale School of the Environment\, the Yale Forum on Religion and Ecology\, and Orion Magazine present Orion contributors and award-winning authors Ross Gay and Aimee Nezhukumatathil. The event centers on themes of love\, community\, commitment\, responsibility\, and communication\, exploring the intimacy and promise of humans’ moral\, spiritual\, and cultural relationships with the natural world – the love of nature and the nature of love.
URL:https://capitalnature.org/event/earthly-love-a-conversation-virtual/
CATEGORIES:Literary,Nature,Seminars and Lectures
END:VEVENT
BEGIN:VEVENT
DTSTART;TZID=America/New_York:20260219T173000
DTEND;TZID=America/New_York:20260219T190000
DTSTAMP:20260424T092914
CREATED:20260205T024614Z
LAST-MODIFIED:20260205T024614Z
UID:10004092-1771522200-1771527600@capitalnature.org
SUMMARY:Film: In Our Nature
DESCRIPTION:(DC) (Synchronous Pictures) Be among the first to experience In Our Nature\, a powerful new documentary exploring how environmental education – and the people who teach with it – can help bridge some of our deepest divides and foster resilience\, belonging\, and community. This special Washington\, D.C. premiere brings together educators\, policymakers\, nonprofit leaders\, and community members for an evening of film\, conversation\, and connection – honoring the communities at the heart of the film and the growing national movement it represents.
URL:https://capitalnature.org/event/film-in-our-nature/
LOCATION:Miracle Theater\, 535 8th Street\, SE\, Washington\, 20003\, United States
CATEGORIES:Environmental Justice,Film,Nature
GEO:38.8816867;-76.9953347
X-APPLE-STRUCTURED-LOCATION;VALUE=URI;X-ADDRESS=Miracle Theater 535 8th Street SE Washington 20003 United States;X-APPLE-RADIUS=500;X-TITLE=535 8th Street\, SE:geo:-76.9953347,38.8816867
END:VEVENT
END:VCALENDAR