BEGIN:VCALENDAR
VERSION:2.0
PRODID:-//Capital Nature - ECPv6.15.20//NONSGML v1.0//EN
CALSCALE:GREGORIAN
METHOD:PUBLISH
X-ORIGINAL-URL:https://capitalnature.org
X-WR-CALDESC:Events for Capital Nature
REFRESH-INTERVAL;VALUE=DURATION:PT1H
X-Robots-Tag:noindex
X-PUBLISHED-TTL:PT1H
BEGIN:VTIMEZONE
TZID:America/New_York
BEGIN:DAYLIGHT
TZOFFSETFROM:-0500
TZOFFSETTO:-0400
TZNAME:EDT
DTSTART:20250309T070000
END:DAYLIGHT
BEGIN:STANDARD
TZOFFSETFROM:-0400
TZOFFSETTO:-0500
TZNAME:EST
DTSTART:20251102T060000
END:STANDARD
BEGIN:DAYLIGHT
TZOFFSETFROM:-0500
TZOFFSETTO:-0400
TZNAME:EDT
DTSTART:20260308T070000
END:DAYLIGHT
BEGIN:STANDARD
TZOFFSETFROM:-0400
TZOFFSETTO:-0500
TZNAME:EST
DTSTART:20261101T060000
END:STANDARD
BEGIN:DAYLIGHT
TZOFFSETFROM:-0500
TZOFFSETTO:-0400
TZNAME:EDT
DTSTART:20270314T070000
END:DAYLIGHT
BEGIN:STANDARD
TZOFFSETFROM:-0400
TZOFFSETTO:-0500
TZNAME:EST
DTSTART:20271107T060000
END:STANDARD
END:VTIMEZONE
BEGIN:VEVENT
DTSTART;TZID=America/New_York:20260126T090000
DTEND;TZID=America/New_York:20260126T170000
DTSTAMP:20260424T112211
CREATED:20260114T032409Z
LAST-MODIFIED:20260114T033232Z
UID:10004024-1769418000-1769446800@capitalnature.org
SUMMARY:Teen Caving
DESCRIPTION:(MD) (Montgomery Parks) Have your teen join us for outdoor adventures! In this series\, we’ll hike\, paddle\, and wade our way through some of the most interesting nature locales in our area! Join us for the day as we work our way through the twists and turns of a wild cave learning about local geology.
URL:https://capitalnature.org/event/teen-caving-excursion/
LOCATION:Black Hill Discovery Center\, 20926 Lake Ridge Drive\, Boyds\, MD\, 20841\, United States
CATEGORIES:Nature Skills,Outdoor Experience
GEO:39.1925249;-77.2961381
X-APPLE-STRUCTURED-LOCATION;VALUE=URI;X-ADDRESS=Black Hill Discovery Center 20926 Lake Ridge Drive Boyds MD 20841 United States;X-APPLE-RADIUS=500;X-TITLE=20926 Lake Ridge Drive:geo:-77.2961381,39.1925249
END:VEVENT
END:VCALENDAR