BEGIN:VCALENDAR
VERSION:2.0
PRODID:-//Capital Nature - ECPv6.15.20//NONSGML v1.0//EN
CALSCALE:GREGORIAN
METHOD:PUBLISH
X-WR-CALNAME:Capital Nature
X-ORIGINAL-URL:https://capitalnature.org
X-WR-CALDESC:Events for Capital Nature
REFRESH-INTERVAL;VALUE=DURATION:PT1H
X-Robots-Tag:noindex
X-PUBLISHED-TTL:PT1H
BEGIN:VTIMEZONE
TZID:America/New_York
BEGIN:DAYLIGHT
TZOFFSETFROM:-0500
TZOFFSETTO:-0400
TZNAME:EDT
DTSTART:20250309T070000
END:DAYLIGHT
BEGIN:STANDARD
TZOFFSETFROM:-0400
TZOFFSETTO:-0500
TZNAME:EST
DTSTART:20251102T060000
END:STANDARD
BEGIN:DAYLIGHT
TZOFFSETFROM:-0500
TZOFFSETTO:-0400
TZNAME:EDT
DTSTART:20260308T070000
END:DAYLIGHT
BEGIN:STANDARD
TZOFFSETFROM:-0400
TZOFFSETTO:-0500
TZNAME:EST
DTSTART:20261101T060000
END:STANDARD
BEGIN:DAYLIGHT
TZOFFSETFROM:-0500
TZOFFSETTO:-0400
TZNAME:EDT
DTSTART:20270314T070000
END:DAYLIGHT
BEGIN:STANDARD
TZOFFSETFROM:-0400
TZOFFSETTO:-0500
TZNAME:EST
DTSTART:20271107T060000
END:STANDARD
END:VTIMEZONE
BEGIN:VEVENT
DTSTART;TZID=America/New_York:20260118T080000
DTEND;TZID=America/New_York:20260118T100000
DTSTAMP:20260424T110114
CREATED:20251202T220019Z
LAST-MODIFIED:20251202T220019Z
UID:10003809-1768723200-1768730400@capitalnature.org
SUMMARY:Sunday Morning Bird Walk at Dyke Marsh
DESCRIPTION:(VA) (Friends of Dyke Marsh) Join FODM for a bird walk every Sunday at 8 a.m. The Dyke Marsh Wildlife Preserve is a freshwater\, tidal marsh on the Virginia side of the Potomac River in Fairfax County. It is a unit of the George Washington Memorial Parkway\, U.S. National Park Service.
URL:https://capitalnature.org/event/sunday-morning-bird-walk-at-dyke-marsh-18/
LOCATION:Dyke Marsh\, Alexandria\, VA\, 22307\, United States
CATEGORIES:Birding,Nature Observation,Outdoor Experience
END:VEVENT
BEGIN:VEVENT
DTSTART;TZID=America/New_York:20260118T080000
DTEND;TZID=America/New_York:20260118T100000
DTSTAMP:20260424T110114
CREATED:20260114T003459Z
LAST-MODIFIED:20260114T003459Z
UID:10003988-1768723200-1768730400@capitalnature.org
SUMMARY:Birding Algonkian
DESCRIPTION:(VA) (Loudoun Wildlife Conservancy) Join us on a search for birds at the Algonkian Regional Park in eastern Loudoun County. This bird walk takes place each month. With extensive frontage along the Potomac River\, its rich bottomland forests\, extensive wetlands and grassy areas combine to make it Loudoun’s top birding hotspot. Bring binoculars if you have them.
URL:https://capitalnature.org/event/birding-algonkian/
LOCATION:Algonkian Regional Park\, 47001 Fairway Drive\, Sterling\, VA\, 20165\, United States
CATEGORIES:Birding,Nature Observation,Outdoor Experience
END:VEVENT
BEGIN:VEVENT
DTSTART;TZID=America/New_York:20260118T083000
DTEND;TZID=America/New_York:20260118T100000
DTSTAMP:20260424T110114
CREATED:20260112T042548Z
LAST-MODIFIED:20260112T042548Z
UID:10003790-1768725000-1768730400@capitalnature.org
SUMMARY:Sunday Morning Bird Walk at Kenilworth
DESCRIPTION:(DC) (National Park Service) We invite you to join a National Park Service volunteer birder for an engaging bird walk at Kenilworth Aquatic Gardens. This event is open to all\, including those new to birding.  A limited number of binoculars are available for loan with a photo ID. We will gather in front of the visitor center. The walk will be conducted at a leisurely pace\, covering approximately one mile. We look forward to sharing this delightful experience with you!
URL:https://capitalnature.org/event/sunday-morning-bird-walk-at-kenilworth-2/
LOCATION:Kenilworth Aquatic Gardens\, 1550 Anacostia Ave\, NE\, Washington DC\, 20019\, United States
CATEGORIES:Birding,Nature Observation,Outdoor Experience
END:VEVENT
BEGIN:VEVENT
DTSTART;TZID=America/New_York:20260120T120000
DTEND;TZID=America/New_York:20260120T123000
DTSTAMP:20260424T110114
CREATED:20260110T015915Z
LAST-MODIFIED:20260110T015915Z
UID:10003899-1768910400-1768912200@capitalnature.org
SUMMARY:Lunchtime Meditation and Mindfulness (Virtual)
DESCRIPTION:(DC) (Smithsonian Asian Art Museum) Join our free online guided meditation on Tuesdays and Fridays. In these 30-minute sessions\, DC-based meditation teachers lead a variety of mindfulness practices. Friday sessions take inspiration from art in our museum’s collections. Many of the art pieces are inspired by nature. All are welcome! No previous experience is required.
URL:https://capitalnature.org/event/lunchtime-meditation-and-mindfulness-virtual-10/
LOCATION:VA
CATEGORIES:Art,Contemplative,Nature Observation
END:VEVENT
BEGIN:VEVENT
DTSTART;TZID=America/New_York:20260122T190000
DTEND;TZID=America/New_York:20260122T200000
DTSTAMP:20260424T110114
CREATED:20251218T043026Z
LAST-MODIFIED:20251218T043026Z
UID:10003829-1769108400-1769112000@capitalnature.org
SUMMARY:Science Inspires Art – Art Inspires Science (Virtual)
DESCRIPTION:(MD) (Natural History Society of Maryland) Researchers utilize a biochemical technique called clearing and staining to create skeletal images of vertebrates. This makes biological specimens transparent while simultaneously highlighting specific structures. Dr. Noah Bressman blends this scientific technique\, photography\, and digital effects to highlight the beauty within fish anatomy. \nHe will discuss how he makes his unique neon skeletons\, major influences on his work\, and how his work has changed over time. Come learn about the scientific discoveries Dr. Bressman has made in the pursuit of art!
URL:https://capitalnature.org/event/science-inspires-art-art-inspires-science-virtual/
LOCATION:VA
CATEGORIES:Art,Classes & Workshops,Nature Observation
END:VEVENT
BEGIN:VEVENT
DTSTART;TZID=America/New_York:20260123T120000
DTEND;TZID=America/New_York:20260123T123000
DTSTAMP:20260424T110114
CREATED:20260110T022044Z
LAST-MODIFIED:20260110T022044Z
UID:10003902-1769169600-1769171400@capitalnature.org
SUMMARY:Lunchtime Meditation and Mindfulness (Virtual)
DESCRIPTION:(DC) (Smithsonian Asian Art Museum) Join our free online guided meditation on Tuesdays and Fridays. In these 30-minute sessions\, DC-based meditation teachers lead a variety of mindfulness practices. Friday sessions take inspiration from art in our museum’s collections. Many of the art pieces are inspired by nature. All are welcome! No previous experience is required.
URL:https://capitalnature.org/event/lunchtime-meditation-and-mindfulness-virtual-11/
LOCATION:VA
CATEGORIES:Art,Contemplative,Nature Observation
END:VEVENT
BEGIN:VEVENT
DTSTART;TZID=America/New_York:20260123T173000
DTEND;TZID=America/New_York:20260123T183000
DTSTAMP:20260424T110114
CREATED:20251221T202049Z
LAST-MODIFIED:20251221T202049Z
UID:10003852-1769189400-1769193000@capitalnature.org
SUMMARY:Flying Squirrel Lore
DESCRIPTION:(VA) (Arlington Parks) Flying squirrels are found throughout the wooded neighborhoods of Arlington\, but are seldom seen. Join us after dark to learn about these nocturnal creatures. Dress for the weather\, we will venture out into the cold night to look for wild flying squirrels. Families.
URL:https://capitalnature.org/event/flying-squirrel-lore-3/
LOCATION:Long Branch Nature Center & Park\, 625 S Carlin Springs Rd\, Arlington\, VA\, 22204\, United States
CATEGORIES:Animals,Family,Nature Observation
END:VEVENT
BEGIN:VEVENT
DTSTART;TZID=America/New_York:20260124T090000
DTEND;TZID=America/New_York:20260124T120000
DTSTAMP:20260424T110114
CREATED:20251218T042636Z
LAST-MODIFIED:20251218T042636Z
UID:10003828-1769245200-1769256000@capitalnature.org
SUMMARY:Winter Waterfowl Cruise
DESCRIPTION:(MD) (Natural History Society of Maryland) Don your downiest coat and channel duck resilience on this cruise to find wintering waterfowl on the Patuxent River. We will be on the lookout for bufflehead\, canvasback\, ruddy duck\, greater and lesser scaup\, common goldeneye\, ring-necked duck\, wood duck\, American wigeon\, black duck\, common loon\, American coot\, dunlin\, and horned lark.  \nAlex Pellegrini\, one of our favorite naturalists at Patuxent River Park\, will captain us on the park’s research pontoon boat.  
URL:https://capitalnature.org/event/winter-waterfowl-cruise/
LOCATION:Patuxent River Park\, Pavilion and Camp Ground\, 16000 Croom Airport Road\, Upper Marlboro\, MD\, 20772\, United States
CATEGORIES:Birds,Nature Observation,Outdoor Experience
GEO:38.7736433;-76.711127
X-APPLE-STRUCTURED-LOCATION;VALUE=URI;X-ADDRESS=Patuxent River Park Pavilion and Camp Ground 16000 Croom Airport Road Upper Marlboro MD 20772 United States;X-APPLE-RADIUS=500;X-TITLE=Pavilion and Camp Ground\, 16000 Croom Airport Road:geo:-76.711127,38.7736433
END:VEVENT
BEGIN:VEVENT
DTSTART;TZID=America/New_York:20260124T093000
DTEND;TZID=America/New_York:20260124T113000
DTSTAMP:20260424T110114
CREATED:20260114T184849Z
LAST-MODIFIED:20260114T184849Z
UID:10004030-1769247000-1769254200@capitalnature.org
SUMMARY:Wonderful Woodpeckers
DESCRIPTION:(VA) (Fairfax County Parks) Woodpeckers are keystone species which help many other forest animals by excavating holes in trees. Learn about our six local species\, their lifestyles and adaptations. The two sessions include a hike\, natural history information\, drawing tips\, journal page ideas and making a whimsical woodpecker creation. Ages 16 +. \nThis is Session 1. The next session will be on Jan. 31st.
URL:https://capitalnature.org/event/wonderful-woodpeckers/
LOCATION:Hidden Oaks Nature Center\, 7701 Royce St\, Annandale\, VA\, 22003\, United States
CATEGORIES:Birds,Nature Observation,Nature Play
END:VEVENT
BEGIN:VEVENT
DTSTART;TZID=America/New_York:20260124T110000
DTEND;TZID=America/New_York:20260124T113000
DTSTAMP:20260424T110114
CREATED:20260113T191508Z
LAST-MODIFIED:20260113T191508Z
UID:10003977-1769252400-1769254200@capitalnature.org
SUMMARY:Stellar Star Show at Rock Creek
DESCRIPTION:(DC) (Rock Creek Park) Come and enjoy a ranger-led program in the only planetarium in the National Park Service! The Stellar Star Show will be a 30-minute ranger-led program about the planets and the night sky.   
URL:https://capitalnature.org/event/stellar-star-show-at-rock-creek-3/
LOCATION:Rock Creek Nature Center\, 5200 Glover Rd NW\, Washington\, 20015\, United States
CATEGORIES:Astronomy,Nature Observation,Seminars and Lectures
GEO:38.9599553;-77.0516936
X-APPLE-STRUCTURED-LOCATION;VALUE=URI;X-ADDRESS=Rock Creek Nature Center 5200 Glover Rd NW Washington 20015 United States;X-APPLE-RADIUS=500;X-TITLE=5200 Glover Rd NW:geo:-77.0516936,38.9599553
END:VEVENT
BEGIN:VEVENT
DTSTART;TZID=America/New_York:20260124T140000
DTEND;TZID=America/New_York:20260124T150000
DTSTAMP:20260424T110114
CREATED:20260114T224415Z
LAST-MODIFIED:20260114T224415Z
UID:10004046-1769263200-1769266800@capitalnature.org
SUMMARY:Winter Flowers
DESCRIPTION:(VA) (NOVA Parks) Flowers can be hard to find outdoors in the middle of winter. While most wait for warmer days when their pollinators emerge\, there are some plant species that flower in the cold. In this program\, enjoy a hike through Winkler Botanical Preserve to look for signs of flowers blooming in the cold\, learn about plants that bloom in winter\, and craft your own flowers using natural materials. \nThis program is appropriate for artists ages 5 and up.
URL:https://capitalnature.org/event/winter-flowers/
LOCATION:Winkler Botanical Preserve\, 5400 Roanoke Ave.\, Alexandria\, VA\, 22311\, United States
CATEGORIES:Art,Nature Craft,Nature Observation,Plants
GEO:38.8290071;-77.1204713
X-APPLE-STRUCTURED-LOCATION;VALUE=URI;X-ADDRESS=Winkler Botanical Preserve 5400 Roanoke Ave. Alexandria VA 22311 United States;X-APPLE-RADIUS=500;X-TITLE=5400 Roanoke Ave.:geo:-77.1204713,38.8290071
END:VEVENT
BEGIN:VEVENT
DTSTART;TZID=America/New_York:20260124T140000
DTEND;TZID=America/New_York:20260124T153000
DTSTAMP:20260424T110114
CREATED:20260114T224623Z
LAST-MODIFIED:20260114T224623Z
UID:10004047-1769263200-1769268600@capitalnature.org
SUMMARY:Skulls and Bones
DESCRIPTION:(VA) (NOVA Parks) You can learn a lot from an animal’s skull and bones…you just need to know what to look for! In this brand-new offering\, dissect an owl pellet to uncover and construct the skeleton inside\, explore the features of different skulls and learn how to identify their species\, measure the bite and grip forces these animals can exert\, and discover plenty more fascinating facts about wildlife. Ages 8+.
URL:https://capitalnature.org/event/skulls-and-bones/
LOCATION:Potomac Overlook Regional Park\, 2845 N. Marcey Road\, Arlington\, VA\, 22207\, United States
CATEGORIES:Animals,Classes & Workshops,Nature Observation
END:VEVENT
BEGIN:VEVENT
DTSTART;TZID=America/New_York:20260124T163000
DTEND;TZID=America/New_York:20260124T173000
DTSTAMP:20260424T110114
CREATED:20260114T211946Z
LAST-MODIFIED:20260114T211946Z
UID:10004034-1769272200-1769275800@capitalnature.org
SUMMARY:Nature's Architects - Biomimicry
DESCRIPTION:(VA) (Fairfax County Parks) Examine the sophisticated structural engineering found in animal constructions from beaver dams to bird nests and insect colonies. Discover how these natural building techniques inspire modern architectural innovations and sustainable design solutions. This interactive program explores the intersection of biological systems and human engineering through hands-on biomimicry investigations. Ages 5 to Adult.
URL:https://capitalnature.org/event/natures-architects-biomimicry/
LOCATION:Lake Accotink Park\, 7500 Accotink Park Road\, Springfield\, VA\, 22150\, United States
CATEGORIES:Classes & Workshops,Nature Observation
END:VEVENT
END:VCALENDAR