BEGIN:VCALENDAR
VERSION:2.0
PRODID:-//Capital Nature - ECPv6.15.20//NONSGML v1.0//EN
CALSCALE:GREGORIAN
METHOD:PUBLISH
X-ORIGINAL-URL:https://capitalnature.org
X-WR-CALDESC:Events for Capital Nature
REFRESH-INTERVAL;VALUE=DURATION:PT1H
X-Robots-Tag:noindex
X-PUBLISHED-TTL:PT1H
BEGIN:VTIMEZONE
TZID:America/New_York
BEGIN:DAYLIGHT
TZOFFSETFROM:-0500
TZOFFSETTO:-0400
TZNAME:EDT
DTSTART:20250309T070000
END:DAYLIGHT
BEGIN:STANDARD
TZOFFSETFROM:-0400
TZOFFSETTO:-0500
TZNAME:EST
DTSTART:20251102T060000
END:STANDARD
BEGIN:DAYLIGHT
TZOFFSETFROM:-0500
TZOFFSETTO:-0400
TZNAME:EDT
DTSTART:20260308T070000
END:DAYLIGHT
BEGIN:STANDARD
TZOFFSETFROM:-0400
TZOFFSETTO:-0500
TZNAME:EST
DTSTART:20261101T060000
END:STANDARD
BEGIN:DAYLIGHT
TZOFFSETFROM:-0500
TZOFFSETTO:-0400
TZNAME:EDT
DTSTART:20270314T070000
END:DAYLIGHT
BEGIN:STANDARD
TZOFFSETFROM:-0400
TZOFFSETTO:-0500
TZNAME:EST
DTSTART:20271107T060000
END:STANDARD
END:VTIMEZONE
BEGIN:VEVENT
DTSTART;TZID=America/New_York:20260216T080000
DTEND;TZID=America/New_York:20260216T100000
DTSTAMP:20260424T113827
CREATED:20260112T042209Z
LAST-MODIFIED:20260112T042209Z
UID:10003965-1771228800-1771236000@capitalnature.org
SUMMARY:Monday Morning Birdwalk at Huntley Meadows
DESCRIPTION:(VA) (Friends of Huntley Meadows) The Monday Morning Bird Walk is sponsored by the Friends of Huntley Meadows Park and takes place every Monday at 8 a.m. Following the walk\, members of the group gather at the nearby Denny’s for breakfast and to compile the morning’s bird list. All are welcome. \n 
URL:https://capitalnature.org/event/monday-morning-birdwalk-at-huntley-meadows-19/
LOCATION:Huntley Meadows\, 3701 Lockheed Blvd\, Alexandria\, VA\, 22306\, United States
CATEGORIES:Birds,Nature Observation,Outdoor Experience
GEO:38.75372;-77.109302
X-APPLE-STRUCTURED-LOCATION;VALUE=URI;X-ADDRESS=Huntley Meadows 3701 Lockheed Blvd Alexandria VA 22306 United States;X-APPLE-RADIUS=500;X-TITLE=3701 Lockheed Blvd:geo:-77.109302,38.75372
END:VEVENT
BEGIN:VEVENT
DTSTART;TZID=America/New_York:20260216T090000
DTEND;TZID=America/New_York:20260216T110000
DTSTAMP:20260424T113827
CREATED:20260206T035957Z
LAST-MODIFIED:20260206T035957Z
UID:10004116-1771232400-1771239600@capitalnature.org
SUMMARY:Winter Bird Walk at the Arboretum
DESCRIPTION:(DC) (DC Bird Alliance) Join Us This President’s Day for a Bird Walk with DC Bird Alliance! We are back for another round of winter birding. Learn about bird behavior\, identification tips\, and local bird populations from experienced guides. Last month\, we saw woodpeckers\, phoebes\, and even a resident eagle! With bare trees and clear sightlines\, we’re sure to spot many feathered friends this time around as well.
URL:https://capitalnature.org/event/winter-bird-walk-at-the-arboretum/
LOCATION:U.S. National Arboretum\, 24th & R St NE\, Washington DC\, 20002\, United States
CATEGORIES:Birding,Nature Observation,Outdoor Experience
END:VEVENT
BEGIN:VEVENT
DTSTART;TZID=America/New_York:20260216T090000
DTEND;TZID=America/New_York:20260216T110000
DTSTAMP:20260424T113827
CREATED:20260206T040325Z
LAST-MODIFIED:20260206T040325Z
UID:10004117-1771232400-1771239600@capitalnature.org
SUMMARY:Documenting Birds and Biodiversity Workshop
DESCRIPTION:(DC) (Friends of the National Arboretum) Join us for a birding workshop led by the DC Bird Alliance! This engaging session is ideal for nature enthusiasts of all levels\, designed to enrich your birdwatching experience with a special focus on photography. Highlights: \n\nWildlife Photography Tips:\nLearn to capture stunning images of wildlife using cell phones and cameras.\n\n\nBiodiversity Documentation:\nDiscover how to edit and submit photos to platforms like iNaturalist and eBird.\n\n\nPhoto Management:\nGet tips on organizing your photo library without cloud storage.\n\n\nCommunity Science Round-table Discussion:\nJoin our collaborative discussion on the ethics of sharing photos for science. Together\, we’ll explore how birdwatchers contribute valuable data and support conservation efforts.
URL:https://capitalnature.org/event/documenting-birds-and-biodiversity-workshop/
LOCATION:U.S. National Arboretum\, 24th & R St NE\, Washington DC\, 20002\, United States
CATEGORIES:Birds,Citizen Science,Classes & Workshops,Nature Observation,Outdoor Experience
END:VEVENT
BEGIN:VEVENT
DTSTART;TZID=America/New_York:20260217T083000
DTEND;TZID=America/New_York:20260217T100000
DTSTAMP:20260424T113827
CREATED:20260112T043100Z
LAST-MODIFIED:20260112T043100Z
UID:10003969-1771317000-1771322400@capitalnature.org
SUMMARY:Tuesday Morning Bird Walk at Kenilworth
DESCRIPTION:(DC) (National Park Service) We invite you to join National Park Service volunteer and expert birder Molly Hermann for an engaging bird walk at Kenilworth Aquatic Gardens. This event is open to all\, including those new to birding. We encourage participants to bring water\, sunscreen\, and binoculars if available. A limited number of binoculars are available for loan with a photo ID. \nThe walk will be conducted at a leisurely pace\, covering approximately one mile. We will gather in front of the visitor center\, and the duration of the walk will typically range from 1.5 to 2 hours\, depending on our observations. We look forward to sharing this delightful experience with you!
URL:https://capitalnature.org/event/tuesday-morning-bird-walk-at-kenilworth-4/
LOCATION:Kenilworth Aquatic Gardens\, 1550 Anacostia Ave\, NE\, Washington DC\, 20019\, United States
CATEGORIES:Birds,Nature Observation,Outdoor Experience
END:VEVENT
BEGIN:VEVENT
DTSTART;TZID=America/New_York:20260217T100000
DTEND;TZID=America/New_York:20260217T110000
DTSTAMP:20260424T113827
CREATED:20260207T231630Z
LAST-MODIFIED:20260207T231630Z
UID:10004136-1771322400-1771326000@capitalnature.org
SUMMARY:Winter Walk at Meadowlark
DESCRIPTION:(VA) (NOVA Parks) Enjoy free garden admission and a guided walk around Meadowlark Botanical Gardens’ 95 acres on Tuesdays. Each 75-minute walk will be over uneven\, hilly terrain\, have a positive focus\, and include a silent\, meditative portion and a few interesting facts from our docent along the way. Ages 18 + \nThis is a drop-in program.
URL:https://capitalnature.org/event/winter-walk-at-meadowlark/
LOCATION:Meadowlark Botanical Gardens\, 9750 Meadowlark Gardens\, Vienna\, VA\, 22182\, United States
CATEGORIES:Nature Observation,Outdoor Experience,Parks
END:VEVENT
BEGIN:VEVENT
DTSTART;TZID=America/New_York:20260219T110000
DTEND;TZID=America/New_York:20260219T120000
DTSTAMP:20260424T113827
CREATED:20260112T041814Z
LAST-MODIFIED:20260112T041846Z
UID:10003960-1771498800-1771502400@capitalnature.org
SUMMARY:Project Feederwatch
DESCRIPTION:(MD) (Montgomery Parks) Are you interested in birding? Do you want to be part of a national community science project? Then\, join us for Project FeederWatch. Project FeederWatch is a seasonal community science project\, where participants count the different species of birds that flock to a bird feeder. All levels of birders are welcome. This project meets weekly on Thursdays through February. Ages 5+.
URL:https://capitalnature.org/event/project-feederwatch-5/
LOCATION:Locust Grove Nature Center\, 7777 Democracy Blvd\, Bethesda\, MD\, 20817\, United States
CATEGORIES:Birds,Citizen Science,Nature Observation
END:VEVENT
BEGIN:VEVENT
DTSTART;TZID=America/New_York:20260220T120000
DTEND;TZID=America/New_York:20260220T123000
DTSTAMP:20260424T113827
CREATED:20260206T033456Z
LAST-MODIFIED:20260206T033456Z
UID:10004107-1771588800-1771590600@capitalnature.org
SUMMARY:Lunchtime Meditation and Mindfulness (Virtual)
DESCRIPTION:(DC) (Smithsonian Asian Art Museum) Join our free online guided meditation on Tuesdays and Fridays. In these 30-minute sessions\, DC-based meditation teachers lead a variety of mindfulness practices. Friday sessions take inspiration from art in our museum’s collections. Many of the art pieces are inspired by nature. All are welcome! No previous experience is required.
URL:https://capitalnature.org/event/lunchtime-meditation-and-mindfulness-virtual-13/
LOCATION:VA
CATEGORIES:Art,Contemplative,Nature Observation
END:VEVENT
BEGIN:VEVENT
DTSTART;TZID=America/New_York:20260221T080000
DTEND;TZID=America/New_York:20260221T093000
DTSTAMP:20260424T113827
CREATED:20260208T190111Z
LAST-MODIFIED:20260208T190153Z
UID:10004147-1771660800-1771666200@capitalnature.org
SUMMARY:Winter Birdwalk at Riverbend
DESCRIPTION:(VA) (Fairfax County Parks) Take a hike through the woods with a naturalist to listen and look for the park’s winter avian residents and migrants. Find out what birds do to survive the winter weather. Feel free to bring your own guides\, binoculars and spotting scopes. Site will have a limited number of supplies for participants to borrow for the duration of the program. Ages 4 to Adult.
URL:https://capitalnature.org/event/winter-birdwalk-at-riverbend/
LOCATION:Riverbend Park\, 8700 Potomac Hills St\, Great Falls\, VA\, 22066\, United States
CATEGORIES:Birds,Family,Nature Observation
END:VEVENT
BEGIN:VEVENT
DTSTART;TZID=America/New_York:20260221T080000
DTEND;TZID=America/New_York:20260221T100000
DTSTAMP:20260424T113827
CREATED:20260206T035556Z
LAST-MODIFIED:20260206T035556Z
UID:10004115-1771660800-1771668000@capitalnature.org
SUMMARY:Winter Birding at Lake Audubon
DESCRIPTION:(VA) (Northern Virginia Bird Alliance) Join Northern Virginia Bird Alliance guides Robin and Luke for a winter birding outing at Lake Audubon! Birders of all experience levels are welcome. The planned walking route includes a mix of woodland trail and paved surfaces\, with both flat and hilly sections.
URL:https://capitalnature.org/event/winter-birding-at-lake-audubon/
LOCATION:Walker Nature Center\, 11450 Glade Drive\, Reston\, VA\, 20191\, United States
CATEGORIES:Birding,Nature Observation,Outdoor Experience
END:VEVENT
BEGIN:VEVENT
DTSTART;TZID=America/New_York:20260221T080000
DTEND;TZID=America/New_York:20260221T100000
DTSTAMP:20260424T113827
CREATED:20260206T203450Z
LAST-MODIFIED:20260206T203513Z
UID:10004119-1771660800-1771668000@capitalnature.org
SUMMARY:Bird Walk at Kingman
DESCRIPTION:(DC) (DC Bird Alliance) Join DC Bird Alliance for a winter bird walk through Kingman and Heritage Islands!
URL:https://capitalnature.org/event/bird-walk-at-kingman-3/
LOCATION:Kingman Island\, United States
CATEGORIES:Birding,Nature Observation,Outdoor Experience
END:VEVENT
BEGIN:VEVENT
DTSTART;TZID=America/New_York:20260221T090000
DTEND;TZID=America/New_York:20260221T110000
DTSTAMP:20260424T113827
CREATED:20260206T204003Z
LAST-MODIFIED:20260206T204003Z
UID:10004120-1771664400-1771671600@capitalnature.org
SUMMARY:Black Hill Hike Club
DESCRIPTION:(MD) (Montgomery Parks) The first rule of Hike Club – have fun! Improve your fitness\, make new friends\, and experience trails and scenery we don’t often make time to immerse ourselves in. We welcome all ages\, though young children must be able to walk at least 3 miles or be carried. Most trails are not stroller accessible and are easy to moderate in difficulty.
URL:https://capitalnature.org/event/black-hill-hike-club/
LOCATION:Black Hill Discovery Center\, 20926 Lake Ridge Drive\, Boyds\, MD\, 20841\, United States
CATEGORIES:Hike,Nature Observation,Social Event
GEO:39.1925249;-77.2961381
X-APPLE-STRUCTURED-LOCATION;VALUE=URI;X-ADDRESS=Black Hill Discovery Center 20926 Lake Ridge Drive Boyds MD 20841 United States;X-APPLE-RADIUS=500;X-TITLE=20926 Lake Ridge Drive:geo:-77.2961381,39.1925249
END:VEVENT
BEGIN:VEVENT
DTSTART;TZID=America/New_York:20260221T110000
DTEND;TZID=America/New_York:20260221T120000
DTSTAMP:20260424T113827
CREATED:20260205T022053Z
LAST-MODIFIED:20260205T022053Z
UID:10004088-1771671600-1771675200@capitalnature.org
SUMMARY:Winter Stream Ecology Hike
DESCRIPTION:(VA) (Arlington Parks) Bundle up and join us for a winter nature hike full of frosty discoveries! Ever wonder what fish do when streams freeze over? How life keeps moving under the ice? On this guided walk\, we’ll explore stream ecology in winter and uncover how aquatic life—especially fish—adapts to survive the freezing temperatures\, slower currents\, and reduced food supply. Teens 16+ welcome with a registered adult.
URL:https://capitalnature.org/event/winter-stream-ecology-hike/
LOCATION:Long Branch Nature Center at Glencarlyn Park\, 625 S Carlin Springs Rd\, Arlington\, VA\, 22204\, United States
CATEGORIES:Nature Observation,Outdoor Experience,Winter
END:VEVENT
BEGIN:VEVENT
DTSTART;TZID=America/New_York:20260222T080000
DTEND;TZID=America/New_York:20260222T100000
DTSTAMP:20260424T113827
CREATED:20260112T042113Z
LAST-MODIFIED:20260112T042113Z
UID:10003963-1771747200-1771754400@capitalnature.org
SUMMARY:Sunday Morning Bird Walk at Dyke Marsh
DESCRIPTION:(VA) (Friends of Dyke Marsh) Join FODM for a bird walk every Sunday at 8 a.m. The Dyke Marsh Wildlife Preserve is a freshwater\, tidal marsh on the Virginia side of the Potomac River in Fairfax County. It is a unit of the George Washington Memorial Parkway\, U.S. National Park Service.
URL:https://capitalnature.org/event/sunday-morning-bird-walk-at-dyke-marsh-20/
LOCATION:Dyke Marsh\, Alexandria\, VA\, 22307\, United States
CATEGORIES:Birding,Nature Observation,Outdoor Experience
END:VEVENT
BEGIN:VEVENT
DTSTART;TZID=America/New_York:20260224T100000
DTEND;TZID=America/New_York:20260224T110000
DTSTAMP:20260424T113827
CREATED:20260207T231957Z
LAST-MODIFIED:20260207T231957Z
UID:10004138-1771927200-1771930800@capitalnature.org
SUMMARY:Winter Walk at Meadowlark
DESCRIPTION:(VA) (NOVA Parks) Enjoy free garden admission and a guided walk around Meadowlark Botanical Gardens’ 95 acres on Tuesdays. Each 75-minute walk will be over uneven\, hilly terrain\, have a positive focus\, and include a silent\, meditative portion and a few interesting facts from our docent along the way. Ages 18 + \nThis is a drop-in program.
URL:https://capitalnature.org/event/winter-walk-at-meadowlark-2/
LOCATION:Meadowlark Botanical Gardens\, 9750 Meadowlark Gardens\, Vienna\, VA\, 22182\, United States
CATEGORIES:Nature Observation,Outdoor Experience,Parks
END:VEVENT
BEGIN:VEVENT
DTSTART;TZID=America/New_York:20260227T090000
DTEND;TZID=America/New_York:20260227T110000
DTSTAMP:20260424T113827
CREATED:20260206T204822Z
LAST-MODIFIED:20260206T204822Z
UID:10004124-1772182800-1772190000@capitalnature.org
SUMMARY:Explore Rachel Carson Conservation Park
DESCRIPTION:(MD) (Montgomery Parks) New to the area or just want to get out for a hike? Explore different parks in Montgomery County with an experienced naturalist. Length of hike and trail difficulty varies from site to site. Today we’ll explore Rachel Carson Conservation Park\, one of the county’s premier conservation areas\, walking through meadows\, forest and along the Hawlings River. The length of this moderate hike depends on the pace and size of the group.
URL:https://capitalnature.org/event/explore-rachel-carson-conservation-park/
LOCATION:Rachel Carson Conservation Park\, 22201 Zion Road\, Olney\, MD\, 20833\, United States
CATEGORIES:Nature Observation,Outdoor Experience,Parks
GEO:39.220022;-77.085897
X-APPLE-STRUCTURED-LOCATION;VALUE=URI;X-ADDRESS=Rachel Carson Conservation Park 22201 Zion Road Olney MD 20833 United States;X-APPLE-RADIUS=500;X-TITLE=22201 Zion Road:geo:-77.085897,39.220022
END:VEVENT
BEGIN:VEVENT
DTSTART;TZID=America/New_York:20260228T080000
DTEND;TZID=America/New_York:20260228T100000
DTSTAMP:20260424T113827
CREATED:20260115T152617Z
LAST-MODIFIED:20260115T152617Z
UID:10004058-1772265600-1772272800@capitalnature.org
SUMMARY:Bird Walk at Kingman
DESCRIPTION:(DC) (DC Bird Alliance) Join DC Bird Alliance for a winter bird walk through Kingman and Heritage Islands!
URL:https://capitalnature.org/event/bird-walk-at-kingman-2/
LOCATION:Kingman Island\, United States
CATEGORIES:Birding,Nature Observation,Outdoor Experience
END:VEVENT
BEGIN:VEVENT
DTSTART;TZID=America/New_York:20260228T100000
DTEND;TZID=America/New_York:20260228T113000
DTSTAMP:20260424T113827
CREATED:20260209T015951Z
LAST-MODIFIED:20260209T015951Z
UID:10004150-1772272800-1772278200@capitalnature.org
SUMMARY:Winter Birdwalk at Eleanor C. Lawrence
DESCRIPTION:(VA) (Fairfax County Parks) Take a hike through the woods with a naturalist to listen and look for the park’s winter avian residents and migrants. Find out what birds do to survive the winter weather. Feel free to bring your own guides\, binoculars and spotting scopes. Site will have a limited number of supplies for participants to borrow for the duration of the program. Ages 4 to Adult.
URL:https://capitalnature.org/event/winter-birdwalk-at-eleanor-c-lawrence/
LOCATION:Ellanor C. Lawrence Park\, 5040 Walney Rd\, Chantilly\, VA\, 20151\, United States
CATEGORIES:Birds,Family,Nature Observation
END:VEVENT
BEGIN:VEVENT
DTSTART;TZID=America/New_York:20260301T140000
DTEND;TZID=America/New_York:20260301T150000
DTSTAMP:20260424T113827
CREATED:20260222T181055Z
LAST-MODIFIED:20260222T202903Z
UID:10004158-1772373600-1772377200@capitalnature.org
SUMMARY:The Amazing World of Vernal Pools (Virtual)
DESCRIPTION:(Capital Nature) (DC) Join Capital Nature and vernal pool champions Mike Hayslett and Steven David Johnson for this special presentation on the temporary freshwater wetlands that emerge after snowmelt. Often overlooked as habitats because of their small size\, they are essential spawning grounds for spotted salamanders\, wood frogs\, fairy shrimp\, and many other creatures! Mike will discuss the ecology and conservation needs of these unique ecosystems. Steven will share his spectacular photographs of vernal pool life.
URL:https://capitalnature.org/event/the-amazing-world-of-vernal-pools-virtual/
LOCATION:VA
CATEGORIES:Conservation,Nature Observation
END:VEVENT
BEGIN:VEVENT
DTSTART;TZID=America/New_York:20260310T083000
DTEND;TZID=America/New_York:20260310T100000
DTSTAMP:20260424T113827
CREATED:20260325T020729Z
LAST-MODIFIED:20260325T020729Z
UID:10004270-1773131400-1773136800@capitalnature.org
SUMMARY:Tuesday Morning Bird Walk at Kenilworth
DESCRIPTION:(DC) (National Park Service) We invite you to join National Park Service volunteer and expert birder Molly Hermann for an engaging bird walk at Kenilworth Aquatic Gardens. This event is open to all\, including those new to birding. We encourage participants to bring water\, sunscreen\, and binoculars if available. A limited number of binoculars are available for loan with a photo ID. \nThe walk will be conducted at a leisurely pace\, covering approximately one mile. We will gather in front of the visitor center\, and the duration of the walk will typically range from 1.5 to 2 hours\, depending on our observations. We look forward to sharing this delightful experience with you!
URL:https://capitalnature.org/event/tuesday-morning-bird-walk-at-kenilworth-5/
LOCATION:Kenilworth Aquatic Gardens\, 1550 Anacostia Ave\, NE\, Washington DC\, 20019\, United States
CATEGORIES:Birds,Nature Observation,Outdoor Experience
END:VEVENT
BEGIN:VEVENT
DTSTART;TZID=America/New_York:20260315T080000
DTEND;TZID=America/New_York:20260315T100000
DTSTAMP:20260424T113827
CREATED:20260325T015903Z
LAST-MODIFIED:20260325T015903Z
UID:10004258-1773561600-1773568800@capitalnature.org
SUMMARY:Sunday Morning Bird Walk at Dyke Marsh
DESCRIPTION:(VA) (Friends of Dyke Marsh) Join FODM for a bird walk every Sunday at 8 a.m. The Dyke Marsh Wildlife Preserve is a freshwater\, tidal marsh on the Virginia side of the Potomac River in Fairfax County. It is a unit of the George Washington Memorial Parkway\, U.S. National Park Service.
URL:https://capitalnature.org/event/sunday-morning-bird-walk-at-dyke-marsh-8/
LOCATION:Dyke Marsh\, Alexandria\, VA\, 22307\, United States
CATEGORIES:Birding,Nature Observation,Outdoor Experience
END:VEVENT
BEGIN:VEVENT
DTSTART;TZID=America/New_York:20260316T080000
DTEND;TZID=America/New_York:20260316T100000
DTSTAMP:20260424T113827
CREATED:20260325T020326Z
LAST-MODIFIED:20260325T020326Z
UID:10004264-1773648000-1773655200@capitalnature.org
SUMMARY:Monday Morning Birdwalk at Huntley Meadows
DESCRIPTION:(VA) (Friends of Huntley Meadows) The Monday Morning Bird Walk is sponsored by the Friends of Huntley Meadows Park and takes place every Monday at 8 a.m. Following the walk\, members of the group gather at the nearby Denny’s for breakfast and to compile the morning’s bird list. All are welcome. \n 
URL:https://capitalnature.org/event/monday-morning-birdwalk-at-huntley-meadows-4/
LOCATION:Huntley Meadows\, 3701 Lockheed Blvd\, Alexandria\, VA\, 22306\, United States
CATEGORIES:Birds,Nature Observation,Outdoor Experience
GEO:38.75372;-77.109302
X-APPLE-STRUCTURED-LOCATION;VALUE=URI;X-ADDRESS=Huntley Meadows 3701 Lockheed Blvd Alexandria VA 22306 United States;X-APPLE-RADIUS=500;X-TITLE=3701 Lockheed Blvd:geo:-77.109302,38.75372
END:VEVENT
BEGIN:VEVENT
DTSTART;TZID=America/New_York:20260321T133000
DTEND;TZID=America/New_York:20260321T150000
DTSTAMP:20260424T113827
CREATED:20260308T222324Z
LAST-MODIFIED:20260308T222324Z
UID:10004168-1774099800-1774105200@capitalnature.org
SUMMARY:Blossoms in America's Backyard
DESCRIPTION:(DC) (Rock Creek Conservancy) This time of year in Washington\, DC is all about the Cherry Blossoms\, but before the cherry trees on the Tidal Basin were a thing\, the roots of DC’s cherry blossom history got planted in the Rock Creek Valley. Come for a short ranger talk about the history of cherry trees in Washington away from the bustle of the Tidal Basin and then enjoy a walk up to 2 miles through some of our trails to see what’s blooming this spring in Rock Creek Park.
URL:https://capitalnature.org/event/blossoms-in-americas-backyard/
LOCATION:Peirce Mill\, 2401 Tilden St NW\, Washington DC\, 20008\, United States
CATEGORIES:History,Nature Observation,Parks
END:VEVENT
BEGIN:VEVENT
DTSTART;TZID=America/New_York:20260327T100000
DTEND;TZID=America/New_York:20260327T123000
DTSTAMP:20260424T113827
CREATED:20260323T150059Z
LAST-MODIFIED:20260323T150059Z
UID:10004202-1774605600-1774614600@capitalnature.org
SUMMARY:Mussel Survey at Kingman Island
DESCRIPTION:(DC) (Anacostia Watershed Society) Join the Anacostia Watershed Society for a wild freshwater mussel survey in Kingman Lake! We will be walking in mud that can be very mucky in waders (AWS can provide you with a pair if you don’t have your own). If you’re not comfortable walking in mud using waders\, we recommend joining us at a different event.
URL:https://capitalnature.org/event/mussel-survey-at-kingman-island/
LOCATION:Driving Range Parking Lot of the Langston Golf Course\, 2556 Benning Rd NE\, Washington\, DC\, 20002\, United States
CATEGORIES:Citizen Science,Conservation,Nature Observation
END:VEVENT
BEGIN:VEVENT
DTSTART;TZID=America/New_York:20260328T080000
DTEND;TZID=America/New_York:20260328T100000
DTSTAMP:20260424T113827
CREATED:20260323T211103Z
LAST-MODIFIED:20260326T010924Z
UID:10004214-1774684800-1774692000@capitalnature.org
SUMMARY:Birding by Ear
DESCRIPTION:(VA) (Northern Virginia Bird Alliance) Join us for Birding by Ear with Colt Gregory and Kris Lansing at Riverbend Park where more than 190 species of birds have been recorded. This FREE bird outing will include a short introduction followed by a walk along a nearby trail to practice identifying birds by their vocalizations.
URL:https://capitalnature.org/event/birding-by-ear-at-riverbend/
LOCATION:Riverbend Park\, 8700 Potomac Hills St\, Great Falls\, VA\, 22066\, United States
CATEGORIES:Birding,Citizen Science,Nature Observation
END:VEVENT
BEGIN:VEVENT
DTSTART;TZID=America/New_York:20260328T080000
DTEND;TZID=America/New_York:20260328T100000
DTSTAMP:20260424T113827
CREATED:20260323T211648Z
LAST-MODIFIED:20260323T211648Z
UID:10004216-1774684800-1774692000@capitalnature.org
SUMMARY:Springtime Birding at Huntley
DESCRIPTION:(VA) (Northern Virginia Bird Alliance) Join us for a spring bird outing at beautiful Huntley Meadows Park! Explore meadows\, woodlands\, and marshes alongside NVBA bird guides Arielle Smith (she/her) and Gabrielle Jennings (she/her)\, who will help you observe and identify bird species the group encounters.
URL:https://capitalnature.org/event/springtime-birding-at-huntley/
LOCATION:Huntley Meadows\, 3701 Lockheed Blvd\, Alexandria\, VA\, 22306\, United States
CATEGORIES:Birds,Citizen Science,Nature Observation
END:VEVENT
BEGIN:VEVENT
DTSTART;TZID=America/New_York:20260328T080000
DTEND;TZID=America/New_York:20260328T100000
DTSTAMP:20260424T113827
CREATED:20260323T212041Z
LAST-MODIFIED:20260323T212041Z
UID:10004217-1774684800-1774692000@capitalnature.org
SUMMARY:Bird Outing to Mason Neck
DESCRIPTION:(VA) (Northern Virginia Bird Alliance) NVBA is partnering with Mason Neck State Park to host regular bird outings every fourth Saturday of the month from. Your guide for these events will be John Colpoys\, an avid birder and experienced bird guide for NVBA. These events are free to attend and open to anyone! Registration is requested\, as it helps us anticipate the number of attendees and communicate if needed. Please see our cancellation policy below.
URL:https://capitalnature.org/event/bird-outing-to-mason-neck/
LOCATION:Mason Neck State Park\, 7301 High Point Rd\, Lorton\, VA\, 22079\, United States
CATEGORIES:Birds,Nature Observation,Outdoor Experience
END:VEVENT
BEGIN:VEVENT
DTSTART;TZID=America/New_York:20260328T100000
DTEND;TZID=America/New_York:20260328T120000
DTSTAMP:20260424T113827
CREATED:20260325T183727Z
LAST-MODIFIED:20260325T183727Z
UID:10004281-1774692000-1774699200@capitalnature.org
SUMMARY:Forest Bathing at Long Branch
DESCRIPTION:(VA) (Arlington Parks) In March and April the wild earth is “springing” all around us. Forest bathing provides a unique way of exploring the natural world by focusing our sense to a keen visceral state. This interactive process can be remarkably restorative. The program will conclude with tea and snacks. Dress for the weather (light rain or shine) and the possibility of sitting on the ground or on a log.
URL:https://capitalnature.org/event/forest-bathing-at-long-branch/
LOCATION:Long Branch Nature Center & Park\, 625 S Carlin Springs Rd\, Arlington\, VA\, 22204\, United States
CATEGORIES:Contemplative,Nature Observation,Outdoor Experience
END:VEVENT
BEGIN:VEVENT
DTSTART;TZID=America/New_York:20260328T110000
DTEND;TZID=America/New_York:20260328T120000
DTSTAMP:20260424T113827
CREATED:20260325T183935Z
LAST-MODIFIED:20260325T183935Z
UID:10004282-1774695600-1774699200@capitalnature.org
SUMMARY:Spring Ephemerals Hike
DESCRIPTION:(VA) (Arlington Parks) Join us for a guided nature walk to discover the beauty of spring ephemerals—those fleeting\, early blooming wildflowers that appear before the forest canopy fills in. These native plants make the most of early spring sunlight and play a vital role in supporting pollinators emerging after winter. Come learn how these short-lived blooms help bring the forest to life! Ages 12 +.
URL:https://capitalnature.org/event/spring-ephemerals-hike/
LOCATION:Gulf Branch Nature Center & Park\, 3608 Military Rd\, Arlington\, VA\, 22207\, United States
CATEGORIES:Family,Nature Observation,Outdoor Experience
END:VEVENT
BEGIN:VEVENT
DTSTART;TZID=America/New_York:20260328T163000
DTEND;TZID=America/New_York:20260328T180000
DTSTAMP:20260424T113827
CREATED:20260324T214744Z
LAST-MODIFIED:20260324T214744Z
UID:10004227-1774715400-1774720800@capitalnature.org
SUMMARY:Art in Nature: Journaling for Adults
DESCRIPTION:(MD) (Montgomery Parks) Learn how to connect with the natural world through the art and science of nature journaling. Nature walks will be apart of this program so participants should be able to walk on natural surface trails\, which may have some steep inclines. Each month there will be a different theme with each session\, for March we will focus on animal skulls\, tracks\, and scat. Ages 16 +
URL:https://capitalnature.org/event/art-in-nature-journaling-for-adults/
LOCATION:Locust Grove Nature Center\, 7777 Democracy Blvd\, Bethesda\, MD\, 20817\, United States
CATEGORIES:Adults,Art,Literary,Nature Observation
END:VEVENT
BEGIN:VEVENT
DTSTART;TZID=America/New_York:20260328T163000
DTEND;TZID=America/New_York:20260328T180000
DTSTAMP:20260424T113827
CREATED:20260324T215035Z
LAST-MODIFIED:20260324T215035Z
UID:10004228-1774715400-1774720800@capitalnature.org
SUMMARY:Art in Nature: Journaling for Kids
DESCRIPTION:(MD) (Montgomery Parks) Kids love being out in nature and through journaling they can learn how to connect with nature even more. Join a naturalist to learn how to truly observe nature around you and how to get those observations and thoughts on paper. After a guided session\, you will have the opportunity to create a nature journal entry on your own. Nature walks will be apart of this program so participants should be able to walk on natural surface trails\, which may have some steep inclines. Each month there will be a different theme with each session\, for March we will focus on skulls\, scat and tracks  Ages 8-15.
URL:https://capitalnature.org/event/art-in-nature-journaling-for-kids/
LOCATION:Locust Grove Nature Center\, 7777 Democracy Blvd\, Bethesda\, MD\, 20817\, United States
CATEGORIES:Art,Children,Literary,Nature Observation
END:VEVENT
END:VCALENDAR