BEGIN:VCALENDAR
VERSION:2.0
PRODID:-//Capital Nature - ECPv6.15.20//NONSGML v1.0//EN
CALSCALE:GREGORIAN
METHOD:PUBLISH
X-WR-CALNAME:Capital Nature
X-ORIGINAL-URL:https://capitalnature.org
X-WR-CALDESC:Events for Capital Nature
REFRESH-INTERVAL;VALUE=DURATION:PT1H
X-Robots-Tag:noindex
X-PUBLISHED-TTL:PT1H
BEGIN:VTIMEZONE
TZID:America/New_York
BEGIN:DAYLIGHT
TZOFFSETFROM:-0500
TZOFFSETTO:-0400
TZNAME:EDT
DTSTART:20250309T070000
END:DAYLIGHT
BEGIN:STANDARD
TZOFFSETFROM:-0400
TZOFFSETTO:-0500
TZNAME:EST
DTSTART:20251102T060000
END:STANDARD
BEGIN:DAYLIGHT
TZOFFSETFROM:-0500
TZOFFSETTO:-0400
TZNAME:EDT
DTSTART:20260308T070000
END:DAYLIGHT
BEGIN:STANDARD
TZOFFSETFROM:-0400
TZOFFSETTO:-0500
TZNAME:EST
DTSTART:20261101T060000
END:STANDARD
BEGIN:DAYLIGHT
TZOFFSETFROM:-0500
TZOFFSETTO:-0400
TZNAME:EDT
DTSTART:20270314T070000
END:DAYLIGHT
BEGIN:STANDARD
TZOFFSETFROM:-0400
TZOFFSETTO:-0500
TZNAME:EST
DTSTART:20271107T060000
END:STANDARD
END:VTIMEZONE
BEGIN:VEVENT
DTSTART;TZID=America/New_York:20260404T070000
DTEND;TZID=America/New_York:20260404T093000
DTSTAMP:20260424T050832
CREATED:20260325T013737Z
LAST-MODIFIED:20260325T013851Z
UID:10004251-1775286000-1775295000@capitalnature.org
SUMMARY:Beauty of Bluebells Walk
DESCRIPTION:(VA) (NOVA Parks) Experience the magic and wonder of the Bluebell Trail in its full glory! Take a relaxing stroll on Bull Run Regional Park’s most famous trail while being enveloped by a sea of blue. Learn about spring ephemeral plants such as the Virginia Bluebell and why these fleeting flowers bloom for such a short time. Ages 8+
URL:https://capitalnature.org/event/beauty-of-bluebells-walk-2/
LOCATION:Bull Run Regional Park\, 7700 Bull Run Drive\, Centreville\, VA\, 20121\, United States
CATEGORIES:Nature Observation,Outdoor Experience,Plants
END:VEVENT
BEGIN:VEVENT
DTSTART;TZID=America/New_York:20260404T080000
DTEND;TZID=America/New_York:20260404T100000
DTSTAMP:20260424T050832
CREATED:20260323T210205Z
LAST-MODIFIED:20260323T210205Z
UID:10004212-1775289600-1775296800@capitalnature.org
SUMMARY:Bird Walk at Kingman
DESCRIPTION:(DC) (DC Bird Alliance) Join DC Bird Alliance for a relaxed\, guided bird walk on Kingman Island. We’ll move at an easy pace\, pause often to observe birds\, and explore the island’s unique habitats together. This walk is open to all experience levels. Bring binoculars if you have them (we have a few to spare)\, curiosity if you don’t\, and enjoy time outdoors noticing birds and nature in community.
URL:https://capitalnature.org/event/bird-walk-at-kingman-4/
LOCATION:Kingman and Heritage Islands Park\, 575 Oklahoma Ave NE\, Washington DC\, 20002\, United States
CATEGORIES:Birding,Nature Observation,Outdoor Experience
END:VEVENT
BEGIN:VEVENT
DTSTART;TZID=America/New_York:20260404T183000
DTEND;TZID=America/New_York:20260404T200000
DTSTAMP:20260424T050832
CREATED:20260324T235139Z
LAST-MODIFIED:20260324T235139Z
UID:10004237-1775327400-1775332800@capitalnature.org
SUMMARY:Gong and Frog Sound Bath
DESCRIPTION:(MD) (Montgomery Parks) Immerse yourself in the vibrations of nature\, channeled through the ancient instrument of gong. Deep vibrations will resonate with the natural environment and serve as a sonic massage on the body\, mind\, and spirit. Then\, we’ll hop into the expanse of nature to follow the calls of frogs into the park. Ages 9 +.
URL:https://capitalnature.org/event/gong-and-frog-sound-bath/
LOCATION:Meadowside Nature Center\, 5100 Meadowside Lane\, United States
CATEGORIES:Contemplative,Nature Observation
END:VEVENT
BEGIN:VEVENT
DTSTART;TZID=America/New_York:20260404T193000
DTEND;TZID=America/New_York:20260404T210000
DTSTAMP:20260424T050832
CREATED:20260324T234832Z
LAST-MODIFIED:20260324T234832Z
UID:10004236-1775331000-1775336400@capitalnature.org
SUMMARY:Community Science Night
DESCRIPTION:(MD) (Montgomery Parks) Are you interested in learning about local wildlife and helping out nature. Then check out our Community Science program at Locust Grove Nature Center. Nighttime is often the best chance to encounter wildlife such as owls\, foxes\, bats\, and frogs. Join a Naturalist for a guided wildlife-monitoring walk and help document the species that make their home here. Each session introduces participants to the iNaturalist app (please download ahead of time)\, which we’ll use to record photos and sounds of the plants and animals we discover.  Ages 16 +.
URL:https://capitalnature.org/event/community-science-night/
LOCATION:Locust Grove Nature Center\, 7777 Democracy Blvd\, Bethesda\, MD\, 20817\, United States
CATEGORIES:Citizen Science,Classes & Workshops,Nature Observation
END:VEVENT
END:VCALENDAR