BEGIN:VCALENDAR
VERSION:2.0
PRODID:-//Capital Nature - ECPv6.15.20//NONSGML v1.0//EN
CALSCALE:GREGORIAN
METHOD:PUBLISH
X-ORIGINAL-URL:https://capitalnature.org
X-WR-CALDESC:Events for Capital Nature
REFRESH-INTERVAL;VALUE=DURATION:PT1H
X-Robots-Tag:noindex
X-PUBLISHED-TTL:PT1H
BEGIN:VTIMEZONE
TZID:America/New_York
BEGIN:DAYLIGHT
TZOFFSETFROM:-0500
TZOFFSETTO:-0400
TZNAME:EDT
DTSTART:20250309T070000
END:DAYLIGHT
BEGIN:STANDARD
TZOFFSETFROM:-0400
TZOFFSETTO:-0500
TZNAME:EST
DTSTART:20251102T060000
END:STANDARD
BEGIN:DAYLIGHT
TZOFFSETFROM:-0500
TZOFFSETTO:-0400
TZNAME:EDT
DTSTART:20260308T070000
END:DAYLIGHT
BEGIN:STANDARD
TZOFFSETFROM:-0400
TZOFFSETTO:-0500
TZNAME:EST
DTSTART:20261101T060000
END:STANDARD
BEGIN:DAYLIGHT
TZOFFSETFROM:-0500
TZOFFSETTO:-0400
TZNAME:EDT
DTSTART:20270314T070000
END:DAYLIGHT
BEGIN:STANDARD
TZOFFSETFROM:-0400
TZOFFSETTO:-0500
TZNAME:EST
DTSTART:20271107T060000
END:STANDARD
END:VTIMEZONE
BEGIN:VEVENT
DTSTART;TZID=America/New_York:20260124T130000
DTEND;TZID=America/New_York:20260124T143000
DTSTAMP:20260424T130008
CREATED:20260113T191744Z
LAST-MODIFIED:20260113T191744Z
UID:10003978-1769259600-1769265000@capitalnature.org
SUMMARY:Spy Hike
DESCRIPTION:(DC) (National Park Service) Does a cold winter’s day in Washington have you picturing furtive meetings between shadowy characters under overcast skies? Running along Embassy Row\, Rock Creek Park has been the site of spy stories and neighbor to many spies. Join a Park Ranger for a 2.5 mile hike through Rock Creek and learn the story of spies in America’s Back Yard. \nMeet the Ranger by Peirce Mill Barn. 
URL:https://capitalnature.org/event/spy-hike/
LOCATION:Peirce Mill\, 2401 Tilden St NW\, Washington DC\, 20008\, United States
CATEGORIES:Hike,History,Social & Cultural
END:VEVENT
END:VCALENDAR