BEGIN:VCALENDAR
VERSION:2.0
PRODID:-//Capital Nature - ECPv6.15.20//NONSGML v1.0//EN
CALSCALE:GREGORIAN
METHOD:PUBLISH
X-ORIGINAL-URL:https://capitalnature.org
X-WR-CALDESC:Events for Capital Nature
REFRESH-INTERVAL;VALUE=DURATION:PT1H
X-Robots-Tag:noindex
X-PUBLISHED-TTL:PT1H
BEGIN:VTIMEZONE
TZID:America/New_York
BEGIN:DAYLIGHT
TZOFFSETFROM:-0500
TZOFFSETTO:-0400
TZNAME:EDT
DTSTART:20250309T070000
END:DAYLIGHT
BEGIN:STANDARD
TZOFFSETFROM:-0400
TZOFFSETTO:-0500
TZNAME:EST
DTSTART:20251102T060000
END:STANDARD
BEGIN:DAYLIGHT
TZOFFSETFROM:-0500
TZOFFSETTO:-0400
TZNAME:EDT
DTSTART:20260308T070000
END:DAYLIGHT
BEGIN:STANDARD
TZOFFSETFROM:-0400
TZOFFSETTO:-0500
TZNAME:EST
DTSTART:20261101T060000
END:STANDARD
BEGIN:DAYLIGHT
TZOFFSETFROM:-0500
TZOFFSETTO:-0400
TZNAME:EDT
DTSTART:20270314T070000
END:DAYLIGHT
BEGIN:STANDARD
TZOFFSETFROM:-0400
TZOFFSETTO:-0500
TZNAME:EST
DTSTART:20271107T060000
END:STANDARD
END:VTIMEZONE
BEGIN:VEVENT
DTSTART;TZID=America/New_York:20260401T190000
DTEND;TZID=America/New_York:20260401T203000
DTSTAMP:20260424T184253
CREATED:20260324T233820Z
LAST-MODIFIED:20260324T233820Z
UID:10004233-1775070000-1775075400@capitalnature.org
SUMMARY:Cultivating Ecology: A Practical Guide (Virtual)
DESCRIPTION:(MD) (Montgomery Parks) Discover practical ways to transform your yard into a thriving\, sustainable landscape. Drawing from the presenter’s own garden\, this talk explores phased planning\, habitat-rich garden bed design\, and how to choose native plants suited to your conditions. Learn actionable strategies that increase ecological value\, support wildlife\, and help you move confidently toward eco-friendly gardening practices. \nDrew Asbury\, Brookside Gardens Horticulturist
URL:https://capitalnature.org/event/cultivating-ecology-a-practical-guide-virtual/
CATEGORIES:Classes & Workshops,Conservation,Gardening for Wildlife
END:VEVENT
END:VCALENDAR