BEGIN:VCALENDAR
VERSION:2.0
PRODID:-//Capital Nature - ECPv6.15.20//NONSGML v1.0//EN
CALSCALE:GREGORIAN
METHOD:PUBLISH
X-ORIGINAL-URL:https://capitalnature.org
X-WR-CALDESC:Events for Capital Nature
REFRESH-INTERVAL;VALUE=DURATION:PT1H
X-Robots-Tag:noindex
X-PUBLISHED-TTL:PT1H
BEGIN:VTIMEZONE
TZID:America/New_York
BEGIN:DAYLIGHT
TZOFFSETFROM:-0500
TZOFFSETTO:-0400
TZNAME:EDT
DTSTART:20250309T070000
END:DAYLIGHT
BEGIN:STANDARD
TZOFFSETFROM:-0400
TZOFFSETTO:-0500
TZNAME:EST
DTSTART:20251102T060000
END:STANDARD
BEGIN:DAYLIGHT
TZOFFSETFROM:-0500
TZOFFSETTO:-0400
TZNAME:EDT
DTSTART:20260308T070000
END:DAYLIGHT
BEGIN:STANDARD
TZOFFSETFROM:-0400
TZOFFSETTO:-0500
TZNAME:EST
DTSTART:20261101T060000
END:STANDARD
BEGIN:DAYLIGHT
TZOFFSETFROM:-0500
TZOFFSETTO:-0400
TZNAME:EDT
DTSTART:20270314T070000
END:DAYLIGHT
BEGIN:STANDARD
TZOFFSETFROM:-0400
TZOFFSETTO:-0500
TZNAME:EST
DTSTART:20271107T060000
END:STANDARD
END:VTIMEZONE
BEGIN:VEVENT
DTSTART;TZID=America/New_York:20260426T100000
DTEND;TZID=America/New_York:20260426T140000
DTSTAMP:20260424T110312
CREATED:20260416T014258Z
LAST-MODIFIED:20260416T014258Z
UID:10004332-1777197600-1777212000@capitalnature.org
SUMMARY:Earth Day at Brookside Gardens
DESCRIPTION:(MD) (Montgomery Parks) Celebrate Earth Day at Brookside with activities and performances entirely geared toward families. Little ones can try out being a naturalist and learn how to pot a plant — and take said potted plant home\, while supplies last. Watch live science experiments with the Science Guys of Baltimore during the first half of the event\, and then a set from children’s music band L-M-N-O-People. Join the Science Guys to make science fun\, cool\, and easy with bubbling potions\, chemical reactions\, and explosions!  Explore the science and art of sustainability through child-driven projects\, plantings\, and crafts.
URL:https://capitalnature.org/event/earth-day-at-brookside-gardens/
LOCATION:Brookside Gardens\, 1800 Glenallan Avenue\, Wheaton\, MD\, 20902\, United States
CATEGORIES:Family,Garden Experience,Nature Play
GEO:39.0581511;-77.0373745
X-APPLE-STRUCTURED-LOCATION;VALUE=URI;X-ADDRESS=Brookside Gardens 1800 Glenallan Avenue Wheaton MD 20902 United States;X-APPLE-RADIUS=500;X-TITLE=1800 Glenallan Avenue:geo:-77.0373745,39.0581511
END:VEVENT
END:VCALENDAR