BEGIN:VCALENDAR
VERSION:2.0
PRODID:-//Capital Nature - ECPv6.15.20//NONSGML v1.0//EN
CALSCALE:GREGORIAN
METHOD:PUBLISH
X-WR-CALNAME:Capital Nature
X-ORIGINAL-URL:https://capitalnature.org
X-WR-CALDESC:Events for Capital Nature
REFRESH-INTERVAL;VALUE=DURATION:PT1H
X-Robots-Tag:noindex
X-PUBLISHED-TTL:PT1H
BEGIN:VTIMEZONE
TZID:America/New_York
BEGIN:DAYLIGHT
TZOFFSETFROM:-0500
TZOFFSETTO:-0400
TZNAME:EDT
DTSTART:20250309T070000
END:DAYLIGHT
BEGIN:STANDARD
TZOFFSETFROM:-0400
TZOFFSETTO:-0500
TZNAME:EST
DTSTART:20251102T060000
END:STANDARD
BEGIN:DAYLIGHT
TZOFFSETFROM:-0500
TZOFFSETTO:-0400
TZNAME:EDT
DTSTART:20260308T070000
END:DAYLIGHT
BEGIN:STANDARD
TZOFFSETFROM:-0400
TZOFFSETTO:-0500
TZNAME:EST
DTSTART:20261101T060000
END:STANDARD
BEGIN:DAYLIGHT
TZOFFSETFROM:-0500
TZOFFSETTO:-0400
TZNAME:EDT
DTSTART:20270314T070000
END:DAYLIGHT
BEGIN:STANDARD
TZOFFSETFROM:-0400
TZOFFSETTO:-0500
TZNAME:EST
DTSTART:20271107T060000
END:STANDARD
END:VTIMEZONE
BEGIN:VEVENT
DTSTART;TZID=America/New_York:20260201T133000
DTEND;TZID=America/New_York:20260201T143000
DTSTAMP:20260424T092906
CREATED:20260114T215154Z
LAST-MODIFIED:20260114T215154Z
UID:10004039-1769952600-1769956200@capitalnature.org
SUMMARY:Moon Gardens
DESCRIPTION:(VA) (Fairfax County Parks) Designed as a tranquil\, rejuvenating retreat for the end of the day\, a moon garden comes to life at twilight and into the night. Discover with Green Spring horticulturist\, Pam Smith\, how to cultivate this serene space with plants that glow softly in the dark and foliage that shimmers in the moonlight. Ages 16 to Adult.
URL:https://capitalnature.org/event/moon-gardens/
LOCATION:Green Spring Gardens\, 4603 Green Spring Rd\, United States
CATEGORIES:Classes & Workshops,Garden Experience
END:VEVENT
END:VCALENDAR