BEGIN:VCALENDAR
VERSION:2.0
PRODID:-//Capital Nature - ECPv6.15.20//NONSGML v1.0//EN
CALSCALE:GREGORIAN
METHOD:PUBLISH
X-ORIGINAL-URL:https://capitalnature.org
X-WR-CALDESC:Events for Capital Nature
REFRESH-INTERVAL;VALUE=DURATION:PT1H
X-Robots-Tag:noindex
X-PUBLISHED-TTL:PT1H
BEGIN:VTIMEZONE
TZID:America/New_York
BEGIN:DAYLIGHT
TZOFFSETFROM:-0500
TZOFFSETTO:-0400
TZNAME:EDT
DTSTART:20250309T070000
END:DAYLIGHT
BEGIN:STANDARD
TZOFFSETFROM:-0400
TZOFFSETTO:-0500
TZNAME:EST
DTSTART:20251102T060000
END:STANDARD
BEGIN:DAYLIGHT
TZOFFSETFROM:-0500
TZOFFSETTO:-0400
TZNAME:EDT
DTSTART:20260308T070000
END:DAYLIGHT
BEGIN:STANDARD
TZOFFSETFROM:-0400
TZOFFSETTO:-0500
TZNAME:EST
DTSTART:20261101T060000
END:STANDARD
BEGIN:DAYLIGHT
TZOFFSETFROM:-0500
TZOFFSETTO:-0400
TZNAME:EDT
DTSTART:20270314T070000
END:DAYLIGHT
BEGIN:STANDARD
TZOFFSETFROM:-0400
TZOFFSETTO:-0500
TZNAME:EST
DTSTART:20271107T060000
END:STANDARD
END:VTIMEZONE
BEGIN:VEVENT
DTSTART;TZID=America/New_York:20260419T090000
DTEND;TZID=America/New_York:20260419T120000
DTSTAMP:20260424T080130
CREATED:20260412T235914Z
LAST-MODIFIED:20260412T235914Z
UID:10004316-1776589200-1776600000@capitalnature.org
SUMMARY:Junior Rangers Rise!
DESCRIPTION:(DC) (National Park Service) Celebrate Freedom 250 at Rock Creek Park with Junior Rangers Rise! Caring for Parks\, Caring for the Future—a two-day\, family-friendly event that connects 250 years of American history to the next generation of park stewards. Through hands-on activities\, ranger-led programs\, and interactive experiences\, participants will discover how curiosity\, caring for nature\, and everyday actions can carry these ideals forward. \n 
URL:https://capitalnature.org/event/junior-rangers-rise/
LOCATION:Rock Creek Nature Center\, 5200 Glover Rd NW\, Washington\, 20015\, United States
CATEGORIES:Family,Natural History,Nature Play
GEO:38.9599553;-77.0516936
X-APPLE-STRUCTURED-LOCATION;VALUE=URI;X-ADDRESS=Rock Creek Nature Center 5200 Glover Rd NW Washington 20015 United States;X-APPLE-RADIUS=500;X-TITLE=5200 Glover Rd NW:geo:-77.0516936,38.9599553
END:VEVENT
BEGIN:VEVENT
DTSTART;TZID=America/New_York:20260418T110000
DTEND;TZID=America/New_York:20260418T140000
DTSTAMP:20260424T080130
CREATED:20260412T011833Z
LAST-MODIFIED:20260412T011833Z
UID:10004291-1776510000-1776520800@capitalnature.org
SUMMARY:Spring Greening Fair
DESCRIPTION:(DC) (Anacostia Parks and Community Collaborative) Join us for a free Earth Day celebration! Enjoy arts\, crafts\, and family activities! Discover practical ways to care for trees\, remove invasive vines\, and protect your home from climate impacts. Reduce energy use and save money on your utility bills!
URL:https://capitalnature.org/event/spring-greening-fair/
LOCATION:Lederer Youth Gardens\, 4801 Nannie Helen Burroughs Ave NE\, Washington\, DC\, 20019
CATEGORIES:Family,Garden Experience,Stewardship
END:VEVENT
BEGIN:VEVENT
DTSTART;TZID=America/New_York:20260418T100000
DTEND;TZID=America/New_York:20260418T140000
DTSTAMP:20260424T080130
CREATED:20260416T012003Z
LAST-MODIFIED:20260416T012003Z
UID:10004327-1776506400-1776520800@capitalnature.org
SUMMARY:Anacostia Museum "Unplugged" Day
DESCRIPTION:(DC) (Smithsonian) Join the Smithsonian’s Anacostia Community Museum for A Day Unplugged\, a family-friendly program inviting guests to slow down\, reconnect with nature\, and celebrate the start of the growing season. Participants will learn the art of Creating the Perfect Container Garden\, a hands-on workshop led by garden facilitator Derek Thomas\, who will demonstrate how to grow vegetables\, herbs\, or ornamental plants in small spaces. Whether you have a balcony\, porch\, or windowsill or consider yourself “earth challenged”; this workshop will show how simple it can be to create a thriving container garden. Families can also enjoy story time for youth and a noon-day sound bath immersion designed to inspire reflection on the beauty of being and encourage personal and communal balance through mindful and sustainable practices.
URL:https://capitalnature.org/event/anacostia-museum-unplugged-day/
LOCATION:Smithsonian’s Anacostia Community Museum\, 1901 Fort Pl\, SE\, Washington\, DC\, 20020\, United States
CATEGORIES:Family,Gardens,Outdoor Experience,Social & Cultural
ORGANIZER;CN="Smithsonian Anacostia Community Museum":MAILTO:CamachoAM@si.edu
GEO:38.8564918;-76.9768175
X-APPLE-STRUCTURED-LOCATION;VALUE=URI;X-ADDRESS=Smithsonian’s Anacostia Community Museum 1901 Fort Pl SE Washington DC 20020 United States;X-APPLE-RADIUS=500;X-TITLE=1901 Fort Pl\, SE:geo:-76.9768175,38.8564918
END:VEVENT
BEGIN:VEVENT
DTSTART;VALUE=DATE:20260413
DTEND;VALUE=DATE:20260418
DTSTAMP:20260424T080130
CREATED:20260412T011304Z
LAST-MODIFIED:20260412T011344Z
UID:10004290-1776038400-1776470399@capitalnature.org
SUMMARY:Spring Break Naturefest at Anacostia Park
DESCRIPTION:(DC) (Friends of Anacostia Park) Join us for a week full of family fun and activities in Anacostia Park. Events include Yay Nature Day\, Live Animals\, Art in the Park\, fishing\, skating and boat trips! And skating!
URL:https://capitalnature.org/event/spring-break-naturefest-at-anacostia-park/
LOCATION:Anacostia Park Skating Pavillion\, 1500 Anacostia Dr SE\, Washington\, DC\, 20020\, United States
CATEGORIES:Children,Family,Outdoor Experience
END:VEVENT
BEGIN:VEVENT
DTSTART;TZID=America/New_York:20260408T100000
DTEND;TZID=America/New_York:20260408T110000
DTSTAMP:20260424T080130
CREATED:20260324T235646Z
LAST-MODIFIED:20260324T235646Z
UID:10004238-1775642400-1775646000@capitalnature.org
SUMMARY:Baby and Me Nature Walk
DESCRIPTION:(MD) (Montgomery Parks) Studies show that babies as young as a few weeks old thrive with daily outside time. Join us for a guided nature walk on the trails of Cabin John Park. Get to know other local parents and caregivers while enjoying the fresh and spending quality time with baby. Trails are not stroller accessible so baby must be in a carrier. \nSix Wednesdays\, April 8 – May 13\, 2026
URL:https://capitalnature.org/event/baby-and-me-nature-walk/
LOCATION:Locust Grove Nature Center\, 7777 Democracy Blvd\, Bethesda\, MD\, 20817\, United States
CATEGORIES:Family,Outdoor Experience
END:VEVENT
BEGIN:VEVENT
DTSTART;TZID=America/New_York:20260330T100000
DTEND;TZID=America/New_York:20260330T120000
DTSTAMP:20260424T080130
CREATED:20260308T231345Z
LAST-MODIFIED:20260308T231345Z
UID:10004184-1774864800-1774872000@capitalnature.org
SUMMARY:Exploring Leaf Shapes
DESCRIPTION:(DC) (US Botanic Garden) Join Lilly Andersen\, USBG Family Education Specialist as you observe leaves of different shapes and sizes while considering the question: Why do leaves come in so many different forms? Learn to recognize patterns between the shapes and structures of leaves from a wide variety of plants\, and then use your new knowledge to explore the Garden with a new perspective.
URL:https://capitalnature.org/event/exploring-leaf-shapes/
LOCATION:US Botanic Garden\, 100 Maryland Ave SW\, Washington DC\, 20001\, United States
CATEGORIES:Classes & Workshops,Family,Plants
END:VEVENT
BEGIN:VEVENT
DTSTART;TZID=America/New_York:20260329T120000
DTEND;TZID=America/New_York:20260329T150000
DTSTAMP:20260424T080130
CREATED:20260323T144342Z
LAST-MODIFIED:20260323T144342Z
UID:10004197-1774785600-1774796400@capitalnature.org
SUMMARY:Oxon Run Pinknic & Kite Fly
DESCRIPTION:(DC) (Friends of Oxon Run) Soar into spring at the Oxon Run Pinknic & Kite Fly on March 29\, 2026\, at Oxon Run Park in Ward 8! Enjoy a day of kites\, culture\, exciting activities\, and community crafts for all ages. Explore the Ward 8 vendor market\, connect with neighbors\, and experience the joy of spring in a vibrant and welcoming atmosphere. Stay tuned for even more activities coming soon—don’t miss this unforgettable celebration!
URL:https://capitalnature.org/event/oxon-run-pinknic-kite-fly/
LOCATION:Oxon Run Park\, 1200 Mississippi Ave SE\, Washington DC\, 20032\, United States
CATEGORIES:Family,Social and Cultural
ORGANIZER;CN="Friends of Oxon Run":MAILTO:brendarichardson724@gmail.com
GEO:38.8397177;-76.9900006
X-APPLE-STRUCTURED-LOCATION;VALUE=URI;X-ADDRESS=Oxon Run Park 1200 Mississippi Ave SE Washington DC 20032 United States;X-APPLE-RADIUS=500;X-TITLE=1200 Mississippi Ave SE:geo:-76.9900006,38.8397177
END:VEVENT
BEGIN:VEVENT
DTSTART;TZID=America/New_York:20260329T100000
DTEND;TZID=America/New_York:20260329T130000
DTSTAMP:20260424T080130
CREATED:20260326T010349Z
LAST-MODIFIED:20260326T010349Z
UID:10004285-1774778400-1774789200@capitalnature.org
SUMMARY:Bloom Break at NBM
DESCRIPTION:(DC) (National Building Museum) Celebrate spring and the city’s cherry blossoms at the National Building Museum with Japanese-inspired creativity. The program features hands-on activities centered on language exploration\, paper craft\, and illustration\, along with a short koto and shamisen performance showcasing traditional Japanese music.
URL:https://capitalnature.org/event/bloom-break-at-nbm/
LOCATION:National Building Museum\, 401 F Street NW\, Washington\, DC\, 20001\, United States
CATEGORIES:Art,Family,Social & Cultural
GEO:38.8976815;-77.0181029
X-APPLE-STRUCTURED-LOCATION;VALUE=URI;X-ADDRESS=National Building Museum 401 F Street NW Washington DC 20001 United States;X-APPLE-RADIUS=500;X-TITLE=401 F Street NW:geo:-77.0181029,38.8976815
END:VEVENT
BEGIN:VEVENT
DTSTART;TZID=America/New_York:20260328T110000
DTEND;TZID=America/New_York:20260328T120000
DTSTAMP:20260424T080130
CREATED:20260325T183935Z
LAST-MODIFIED:20260325T183935Z
UID:10004282-1774695600-1774699200@capitalnature.org
SUMMARY:Spring Ephemerals Hike
DESCRIPTION:(VA) (Arlington Parks) Join us for a guided nature walk to discover the beauty of spring ephemerals—those fleeting\, early blooming wildflowers that appear before the forest canopy fills in. These native plants make the most of early spring sunlight and play a vital role in supporting pollinators emerging after winter. Come learn how these short-lived blooms help bring the forest to life! Ages 12 +.
URL:https://capitalnature.org/event/spring-ephemerals-hike/
LOCATION:Gulf Branch Nature Center & Park\, 3608 Military Rd\, Arlington\, VA\, 22207\, United States
CATEGORIES:Family,Nature Observation,Outdoor Experience
END:VEVENT
BEGIN:VEVENT
DTSTART;TZID=America/New_York:20260328T100000
DTEND;TZID=America/New_York:20260328T160000
DTSTAMP:20260424T080130
CREATED:20260323T144102Z
LAST-MODIFIED:20260323T144102Z
UID:10004196-1774692000-1774713600@capitalnature.org
SUMMARY:Blossom Kite Festival
DESCRIPTION:(DC) (National Park Service) Join us at the Washington Monument Grounds with soaring activities\, music\, competitions\, and performances. Kite enthusiasts\, beginners\, families\, and friends are all welcome. The Blossom Kite Festival is one of the most vibrant and unique celebrations on the Mall\, with family-friendly kitemaking activities\, musical performances\, and more. Pack a picnic\, and launch your kite among thousands of other participants. Check the schedule below for details.
URL:https://capitalnature.org/event/blossom-kite-festival/
LOCATION:Washington Monument Grounds\, 2 15th St NW\, Washington\, DC\, 20024\, United States
CATEGORIES:Family,Social and Cultural
GEO:38.8894839;-77.0352791
X-APPLE-STRUCTURED-LOCATION;VALUE=URI;X-ADDRESS=Washington Monument Grounds 2 15th St NW Washington DC 20024 United States;X-APPLE-RADIUS=500;X-TITLE=2 15th St NW:geo:-77.0352791,38.8894839
END:VEVENT
BEGIN:VEVENT
DTSTART;TZID=America/New_York:20260327T193000
DTEND;TZID=America/New_York:20260327T203000
DTSTAMP:20260424T080130
CREATED:20260325T183455Z
LAST-MODIFIED:20260325T183455Z
UID:10004280-1774639800-1774643400@capitalnature.org
SUMMARY:Nocturnal Animal Hike
DESCRIPTION:(VA) (Arlington Parks) Learn about the animals active at night (nocturnal) and try to find some! There will be a short introductory presentation in the nature center followed by a hike outside around the park. We will stay on the walking paths; dress for the weather. Families.
URL:https://capitalnature.org/event/nocturnal-animal-hike-3/
LOCATION:Gulf Branch Nature Center & Park\, 3608 Military Rd\, Arlington\, VA\, 22207\, United States
CATEGORIES:Animals,Family,Outdoor Experience
END:VEVENT
BEGIN:VEVENT
DTSTART;TZID=America/New_York:20260321T110000
DTEND;TZID=America/New_York:20260321T130000
DTSTAMP:20260424T080130
CREATED:20260308T232302Z
LAST-MODIFIED:20260309T173235Z
UID:10004185-1774090800-1774098000@capitalnature.org
SUMMARY:Celebrate the Natural Heritage of Deanwood
DESCRIPTION:(DC) (DC Public Library) It’s Spring! Join Capital Nature\, Young\, Gifted & Green\, and Deanwood Library for a multi-generational celebration of Deanwood’s natural environment. Hear from individuals – past and present – who are helping keep Deanwood green and beautiful. We will have activities for children and adults. This program is brought to us by Capitol Nature and Young\, Gifted & Green. Refreshments will be served by the Deanwood Citizens Association.
URL:https://capitalnature.org/event/celebrate-the-natural-heritage-of-deanwood/
LOCATION:Deanwood Neighborhood Library\, 1350 49th St NE\, Washington\, DC\, 20019\, United States
CATEGORIES:Family,Natural History,Social and Cultural
ORGANIZER;CN="DC Public Library":MAILTO:info@dc.gov
GEO:38.9084473;-76.9323466
X-APPLE-STRUCTURED-LOCATION;VALUE=URI;X-ADDRESS=Deanwood Neighborhood Library 1350 49th St NE Washington DC 20019 United States;X-APPLE-RADIUS=500;X-TITLE=1350 49th St NE:geo:-76.9323466,38.9084473
END:VEVENT
BEGIN:VEVENT
DTSTART;TZID=America/New_York:20260313T140000
DTEND;TZID=America/New_York:20260313T160000
DTSTAMP:20260424T080130
CREATED:20260308T230423Z
LAST-MODIFIED:20260308T230423Z
UID:10004181-1773410400-1773417600@capitalnature.org
SUMMARY:Fruit to Poop: A Seed's Journey
DESCRIPTION:(DC) (US Botanic Garden) What’s the connection between fruit and poop? Join Lilly Andersen\, USBG Family Education Specialist\, and and USBG volunteers to explore how plants and animals help each other and the relationship between plants making fruit and animals eating that fruit. Think and learn about what makes a fruit a fruit\, why fruits tend to taste sweet\, and why it benefits plants when animals eat their fruits.
URL:https://capitalnature.org/event/fruit-to-poop-a-seeds-journey/
LOCATION:US Botanic Garden\, 100 Maryland Ave SW\, Washington DC\, 20001\, United States
CATEGORIES:Classes & Workshops,Family,Plants
END:VEVENT
BEGIN:VEVENT
DTSTART;TZID=America/New_York:20260228T140000
DTEND;TZID=America/New_York:20260228T150000
DTSTAMP:20260424T080130
CREATED:20260207T232054Z
LAST-MODIFIED:20260207T232054Z
UID:10004139-1772287200-1772290800@capitalnature.org
SUMMARY:Frog Frenzy
DESCRIPTION:(VA) (NOVA Parks) What’s that sound? Wood frogs abound! These woodland amphibians are a welcoming sign that spring is just around the corner. See (and hear) some of these ribbeting animals at Potomac Overlook’s frog pond\, and learn about a fascinating adaptation that helps them survive the cold winter. Ages 5 +
URL:https://capitalnature.org/event/frog-frenzy-2/
LOCATION:Potomac Overlook Regional Park\, 2845 N. Marcey Road\, Arlington\, VA\, 22207\, United States
CATEGORIES:Animals,Classes & Workshops,Family
END:VEVENT
BEGIN:VEVENT
DTSTART;TZID=America/New_York:20260228T100000
DTEND;TZID=America/New_York:20260228T113000
DTSTAMP:20260424T080130
CREATED:20260209T015951Z
LAST-MODIFIED:20260209T015951Z
UID:10004150-1772272800-1772278200@capitalnature.org
SUMMARY:Winter Birdwalk at Eleanor C. Lawrence
DESCRIPTION:(VA) (Fairfax County Parks) Take a hike through the woods with a naturalist to listen and look for the park’s winter avian residents and migrants. Find out what birds do to survive the winter weather. Feel free to bring your own guides\, binoculars and spotting scopes. Site will have a limited number of supplies for participants to borrow for the duration of the program. Ages 4 to Adult.
URL:https://capitalnature.org/event/winter-birdwalk-at-eleanor-c-lawrence/
LOCATION:Ellanor C. Lawrence Park\, 5040 Walney Rd\, Chantilly\, VA\, 20151\, United States
CATEGORIES:Birds,Family,Nature Observation
END:VEVENT
BEGIN:VEVENT
DTSTART;TZID=America/New_York:20260221T140000
DTEND;TZID=America/New_York:20260221T150000
DTSTAMP:20260424T080130
CREATED:20260207T231847Z
LAST-MODIFIED:20260207T231847Z
UID:10004137-1771682400-1771686000@capitalnature.org
SUMMARY:Frog Frenzy
DESCRIPTION:(VA) (NOVA Parks) What’s that sound? Wood frogs abound! These woodland amphibians are a welcoming sign that spring is just around the corner. See (and hear) some of these ribbeting animals at Potomac Overlook’s frog pond\, and learn about a fascinating adaptation that helps them survive the cold winter. Ages 5 +
URL:https://capitalnature.org/event/frog-frenzy/
LOCATION:Potomac Overlook Regional Park\, 2845 N. Marcey Road\, Arlington\, VA\, 22207\, United States
CATEGORIES:Animals,Classes & Workshops,Family
END:VEVENT
BEGIN:VEVENT
DTSTART;TZID=America/New_York:20260221T080000
DTEND;TZID=America/New_York:20260221T093000
DTSTAMP:20260424T080130
CREATED:20260208T190111Z
LAST-MODIFIED:20260208T190153Z
UID:10004147-1771660800-1771666200@capitalnature.org
SUMMARY:Winter Birdwalk at Riverbend
DESCRIPTION:(VA) (Fairfax County Parks) Take a hike through the woods with a naturalist to listen and look for the park’s winter avian residents and migrants. Find out what birds do to survive the winter weather. Feel free to bring your own guides\, binoculars and spotting scopes. Site will have a limited number of supplies for participants to borrow for the duration of the program. Ages 4 to Adult.
URL:https://capitalnature.org/event/winter-birdwalk-at-riverbend/
LOCATION:Riverbend Park\, 8700 Potomac Hills St\, Great Falls\, VA\, 22066\, United States
CATEGORIES:Birds,Family,Nature Observation
END:VEVENT
BEGIN:VEVENT
DTSTART;TZID=America/New_York:20260220T180000
DTEND;TZID=America/New_York:20260220T200000
DTSTAMP:20260424T080130
CREATED:20260208T185840Z
LAST-MODIFIED:20260208T185840Z
UID:10004146-1771610400-1771617600@capitalnature.org
SUMMARY:Campfire Friday
DESCRIPTION:(VA) (Fairfax County Parks) Join us for an evening campfire the whole family can enjoy. Explore the wonders of our natural world through nature walks\, interactive activities and animal presentations. Includes s’mores. Topics vary by date. Children must be accompanied by a registered adult. Not intended for children under 5.
URL:https://capitalnature.org/event/campfire-friday/
LOCATION:Hidden Pond Nature Center\, 8511 Greeley Blvd\, West Springfield\, VA\, 22152\, United States
CATEGORIES:Family,Nature Play,Outdoor Experience
END:VEVENT
BEGIN:VEVENT
DTSTART;TZID=America/New_York:20260215T110000
DTEND;TZID=America/New_York:20260215T123000
DTSTAMP:20260424T080130
CREATED:20260208T185557Z
LAST-MODIFIED:20260208T185557Z
UID:10004145-1771153200-1771158600@capitalnature.org
SUMMARY:Winter Woods Hike and Craft
DESCRIPTION:(VA) (Fairfax County Parks) Hike through the winter woods to learn some useful tips for identifying winter trees. Afterwards\, appreciate season’s beauty with a fun winter-themed craft. Ages 4 to Adult.
URL:https://capitalnature.org/event/winter-woods-hike-and-craft/
LOCATION:Burke Lake Park\, 7315 Ox Rd\, Fairfax Station\, VA\, 22039\, United States
CATEGORIES:Family,Hike,Nature Craft,Social and Cultural
END:VEVENT
BEGIN:VEVENT
DTSTART;TZID=America/New_York:20260214T160000
DTEND;TZID=America/New_York:20260214T173000
DTSTAMP:20260424T080130
CREATED:20260208T185044Z
LAST-MODIFIED:20260208T185044Z
UID:10004143-1771084800-1771090200@capitalnature.org
SUMMARY:Valentine's Stargazing Stroll
DESCRIPTION:(VA) (Fairfax County Parks) Share the wonder of winter stars with someone special during our romantic Valentine’s stargazing adventure. This enchanting evening stroll combines astronomy education with Valentine’s Day Magic. Create lasting memories as families explore the night sky together\, learning about the cosmos while enjoying quality time under the stars. This evening adventure concludes with hot cocoa and Valentine’s treats. Ages 8 to Adult.
URL:https://capitalnature.org/event/valentines-stargazing-stroll/
LOCATION:Lake Accotink Park\, 7500 Accotink Park Road\, Springfield\, VA\, 22150\, United States
CATEGORIES:Astronomy,Family,Nature Observation,Social and Cultural
END:VEVENT
BEGIN:VEVENT
DTSTART;TZID=America/New_York:20260214T140000
DTEND;TZID=America/New_York:20260214T150000
DTSTAMP:20260424T080130
CREATED:20260115T153243Z
LAST-MODIFIED:20260115T153243Z
UID:10004060-1771077600-1771081200@capitalnature.org
SUMMARY:The Science of Sleep and Hibernation
DESCRIPTION:(VA) (NOVA Parks) Ever wonder how some native furry friends survive the chilly winter weather outside? Register the whole family and learn the difference between hibernation vs. brumation and the science behind why and how animals sleep safely in the cold.  You’ll make and take home a rabbit friend and learn how to help them get ready to hibernate. Ages 5+.
URL:https://capitalnature.org/event/the-science-of-sleep-and-hibernation/
LOCATION:Winkler Botanical Preserve\, 5400 Roanoke Ave.\, Alexandria\, VA\, 22311\, United States
CATEGORIES:Animals,Classes & Workshops,Family,Nature Play
GEO:38.8290071;-77.1204713
X-APPLE-STRUCTURED-LOCATION;VALUE=URI;X-ADDRESS=Winkler Botanical Preserve 5400 Roanoke Ave. Alexandria VA 22311 United States;X-APPLE-RADIUS=500;X-TITLE=5400 Roanoke Ave.:geo:-77.1204713,38.8290071
END:VEVENT
BEGIN:VEVENT
DTSTART;TZID=America/New_York:20260214T120000
DTEND;TZID=America/New_York:20260214T130000
DTSTAMP:20260424T080130
CREATED:20260208T184739Z
LAST-MODIFIED:20260208T184739Z
UID:10004142-1771070400-1771074000@capitalnature.org
SUMMARY:Nature Folklore
DESCRIPTION:(VA) (Fairfax County Parks) Celebrate Valentine’s Day with a storytelling adventure rooted in nature and connection. Discover how landscapes\, plants and animals have inspired folktales from different traditions. Enjoy heartwarming stories about kindness\, friendship and togetherness\, then collaborate to craft your own nature-inspired tale to take home. Ages 8 to Adult.
URL:https://capitalnature.org/event/nature-folklore/
LOCATION:Green Spring Gardens\, 4603 Green Spring Rd\, United States
CATEGORIES:Family,Gardens,Social and Cultural
END:VEVENT
BEGIN:VEVENT
DTSTART;TZID=America/New_York:20260131T180000
DTEND;TZID=America/New_York:20260131T193000
DTSTAMP:20260424T080130
CREATED:20260114T013112Z
LAST-MODIFIED:20260114T013112Z
UID:10004017-1769882400-1769887800@capitalnature.org
SUMMARY:Owl Prowl & Cocoa
DESCRIPTION:(VA) (Arlington Parks) Join us for an evening nature hike when the leaves aren’t on the trees\, making owls easier to spot. Give a hoot… literally as we learn about and try to call to our native nocturnal raptors. Families.
URL:https://capitalnature.org/event/owl-prowl-cocoa/
LOCATION:Long Branch Nature Center at Glencarlyn Park\, 625 S Carlin Springs Rd\, Arlington\, VA\, 22204\, United States
CATEGORIES:Birds,Family,Outdoor Experience
END:VEVENT
BEGIN:VEVENT
DTSTART;TZID=America/New_York:20260131T100000
DTEND;TZID=America/New_York:20260131T113000
DTSTAMP:20260424T080130
CREATED:20260114T212828Z
LAST-MODIFIED:20260114T212828Z
UID:10004037-1769853600-1769859000@capitalnature.org
SUMMARY:A Stargazer's Garden
DESCRIPTION:(VA) Fairfax County Parks) Discover the cosmic magic where sky meets soil. Explore constellations in the night sky and learn how stars have influenced gardening traditions from around the world. Then\, bring the stars down to Earth by creating your own glow-in-the-dark constellation craft to take home. Ages 6 to Adult.
URL:https://capitalnature.org/event/a-stargazers-garden/
LOCATION:Green Spring Gardens\, 4603 Green Spring Rd\, United States
CATEGORIES:Family,Garden Experience,Nature Craft
END:VEVENT
BEGIN:VEVENT
DTSTART;TZID=America/New_York:20260130T150000
DTEND;TZID=America/New_York:20260130T160000
DTSTAMP:20260424T080130
CREATED:20260113T192140Z
LAST-MODIFIED:20260115T191833Z
UID:10003981-1769785200-1769788800@capitalnature.org
SUMMARY:Junior Naturalist Hike in Rock Creek Park
DESCRIPTION:(DC) (National Park Service) Do you want to connect with nature but you’re not sure how to get started? Do you want to be more present outside and escape the distractions of the modern era? Take a junior naturalist hike with a ranger and learn how to observe and study the natural world around you as you hike between ½ – 1 ½ miles through the Rock Creek Valley. Recommended ages 8+.  
URL:https://capitalnature.org/event/junior-naturalist-hike-in-rock-creek/
LOCATION:Rock Creek Nature Center\, 5200 Glover Rd NW\, Washington\, 20015\, United States
CATEGORIES:Children,Family,Outdoor Experience
GEO:38.9599553;-77.0516936
X-APPLE-STRUCTURED-LOCATION;VALUE=URI;X-ADDRESS=Rock Creek Nature Center 5200 Glover Rd NW Washington 20015 United States;X-APPLE-RADIUS=500;X-TITLE=5200 Glover Rd NW:geo:-77.0516936,38.9599553
END:VEVENT
BEGIN:VEVENT
DTSTART;TZID=America/New_York:20260127T110000
DTEND;TZID=America/New_York:20260127T120000
DTSTAMP:20260424T080130
CREATED:20260114T012204Z
LAST-MODIFIED:20260114T012204Z
UID:10004013-1769511600-1769515200@capitalnature.org
SUMMARY:Pond Life: Winter Edition
DESCRIPTION:(VA) (Arlington Parks) Our ponds may be frozen\, but they’re still full of life. Come learn about our winter pond dwellers\, and find out where the critters you don’t see in winter have gone. Families.
URL:https://capitalnature.org/event/pond-life-winter-edition/
LOCATION:Long Branch Nature Center at Glencarlyn Park\, 625 S Carlin Springs Rd\, Arlington\, VA\, 22204\, United States
CATEGORIES:Classes & Workshops,Family,Nature Observation
END:VEVENT
BEGIN:VEVENT
DTSTART;TZID=America/New_York:20260125T080000
DTEND;TZID=America/New_York:20260125T093000
DTSTAMP:20260424T080130
CREATED:20260114T185240Z
LAST-MODIFIED:20260114T185240Z
UID:10004032-1769328000-1769333400@capitalnature.org
SUMMARY:Birds and Beans at Burke Lake
DESCRIPTION:(VA) (Fairfax County Parks) Enjoy a hot cup of coffee while you hike with a naturalist and look for birds. The program will begin with a short discussion of the concept of bird-friendly coffee. To reduce waste\, please bring your own mug to fill. Tea and hot cocoa options will also be available. Ages 4+ with adult.
URL:https://capitalnature.org/event/birds-and-beans-at-burke-lake/
LOCATION:Burke Lake Park\, 7315 Ox Rd\, Fairfax Station\, VA\, 22039\, United States
CATEGORIES:Birds,Family,Hike
END:VEVENT
BEGIN:VEVENT
DTSTART;TZID=America/New_York:20260124T163000
DTEND;TZID=America/New_York:20260124T173000
DTSTAMP:20260424T080130
CREATED:20260114T011705Z
LAST-MODIFIED:20260114T011705Z
UID:10004011-1769272200-1769275800@capitalnature.org
SUMMARY:Wolf Campfire
DESCRIPTION:(VA) (Arlington Parks) The whole family is invited to join us at the Gulf Branch fire ring for lots of old-fashioned fun. This engaging program will be filled with entertaining activities that may include stories\, special animal guests\, games\, songs and of course\, S’mores! (We will provide the marshmallows\, chocolate & graham crackers).
URL:https://capitalnature.org/event/wolf-campfire/
LOCATION:Gulf Branch Nature Center & Park\, 3608 Military Rd\, Arlington\, VA\, 22207\, United States
CATEGORIES:Family,Outdoor Experience,Social & Cultural
END:VEVENT
BEGIN:VEVENT
DTSTART;TZID=America/New_York:20260123T173000
DTEND;TZID=America/New_York:20260123T183000
DTSTAMP:20260424T080130
CREATED:20251221T202049Z
LAST-MODIFIED:20251221T202049Z
UID:10003852-1769189400-1769193000@capitalnature.org
SUMMARY:Flying Squirrel Lore
DESCRIPTION:(VA) (Arlington Parks) Flying squirrels are found throughout the wooded neighborhoods of Arlington\, but are seldom seen. Join us after dark to learn about these nocturnal creatures. Dress for the weather\, we will venture out into the cold night to look for wild flying squirrels. Families.
URL:https://capitalnature.org/event/flying-squirrel-lore-3/
LOCATION:Long Branch Nature Center & Park\, 625 S Carlin Springs Rd\, Arlington\, VA\, 22204\, United States
CATEGORIES:Animals,Family,Nature Observation
END:VEVENT
BEGIN:VEVENT
DTSTART;TZID=America/New_York:20260123T100000
DTEND;TZID=America/New_York:20260123T110000
DTSTAMP:20260424T080130
CREATED:20260113T191038Z
LAST-MODIFIED:20260113T191038Z
UID:10003975-1769162400-1769166000@capitalnature.org
SUMMARY:Little Tyke Hike at Peirce Mill
DESCRIPTION:(DC) (National Park Service) Bring your little ones to learn about the forest and how to explore nature in RockC reek Park! This program includes books\, animal puppets\, magnifying glasses\, and a very short hike. During the walk\, children are encouraged to search for shapes and colors and use their senses to explore the forest. Recommended for families with children 6 and under.  \nTo accommodate more people and to add variety\, the children’s programs will alternate between the Nature Center and Peirce Mill Barn every 2 weeks.  
URL:https://capitalnature.org/event/little-tyke-hike-at-peirce-mill/
LOCATION:Peirce Mill\, 2401 Tilden St NW\, Washington DC\, 20008\, United States
CATEGORIES:Children,Family,Outdoor Experience
END:VEVENT
END:VCALENDAR