BEGIN:VCALENDAR
VERSION:2.0
PRODID:-//Capital Nature - ECPv6.15.20//NONSGML v1.0//EN
CALSCALE:GREGORIAN
METHOD:PUBLISH
X-WR-CALNAME:Capital Nature
X-ORIGINAL-URL:https://capitalnature.org
X-WR-CALDESC:Events for Capital Nature
REFRESH-INTERVAL;VALUE=DURATION:PT1H
X-Robots-Tag:noindex
X-PUBLISHED-TTL:PT1H
BEGIN:VTIMEZONE
TZID:America/New_York
BEGIN:DAYLIGHT
TZOFFSETFROM:-0500
TZOFFSETTO:-0400
TZNAME:EDT
DTSTART:20250309T070000
END:DAYLIGHT
BEGIN:STANDARD
TZOFFSETFROM:-0400
TZOFFSETTO:-0500
TZNAME:EST
DTSTART:20251102T060000
END:STANDARD
BEGIN:DAYLIGHT
TZOFFSETFROM:-0500
TZOFFSETTO:-0400
TZNAME:EDT
DTSTART:20260308T070000
END:DAYLIGHT
BEGIN:STANDARD
TZOFFSETFROM:-0400
TZOFFSETTO:-0500
TZNAME:EST
DTSTART:20261101T060000
END:STANDARD
BEGIN:DAYLIGHT
TZOFFSETFROM:-0500
TZOFFSETTO:-0400
TZNAME:EDT
DTSTART:20270314T070000
END:DAYLIGHT
BEGIN:STANDARD
TZOFFSETFROM:-0400
TZOFFSETTO:-0500
TZNAME:EST
DTSTART:20271107T060000
END:STANDARD
END:VTIMEZONE
BEGIN:VEVENT
DTSTART;TZID=America/New_York:20260226T100000
DTEND;TZID=America/New_York:20260226T173000
DTSTAMP:20260425T123213
CREATED:20260110T225500Z
LAST-MODIFIED:20260110T225500Z
UID:10003921-1772100000-1772127000@capitalnature.org
SUMMARY:Exhibit: Recovering Our Night Skies
DESCRIPTION:(DC) (Smithsonian Natural History Museum) Artificial lights have become such common nighttime fixtures that we take them for granted. But what do brighter nights mean for people and wildlife? The effects of light pollution go beyond our diminishing view of the stars\, but the solutions can have an immediate impact. \nThrough over 100 photographs\, nearly 250 objects\, interactive experiences\, tactile models\, and a theater program\, discover why dark nights matter\, rekindle your connection with the night sky\, and consider how much light at night is enough—for whom\, for what purpose\, and who gets to decide? \nOn view through December 2026.
URL:https://capitalnature.org/event/exhibit-recovering-our-night-skies-19/
LOCATION:Smithsonian National Museum of Natural History\, 1000 Madison Drive NW\, Washington\, DC\, 20560\, United States
CATEGORIES:Exhibit
END:VEVENT
BEGIN:VEVENT
DTSTART;TZID=America/New_York:20260401T090000
DTEND;TZID=America/New_York:20260401T150000
DTSTAMP:20260425T123213
CREATED:20260325T000620Z
LAST-MODIFIED:20260326T011401Z
UID:10004240-1775034000-1775055600@capitalnature.org
SUMMARY:The Butterfly Experience
DESCRIPTION:(MD) (Montgomery Parks) A world of wonder takes flight as Montgomery Parks’ popular Butterfly Experience returns to Brookside Gardens. Visitors will be surrounded by hundreds of brilliant butterflies from the Americas\, Africa\, and Asia as they flutter among vibrant\, lush tropical blooms. This intimate experience offers rare\, up-close encounters while trained staff and volunteers highlight the stages of metamorphosis\, the important role butterflies play in healthy ecosystems\, and how to ensure these beautiful insects thrive in our own gardens. \nButterfly Experience runs through September 7th.
URL:https://capitalnature.org/event/the-butterfly-experience-at-brookside/
LOCATION:Brookside Gardens\, 1800 Glenallan Avenue\, Wheaton\, MD\, 20902\, United States
CATEGORIES:Exhibit,Nature Observation,Wildlife
GEO:39.0581511;-77.0373745
X-APPLE-STRUCTURED-LOCATION;VALUE=URI;X-ADDRESS=Brookside Gardens 1800 Glenallan Avenue Wheaton MD 20902 United States;X-APPLE-RADIUS=500;X-TITLE=1800 Glenallan Avenue:geo:-77.0373745,39.0581511
END:VEVENT
BEGIN:VEVENT
DTSTART;TZID=America/New_York:20260405T090000
DTEND;TZID=America/New_York:20260405T150000
DTSTAMP:20260425T123213
CREATED:20260325T000807Z
LAST-MODIFIED:20260326T011351Z
UID:10004241-1775379600-1775401200@capitalnature.org
SUMMARY:The Butterfly Experience
DESCRIPTION:(MD) (Montgomery Parks) A world of wonder takes flight as Montgomery Parks’ popular Butterfly Experience returns to Brookside Gardens. Visitors will be surrounded by hundreds of brilliant butterflies from the Americas\, Africa\, and Asia as they flutter among vibrant\, lush tropical blooms. This intimate experience offers rare\, up-close encounters while trained staff and volunteers highlight the stages of metamorphosis\, the important role butterflies play in healthy ecosystems\, and how to ensure these beautiful insects thrive in our own gardens. \nButterfly Experience runs through September 7th.
URL:https://capitalnature.org/event/the-butterfly-experience-at-brookside-2/
LOCATION:Brookside Gardens\, 1800 Glenallan Avenue\, Wheaton\, MD\, 20902\, United States
CATEGORIES:Exhibit,Nature Observation,Wildlife
GEO:39.0581511;-77.0373745
X-APPLE-STRUCTURED-LOCATION;VALUE=URI;X-ADDRESS=Brookside Gardens 1800 Glenallan Avenue Wheaton MD 20902 United States;X-APPLE-RADIUS=500;X-TITLE=1800 Glenallan Avenue:geo:-77.0373745,39.0581511
END:VEVENT
BEGIN:VEVENT
DTSTART;TZID=America/New_York:20260414T090000
DTEND;TZID=America/New_York:20260414T150000
DTSTAMP:20260425T123213
CREATED:20260325T000838Z
LAST-MODIFIED:20260326T011343Z
UID:10004242-1776157200-1776178800@capitalnature.org
SUMMARY:The Butterfly Experience
DESCRIPTION:(MD) (Montgomery Parks) A world of wonder takes flight as Montgomery Parks’ popular Butterfly Experience returns to Brookside Gardens. Visitors will be surrounded by hundreds of brilliant butterflies from the Americas\, Africa\, and Asia as they flutter among vibrant\, lush tropical blooms. This intimate experience offers rare\, up-close encounters while trained staff and volunteers highlight the stages of metamorphosis\, the important role butterflies play in healthy ecosystems\, and how to ensure these beautiful insects thrive in our own gardens. \nButterfly Experience runs through September 7th.
URL:https://capitalnature.org/event/the-butterfly-experience-at-brookside-3/
LOCATION:Brookside Gardens\, 1800 Glenallan Avenue\, Wheaton\, MD\, 20902\, United States
CATEGORIES:Exhibit,Nature Observation,Wildlife
GEO:39.0581511;-77.0373745
X-APPLE-STRUCTURED-LOCATION;VALUE=URI;X-ADDRESS=Brookside Gardens 1800 Glenallan Avenue Wheaton MD 20902 United States;X-APPLE-RADIUS=500;X-TITLE=1800 Glenallan Avenue:geo:-77.0373745,39.0581511
END:VEVENT
BEGIN:VEVENT
DTSTART;TZID=America/New_York:20260424T090000
DTEND;TZID=America/New_York:20260424T150000
DTSTAMP:20260425T123213
CREATED:20260325T000922Z
LAST-MODIFIED:20260326T011333Z
UID:10004243-1777021200-1777042800@capitalnature.org
SUMMARY:The Butterfly Experience
DESCRIPTION:(MD) (Montgomery Parks) A world of wonder takes flight as Montgomery Parks’ popular Butterfly Experience returns to Brookside Gardens. Visitors will be surrounded by hundreds of brilliant butterflies from the Americas\, Africa\, and Asia as they flutter among vibrant\, lush tropical blooms. This intimate experience offers rare\, up-close encounters while trained staff and volunteers highlight the stages of metamorphosis\, the important role butterflies play in healthy ecosystems\, and how to ensure these beautiful insects thrive in our own gardens. \nButterfly Experience runs through September 7th.
URL:https://capitalnature.org/event/the-butterfly-experience-at-brookside-4/
LOCATION:Brookside Gardens\, 1800 Glenallan Avenue\, Wheaton\, MD\, 20902\, United States
CATEGORIES:Exhibit,Nature Observation,Wildlife
GEO:39.0581511;-77.0373745
X-APPLE-STRUCTURED-LOCATION;VALUE=URI;X-ADDRESS=Brookside Gardens 1800 Glenallan Avenue Wheaton MD 20902 United States;X-APPLE-RADIUS=500;X-TITLE=1800 Glenallan Avenue:geo:-77.0373745,39.0581511
END:VEVENT
BEGIN:VEVENT
DTSTART;TZID=America/New_York:20260426T090000
DTEND;TZID=America/New_York:20260426T150000
DTSTAMP:20260425T123213
CREATED:20260325T000949Z
LAST-MODIFIED:20260326T011324Z
UID:10004244-1777194000-1777215600@capitalnature.org
SUMMARY:The Butterfly Experience
DESCRIPTION:(MD) (Montgomery Parks) A world of wonder takes flight as Montgomery Parks’ popular Butterfly Experience returns to Brookside Gardens. Visitors will be surrounded by hundreds of brilliant butterflies from the Americas\, Africa\, and Asia as they flutter among vibrant\, lush tropical blooms. This intimate experience offers rare\, up-close encounters while trained staff and volunteers highlight the stages of metamorphosis\, the important role butterflies play in healthy ecosystems\, and how to ensure these beautiful insects thrive in our own gardens. \nButterfly Experience runs through September 7th.
URL:https://capitalnature.org/event/the-butterfly-experience-at-brookside-5/
LOCATION:Brookside Gardens\, 1800 Glenallan Avenue\, Wheaton\, MD\, 20902\, United States
CATEGORIES:Exhibit,Nature Observation,Wildlife
GEO:39.0581511;-77.0373745
X-APPLE-STRUCTURED-LOCATION;VALUE=URI;X-ADDRESS=Brookside Gardens 1800 Glenallan Avenue Wheaton MD 20902 United States;X-APPLE-RADIUS=500;X-TITLE=1800 Glenallan Avenue:geo:-77.0373745,39.0581511
END:VEVENT
BEGIN:VEVENT
DTSTART;TZID=America/New_York:20260501T090000
DTEND;TZID=America/New_York:20260501T150000
DTSTAMP:20260425T123213
CREATED:20260325T001020Z
LAST-MODIFIED:20260326T011300Z
UID:10004245-1777626000-1777647600@capitalnature.org
SUMMARY:The Butterfly Experience
DESCRIPTION:(MD) (Montgomery Parks) A world of wonder takes flight as Montgomery Parks’ popular Butterfly Experience returns to Brookside Gardens. Visitors will be surrounded by hundreds of brilliant butterflies from the Americas\, Africa\, and Asia as they flutter among vibrant\, lush tropical blooms. This intimate experience offers rare\, up-close encounters while trained staff and volunteers highlight the stages of metamorphosis\, the important role butterflies play in healthy ecosystems\, and how to ensure these beautiful insects thrive in our own gardens. \nButterfly Experience runs through September 7th.
URL:https://capitalnature.org/event/the-butterfly-experience-at-brookside-6/
LOCATION:Brookside Gardens\, 1800 Glenallan Avenue\, Wheaton\, MD\, 20902\, United States
CATEGORIES:Exhibit,Nature Observation,Wildlife
GEO:39.0581511;-77.0373745
X-APPLE-STRUCTURED-LOCATION;VALUE=URI;X-ADDRESS=Brookside Gardens 1800 Glenallan Avenue Wheaton MD 20902 United States;X-APPLE-RADIUS=500;X-TITLE=1800 Glenallan Avenue:geo:-77.0373745,39.0581511
END:VEVENT
END:VCALENDAR