BEGIN:VCALENDAR
VERSION:2.0
PRODID:-//Capital Nature - ECPv6.15.20//NONSGML v1.0//EN
CALSCALE:GREGORIAN
METHOD:PUBLISH
X-ORIGINAL-URL:https://capitalnature.org
X-WR-CALDESC:Events for Capital Nature
REFRESH-INTERVAL;VALUE=DURATION:PT1H
X-Robots-Tag:noindex
X-PUBLISHED-TTL:PT1H
BEGIN:VTIMEZONE
TZID:America/New_York
BEGIN:DAYLIGHT
TZOFFSETFROM:-0500
TZOFFSETTO:-0400
TZNAME:EDT
DTSTART:20250309T070000
END:DAYLIGHT
BEGIN:STANDARD
TZOFFSETFROM:-0400
TZOFFSETTO:-0500
TZNAME:EST
DTSTART:20251102T060000
END:STANDARD
BEGIN:DAYLIGHT
TZOFFSETFROM:-0500
TZOFFSETTO:-0400
TZNAME:EDT
DTSTART:20260308T070000
END:DAYLIGHT
BEGIN:STANDARD
TZOFFSETFROM:-0400
TZOFFSETTO:-0500
TZNAME:EST
DTSTART:20261101T060000
END:STANDARD
BEGIN:DAYLIGHT
TZOFFSETFROM:-0500
TZOFFSETTO:-0400
TZNAME:EDT
DTSTART:20270314T070000
END:DAYLIGHT
BEGIN:STANDARD
TZOFFSETFROM:-0400
TZOFFSETTO:-0500
TZNAME:EST
DTSTART:20271107T060000
END:STANDARD
END:VTIMEZONE
BEGIN:VEVENT
DTSTART;TZID=America/New_York:20260206T120000
DTEND;TZID=America/New_York:20260206T123000
DTSTAMP:20260424T093128
CREATED:20260206T031146Z
LAST-MODIFIED:20260206T031146Z
UID:10004101-1770379200-1770381000@capitalnature.org
SUMMARY:Lunchtime Meditation and Mindfulness (Virtual)
DESCRIPTION:(DC) (Smithsonian Asian Art Museum) Join our free online guided meditation on Tuesdays and Fridays. In these 30-minute sessions\, DC-based meditation teachers lead a variety of mindfulness practices. Friday sessions take inspiration from art in our museum’s collections. Many of the art pieces are inspired by nature. All are welcome! No previous experience is required.
URL:https://capitalnature.org/event/lunchtime-meditation-and-mindfulness-virtual-12/
LOCATION:DC
CATEGORIES:Art,Contemplative,Nature Observation
END:VEVENT
END:VCALENDAR