BEGIN:VCALENDAR
VERSION:2.0
PRODID:-//Capital Nature - ECPv6.15.20//NONSGML v1.0//EN
CALSCALE:GREGORIAN
METHOD:PUBLISH
X-WR-CALNAME:Capital Nature
X-ORIGINAL-URL:https://capitalnature.org
X-WR-CALDESC:Events for Capital Nature
REFRESH-INTERVAL;VALUE=DURATION:PT1H
X-Robots-Tag:noindex
X-PUBLISHED-TTL:PT1H
BEGIN:VTIMEZONE
TZID:America/New_York
BEGIN:DAYLIGHT
TZOFFSETFROM:-0500
TZOFFSETTO:-0400
TZNAME:EDT
DTSTART:20250309T070000
END:DAYLIGHT
BEGIN:STANDARD
TZOFFSETFROM:-0400
TZOFFSETTO:-0500
TZNAME:EST
DTSTART:20251102T060000
END:STANDARD
BEGIN:DAYLIGHT
TZOFFSETFROM:-0500
TZOFFSETTO:-0400
TZNAME:EDT
DTSTART:20260308T070000
END:DAYLIGHT
BEGIN:STANDARD
TZOFFSETFROM:-0400
TZOFFSETTO:-0500
TZNAME:EST
DTSTART:20261101T060000
END:STANDARD
BEGIN:DAYLIGHT
TZOFFSETFROM:-0500
TZOFFSETTO:-0400
TZNAME:EDT
DTSTART:20270314T070000
END:DAYLIGHT
BEGIN:STANDARD
TZOFFSETFROM:-0400
TZOFFSETTO:-0500
TZNAME:EST
DTSTART:20271107T060000
END:STANDARD
END:VTIMEZONE
BEGIN:VEVENT
DTSTART;TZID=America/New_York:20260422T080000
DTEND;TZID=America/New_York:20260422T120000
DTSTAMP:20260424T083436
CREATED:20260412T014049Z
LAST-MODIFIED:20260412T014049Z
UID:10004297-1776844800-1776859200@capitalnature.org
SUMMARY:Community Tree Planting at Mount Olivet
DESCRIPTION:(DC) (Casey Trees) Join Casey Trees as we partner with HITT to celebrate Earth Day and plant trees at Mount Olivet Cemetery! \nYou provide the volunteers\, we provide all the necessary tools and supplies to plant the trees. Participants will receive a hands-on training on site. After learning the tools and techniques\, participants will be split up into groups supervised by a trained volunteer Team Leader and begin planting trees throughout the space.
URL:https://capitalnature.org/event/community-tree-planting-at-mount-olivet-2/
LOCATION:Mount Olivet Cemetary\, 300 Bladensburg Road NE\, Washington\, DC\, 20002
CATEGORIES:Conservation,Trees,Volunteering
END:VEVENT
BEGIN:VEVENT
DTSTART;TZID=America/New_York:20260423T083000
DTEND;TZID=America/New_York:20260423T100000
DTSTAMP:20260424T083436
CREATED:20260412T014416Z
LAST-MODIFIED:20260412T014416Z
UID:10004298-1776933000-1776938400@capitalnature.org
SUMMARY:Canopies & Communities
DESCRIPTION:(DC) (Casey Trees) Join D.C. based nonprofits JGI USA and Casey Trees as they share their approaches to engaging communities to make an impact\, including their successful efforts to restore and protect forest habitats both locally in Washington\, D.C. and internationally along chimpanzee range in Africa. This event will feature presentations from both JGI USA and Casey Trees\, followed by a short Q&A and opportunities to network with conservation colleagues.
URL:https://capitalnature.org/event/canopies-communities/
LOCATION:Jane Goodall Institute\, 1120 20th St NW\, Washington\, DC\, 20036\, United States
CATEGORIES:Conservation,Seminars and Lectures,Trees
GEO:38.9046524;-77.0458322
X-APPLE-STRUCTURED-LOCATION;VALUE=URI;X-ADDRESS=Jane Goodall Institute 1120 20th St NW Washington DC 20036 United States;X-APPLE-RADIUS=500;X-TITLE=1120 20th St NW:geo:-77.0458322,38.9046524
END:VEVENT
BEGIN:VEVENT
DTSTART;TZID=America/New_York:20260424T080000
DTEND;TZID=America/New_York:20260424T120000
DTSTAMP:20260424T083436
CREATED:20260412T015145Z
LAST-MODIFIED:20260412T015145Z
UID:10004300-1777017600-1777032000@capitalnature.org
SUMMARY:Community Tree Planting at Stanton Park
DESCRIPTION:(DC) (Casey Trees) In honor of America’s 250th anniversary\, we’re planting 250 trees across DC’s national parks with National Capital Parks-East\, a unit of the National Park Service. Join us to help plant and welcome 19 trees at the historic Stanton Park\, part of this milestone campaign made possible by generous donations. \nParticipants will receive hands-on training on-site. After learning the tools and techniques\, participants will be split up into groups supervised by a trained volunteer Team Leader and begin planting trees throughout the space.
URL:https://capitalnature.org/event/community-tree-planting-at-stanton-park/
LOCATION:Stanton Park\, 6th Street NE and 226 4th St NE\, Washington\, DC\, 20002\, United States
CATEGORIES:Conservation,Trees,Volunteering
GEO:38.8935454;-76.9999467
X-APPLE-STRUCTURED-LOCATION;VALUE=URI;X-ADDRESS=Stanton Park 6th Street NE and 226 4th St NE Washington DC 20002 United States;X-APPLE-RADIUS=500;X-TITLE=6th Street NE and 226 4th St NE:geo:-76.9999467,38.8935454
END:VEVENT
BEGIN:VEVENT
DTSTART;TZID=America/New_York:20260425T100000
DTEND;TZID=America/New_York:20260425T120000
DTSTAMP:20260424T083436
CREATED:20260413T000027Z
LAST-MODIFIED:20260413T000027Z
UID:10004317-1777111200-1777118400@capitalnature.org
SUMMARY:Invasive Plant Removal at 630 East
DESCRIPTION:(DC) (Rock Creek Conservancy) Join Rock Creek Conservancy and Weed Warrior leader Rena Subotnik or this invasive plant removal restoration event in Rock Creek Park. Invasive plants are a major threat to our fragile forests\, and stopping their spread helps allow native plants to thrive in the understory. Event location\, directions\, and information will be sent from the event leader 48 hours prior to the event.
URL:https://capitalnature.org/event/invasive-plant-removal-at-630-east-3/
LOCATION:Reservation 630 East\, 2801 Quebec Street Northwest\, Washington\, 20008
CATEGORIES:Conservation,Stewardship,Volunteering
GEO:38.9372186;-77.0560398
X-APPLE-STRUCTURED-LOCATION;VALUE=URI;X-ADDRESS=Reservation 630 East 2801 Quebec Street Northwest Washington 20008;X-APPLE-RADIUS=500;X-TITLE=2801 Quebec Street Northwest:geo:-77.0560398,38.9372186
END:VEVENT
BEGIN:VEVENT
DTSTART;TZID=America/New_York:20260425T100000
DTEND;TZID=America/New_York:20260425T130000
DTSTAMP:20260424T083436
CREATED:20260412T012755Z
LAST-MODIFIED:20260412T013014Z
UID:10004293-1777111200-1777122000@capitalnature.org
SUMMARY:Oxon Cove Earth Day Cleanup
DESCRIPTION:(MD) (Anacostia Parks and Community Collaborative) Spend your Earth Day with us and a dozen environmental organizations at one of the largest regional clean-ups along Oxon Run and the Potomac River!
URL:https://capitalnature.org/event/oxon-cove-earth-day-cleanup/
LOCATION:Oxon Cove Park & Oxon Hill Farm2\, 6411 Oxon Hill Rd\, Oxon Hill\, MD\, 20745\, United States
CATEGORIES:Conservation,Stewardship,Volunteering
END:VEVENT
BEGIN:VEVENT
DTSTART;TZID=America/New_York:20260425T100000
DTEND;TZID=America/New_York:20260425T130000
DTSTAMP:20260424T083436
CREATED:20260412T015438Z
LAST-MODIFIED:20260412T015438Z
UID:10004301-1777111200-1777122000@capitalnature.org
SUMMARY:Bicyclists Against Invasive Vines Ride
DESCRIPTION:(DC) (Washington Area Bicyclist Association) Calling all cyclists! Join the DC Trail Rangers and the Chesapeake Climate Action Network for an invasive vine removal and a bike ride. On the fourth Saturday of each month we meet up at the Fields at RFK lot 6 at 10am for an ecological ride on the Anacostia River Trail. We will be clearing invasive vines from our trees and trail corridors while exploring topics such as plant identification\, invasive plant management and local wetland ecology.
URL:https://capitalnature.org/event/bicyclists-against-invasive-vines-ride/
LOCATION:Kingman Island _RFK Lot 6\, United States
CATEGORIES:Conservation,Fitness,Volunteering
END:VEVENT
BEGIN:VEVENT
DTSTART;TZID=America/New_York:20260425T100000
DTEND;TZID=America/New_York:20260425T130000
DTSTAMP:20260424T083436
CREATED:20260412T015840Z
LAST-MODIFIED:20260412T015840Z
UID:10004302-1777111200-1777122000@capitalnature.org
SUMMARY:Invasive Vine Removal at Langdon
DESCRIPTION:(DC) (Casey Trees) Join CCAN\, The Langdon Park Forest Stewards\, and Casey Trees to get outside and remove invasive plants! Take part in the exciting Assisted Natural Regeneration efforts happening to restore the forest at Langdon Park in NE DC. We will start with a brief training on non-native invasive species and best practices for removal\, and spend about 2 hours removing invasives. We will focus on non-native invasive plants like Bush (Amur) Honeysuckle.
URL:https://capitalnature.org/event/invasive-vine-removal-at-langdon/
LOCATION:Langdon Park Recreation Center\, 2901 20th St NE\, Washington DC\, 20018\, United States
CATEGORIES:Conservation,Stewardship,Volunteering
END:VEVENT
BEGIN:VEVENT
DTSTART;TZID=America/New_York:20260425T103000
DTEND;TZID=America/New_York:20260425T130000
DTSTAMP:20260424T083436
CREATED:20260412T120750Z
LAST-MODIFIED:20260412T120750Z
UID:10004303-1777113000-1777122000@capitalnature.org
SUMMARY:Arbor Day Tree Care at Anacostia Park
DESCRIPTION:(DC) (Anacostia Watershed Society) Join Casey Trees\, Friends of Anacostia Park\, and Anacostia Watershed Society for a service day and celebration in honor of Earth Day and Arbor Day! Your help with caring for these vulnerable trees will give them a leg up in becoming a permanent part of our tree canopy and park space. We will provide all the necessary tools and supplies to care for trees. After learning the tools and techniques\, participants will begin caring for trees throughout the park. \n\nAfter volunteering\, stick around and join us for an Earth & Arbor Day Celebration in the park with free food\, music\, boating\, skating\, and more!
URL:https://capitalnature.org/event/arbor-day-tree-care-at-anacostia-park/
LOCATION:Anacostia Park Skating Pavillion\, 1500 Anacostia Dr SE\, Washington\, DC\, 20020\, United States
CATEGORIES:Conservation,Stewardship,Volunteering
END:VEVENT
END:VCALENDAR