BEGIN:VCALENDAR
VERSION:2.0
PRODID:-//Capital Nature - ECPv6.15.20//NONSGML v1.0//EN
CALSCALE:GREGORIAN
METHOD:PUBLISH
X-WR-CALNAME:Capital Nature
X-ORIGINAL-URL:https://capitalnature.org
X-WR-CALDESC:Events for Capital Nature
REFRESH-INTERVAL;VALUE=DURATION:PT1H
X-Robots-Tag:noindex
X-PUBLISHED-TTL:PT1H
BEGIN:VTIMEZONE
TZID:America/New_York
BEGIN:DAYLIGHT
TZOFFSETFROM:-0500
TZOFFSETTO:-0400
TZNAME:EDT
DTSTART:20250309T070000
END:DAYLIGHT
BEGIN:STANDARD
TZOFFSETFROM:-0400
TZOFFSETTO:-0500
TZNAME:EST
DTSTART:20251102T060000
END:STANDARD
BEGIN:DAYLIGHT
TZOFFSETFROM:-0500
TZOFFSETTO:-0400
TZNAME:EDT
DTSTART:20260308T070000
END:DAYLIGHT
BEGIN:STANDARD
TZOFFSETFROM:-0400
TZOFFSETTO:-0500
TZNAME:EST
DTSTART:20261101T060000
END:STANDARD
BEGIN:DAYLIGHT
TZOFFSETFROM:-0500
TZOFFSETTO:-0400
TZNAME:EDT
DTSTART:20270314T070000
END:DAYLIGHT
BEGIN:STANDARD
TZOFFSETFROM:-0400
TZOFFSETTO:-0500
TZNAME:EST
DTSTART:20271107T060000
END:STANDARD
END:VTIMEZONE
BEGIN:VEVENT
DTSTART;TZID=America/New_York:20260329T060000
DTEND;TZID=America/New_York:20260329T090000
DTSTAMP:20260424T075638
CREATED:20260325T012820Z
LAST-MODIFIED:20260325T012931Z
UID:10004247-1774764000-1774774800@capitalnature.org
SUMMARY:Cherry Blossoms Photography Workshop
DESCRIPTION:(VA) (NOVA Parks) Enjoy premium golden-hour light and exclusive\, pre-opening access to Meadowlark Botanical Gardens! This photography session focuses on all things Cherry Blossoms\, including landscapes\, close-up/macro shots and wildlife. Meadowlark features both beautifully curated gardens and rich natural areas—an ideal setting for wildlife photography. And of course\, you are welcome to focus on any subject that inspires you. \nAll skill levels and all types of equipment are welcome. Ages 12 +.
URL:https://capitalnature.org/event/cherry-blossoms-photography-workshop/
LOCATION:Meadowlark Botanical Gardens\, 9750 Meadowlark Gardens\, Vienna\, VA\, 22182\, United States
CATEGORIES:Classes & Workshops,Outdoor Experience,Photography
END:VEVENT
BEGIN:VEVENT
DTSTART;TZID=America/New_York:20260330T100000
DTEND;TZID=America/New_York:20260330T120000
DTSTAMP:20260424T075638
CREATED:20260308T231345Z
LAST-MODIFIED:20260308T231345Z
UID:10004184-1774864800-1774872000@capitalnature.org
SUMMARY:Exploring Leaf Shapes
DESCRIPTION:(DC) (US Botanic Garden) Join Lilly Andersen\, USBG Family Education Specialist as you observe leaves of different shapes and sizes while considering the question: Why do leaves come in so many different forms? Learn to recognize patterns between the shapes and structures of leaves from a wide variety of plants\, and then use your new knowledge to explore the Garden with a new perspective.
URL:https://capitalnature.org/event/exploring-leaf-shapes/
LOCATION:US Botanic Garden\, 100 Maryland Ave SW\, Washington DC\, 20001\, United States
CATEGORIES:Classes & Workshops,Family,Plants
END:VEVENT
BEGIN:VEVENT
DTSTART;TZID=America/New_York:20260331T190000
DTEND;TZID=America/New_York:20260331T200000
DTSTAMP:20260424T075638
CREATED:20260323T222147Z
LAST-MODIFIED:20260323T222147Z
UID:10004220-1774983600-1774987200@capitalnature.org
SUMMARY:Backyard Bird ID (Virtual)
DESCRIPTION:(VA) (Northern Virginia Bird Alliance) Do you want to learn how to identify the birds that flock to your backyard everyday? Or maybe you’re preparing for our annual spring fundraiser\, Birdathon. Join this online course to brush up on your bird identification skills with NVBA Vice President\, Andreas Seiter! During this program\, your instructor will: \n\n\nReview common backyard bird species you’re likely to see year-round. \n\n\nDiscuss migratory species that might pass through your yard this spring. \n\n\nShowcase birding tools: from eBird to field guides to binoculars. \n\n\nInstruct birders on how to use eBird to report birds you observe. \n\n\nThis program is designed for beginner birders but can also serve as a helpful refresher for more experienced birders.
URL:https://capitalnature.org/event/backyard-bird-id-virtual/
CATEGORIES:Birds,Classes & Workshops
END:VEVENT
BEGIN:VEVENT
DTSTART;TZID=America/New_York:20260401T090000
DTEND;TZID=America/New_York:20260401T103000
DTSTAMP:20260424T075638
CREATED:20260324T233604Z
LAST-MODIFIED:20260324T233604Z
UID:10004232-1775034000-1775039400@capitalnature.org
SUMMARY:Tai Chi at Brookside
DESCRIPTION:(MD) (Montgomery Parks) Tai Chi is an ancient\, Chinese form of exercise perfect for adults seeking stress reduction while strengthening muscles\, improving balance and increasing ﬂexibility. The Forms are repetitive patterns that emphasize slow\, ﬂowing motions and controlled movements. Classes will help beginners to learn the Forms while providing regular practitioners the guidance of an experienced instructor. No walk-ins will be accepted. Ages 18+. \nLocation: Brookside Gardens Visitor Center (March – April) or Japanese Tea House (May – August) \nInstructor: Charles Votaw
URL:https://capitalnature.org/event/tai-chi-at-brookside-4/
LOCATION:Brookside Gardens\, 1800 Glenallan Avenue\, Wheaton\, MD\, 20902\, United States
CATEGORIES:Adults,Classes & Workshops,Wellness
GEO:39.0581511;-77.0373745
X-APPLE-STRUCTURED-LOCATION;VALUE=URI;X-ADDRESS=Brookside Gardens 1800 Glenallan Avenue Wheaton MD 20902 United States;X-APPLE-RADIUS=500;X-TITLE=1800 Glenallan Avenue:geo:-77.0373745,39.0581511
END:VEVENT
BEGIN:VEVENT
DTSTART;TZID=America/New_York:20260401T190000
DTEND;TZID=America/New_York:20260401T203000
DTSTAMP:20260424T075638
CREATED:20260324T233820Z
LAST-MODIFIED:20260324T233820Z
UID:10004233-1775070000-1775075400@capitalnature.org
SUMMARY:Cultivating Ecology: A Practical Guide (Virtual)
DESCRIPTION:(MD) (Montgomery Parks) Discover practical ways to transform your yard into a thriving\, sustainable landscape. Drawing from the presenter’s own garden\, this talk explores phased planning\, habitat-rich garden bed design\, and how to choose native plants suited to your conditions. Learn actionable strategies that increase ecological value\, support wildlife\, and help you move confidently toward eco-friendly gardening practices. \nDrew Asbury\, Brookside Gardens Horticulturist
URL:https://capitalnature.org/event/cultivating-ecology-a-practical-guide-virtual/
CATEGORIES:Classes & Workshops,Conservation,Gardening for Wildlife
END:VEVENT
BEGIN:VEVENT
DTSTART;TZID=America/New_York:20260402T183000
DTEND;TZID=America/New_York:20260402T203000
DTSTAMP:20260424T075638
CREATED:20260331T172144Z
LAST-MODIFIED:20260331T172144Z
UID:10004289-1775154600-1775161800@capitalnature.org
SUMMARY:Naturalist Tools for Community Science
DESCRIPTION:(MD) (Nature Forward) Join Naturalist and Capital Nature co-founder Ana Ka’ahanui for this 5-week online course to gain practical fluency with digital apps (like iNaturalist\, eBird\, Merlin Bird ID\, and GLOBE Observer) and websites used by naturalists\, researchers\, and conservationists worldwide. Along the way\, you’ll learn how everyday observations contribute to scientific knowledge and conservation efforts. This course is part of Nature Forward’s Natural History Field Studies program. Starts\, Thursday\, April 2 and runs for 5 weeks through April 30.
URL:https://capitalnature.org/event/naturalist-tools-for-community-science/
CATEGORIES:Citizen Science,Classes & Workshops
ORGANIZER;CN="Nature Forward":MAILTO:contact@natureforward.org
END:VEVENT
BEGIN:VEVENT
DTSTART;TZID=America/New_York:20260403T070000
DTEND;TZID=America/New_York:20260403T093000
DTSTAMP:20260424T075638
CREATED:20260325T013255Z
LAST-MODIFIED:20260325T013255Z
UID:10004249-1775199600-1775208600@capitalnature.org
SUMMARY:Bluebells Photography Workshop
DESCRIPTION:(VA) (NOVA Parks) Join Roving Naturalist and wildlife photographer Matt Felperin at Bull Run Regional Park to experience and capture the magic of the Virginia Bluebells! At this nature photography workshop\, learn how to take stunning photos of this mystical landscape as well as close ups of the fleeting flowers themselves. Digital cameras and appropriate lenses encouraged\, but even your smart phones can deliver excellent results! \nAll skill levels and all types of equipment are welcome. Ages 12 +.
URL:https://capitalnature.org/event/bluebells-photography-workshop/
LOCATION:Bull Run Regional Park\, 7700 Bull Run Drive\, Centreville\, VA\, 20121\, United States
CATEGORIES:Classes & Workshops,Outdoor Experience,Photography
END:VEVENT
BEGIN:VEVENT
DTSTART;TZID=America/New_York:20260403T160000
DTEND;TZID=America/New_York:20260403T180000
DTSTAMP:20260424T075638
CREATED:20260323T222907Z
LAST-MODIFIED:20260323T222907Z
UID:10004222-1775232000-1775239200@capitalnature.org
SUMMARY:Beginner Birding at Occoquan Bay
DESCRIPTION:(VA) (Northern Virginia Bird Alliance) Join  NVBA for beginner birding at the beautiful Occoquan Bay National Wildlife Refuge\, “an oasis for migratory birds and busy city residents seeking a quiet escape from development.” On this guided walk\, you’ll explore the refuge’s diverse waterfowl species with naturalist Andreas Seiter.
URL:https://capitalnature.org/event/beginner-birding-at-occoquan-bay/
LOCATION:Occoquan Bay National Wildlife Refuge\, 14050 Dawson Beach Rd\, Woodbridge\, VA\, 22191\, United States
CATEGORIES:Birding,Classes & Workshops,Outdoor Experience
END:VEVENT
BEGIN:VEVENT
DTSTART;TZID=America/New_York:20260404T193000
DTEND;TZID=America/New_York:20260404T210000
DTSTAMP:20260424T075638
CREATED:20260324T234832Z
LAST-MODIFIED:20260324T234832Z
UID:10004236-1775331000-1775336400@capitalnature.org
SUMMARY:Community Science Night
DESCRIPTION:(MD) (Montgomery Parks) Are you interested in learning about local wildlife and helping out nature. Then check out our Community Science program at Locust Grove Nature Center. Nighttime is often the best chance to encounter wildlife such as owls\, foxes\, bats\, and frogs. Join a Naturalist for a guided wildlife-monitoring walk and help document the species that make their home here. Each session introduces participants to the iNaturalist app (please download ahead of time)\, which we’ll use to record photos and sounds of the plants and animals we discover.  Ages 16 +.
URL:https://capitalnature.org/event/community-science-night/
LOCATION:Locust Grove Nature Center\, 7777 Democracy Blvd\, Bethesda\, MD\, 20817\, United States
CATEGORIES:Citizen Science,Classes & Workshops,Nature Observation
END:VEVENT
END:VCALENDAR