BEGIN:VCALENDAR
VERSION:2.0
PRODID:-//Capital Nature - ECPv6.15.20//NONSGML v1.0//EN
CALSCALE:GREGORIAN
METHOD:PUBLISH
X-WR-CALNAME:Capital Nature
X-ORIGINAL-URL:https://capitalnature.org
X-WR-CALDESC:Events for Capital Nature
REFRESH-INTERVAL;VALUE=DURATION:PT1H
X-Robots-Tag:noindex
X-PUBLISHED-TTL:PT1H
BEGIN:VTIMEZONE
TZID:America/New_York
BEGIN:DAYLIGHT
TZOFFSETFROM:-0500
TZOFFSETTO:-0400
TZNAME:EDT
DTSTART:20250309T070000
END:DAYLIGHT
BEGIN:STANDARD
TZOFFSETFROM:-0400
TZOFFSETTO:-0500
TZNAME:EST
DTSTART:20251102T060000
END:STANDARD
BEGIN:DAYLIGHT
TZOFFSETFROM:-0500
TZOFFSETTO:-0400
TZNAME:EDT
DTSTART:20260308T070000
END:DAYLIGHT
BEGIN:STANDARD
TZOFFSETFROM:-0400
TZOFFSETTO:-0500
TZNAME:EST
DTSTART:20261101T060000
END:STANDARD
BEGIN:DAYLIGHT
TZOFFSETFROM:-0500
TZOFFSETTO:-0400
TZNAME:EDT
DTSTART:20270314T070000
END:DAYLIGHT
BEGIN:STANDARD
TZOFFSETFROM:-0400
TZOFFSETTO:-0500
TZNAME:EST
DTSTART:20271107T060000
END:STANDARD
END:VTIMEZONE
BEGIN:VEVENT
DTSTART;TZID=America/New_York:20260324T180000
DTEND;TZID=America/New_York:20260324T190000
DTSTAMP:20260424T092803
CREATED:20260308T222508Z
LAST-MODIFIED:20260308T222508Z
UID:10004169-1774375200-1774378800@capitalnature.org
SUMMARY:Stream Team Leader Training (Virtual)
DESCRIPTION:(DC) (MD) (Rock Creek Conservancy) Please join Rock Creek Conservancy for a virtual training for our Stream Team Leader program. Stream Team Leaders are dedicated volunteers that work with the Conservancy to host their own trash cleanups and stormwater engagement events\, increasing stewardship actions within their communities and throughout Washington\, D.C. and Montgomery County\, MD. The training will take place on zoom. A link will be sent to all registered participants on the day of the training.
URL:https://capitalnature.org/event/stream-team-leader-training-virtual-5/
CATEGORIES:Classes & Workshops,Stewardship,Volunteering
END:VEVENT
BEGIN:VEVENT
DTSTART;TZID=America/New_York:20260324T190000
DTEND;TZID=America/New_York:20260324T200000
DTSTAMP:20260424T092803
CREATED:20260323T211407Z
LAST-MODIFIED:20260323T211407Z
UID:10004215-1774378800-1774382400@capitalnature.org
SUMMARY:Birding by Ear (Virtual)
DESCRIPTION:(VA) (Northern Virginia Bird Alliance) Do you want to learn how to bird by ear or improve your song identification? Join us for a virtual course on Birding by Ear with Colt Gregory. During this program\, your instructor will: \n\n\nExplain the many benefits of birding by ear \n\n\nIntroduce some of the most common birds through their songs and calls \n\n\nShare helpful resources and apps to help you practice and improve your birding-by-ear skills. \n\n\nThis program is designed for beginner birders but can also serve as a helpful refresher for more experienced birders.
URL:https://capitalnature.org/event/birding-by-ear-virtual/
CATEGORIES:Birds,Classes & Workshops
END:VEVENT
BEGIN:VEVENT
DTSTART;TZID=America/New_York:20260325T090000
DTEND;TZID=America/New_York:20260325T103000
DTSTAMP:20260424T092803
CREATED:20260324T213903Z
LAST-MODIFIED:20260324T213903Z
UID:10004225-1774429200-1774434600@capitalnature.org
SUMMARY:Tai Chi at Brookside
DESCRIPTION:(MD) (Montgomery Parks) Tai Chi is an ancient\, Chinese form of exercise perfect for adults seeking stress reduction while strengthening muscles\, improving balance and increasing ﬂexibility. The Forms are repetitive patterns that emphasize slow\, ﬂowing motions and controlled movements. Classes will help beginners to learn the Forms while providing regular practitioners the guidance of an experienced instructor. No walk-ins will be accepted. Ages 18+. \nLocation: Brookside Gardens Visitor Center (March – April) or Japanese Tea House (May – August) \nInstructor: Charles Votaw
URL:https://capitalnature.org/event/tai-chi-at-brookside-3/
LOCATION:Brookside Gardens\, 1800 Glenallan Avenue\, Wheaton\, MD\, 20902\, United States
CATEGORIES:Adults,Classes & Workshops,Wellness
GEO:39.0581511;-77.0373745
X-APPLE-STRUCTURED-LOCATION;VALUE=URI;X-ADDRESS=Brookside Gardens 1800 Glenallan Avenue Wheaton MD 20902 United States;X-APPLE-RADIUS=500;X-TITLE=1800 Glenallan Avenue:geo:-77.0373745,39.0581511
END:VEVENT
BEGIN:VEVENT
DTSTART;TZID=America/New_York:20260325T180000
DTEND;TZID=America/New_York:20260325T190000
DTSTAMP:20260424T092803
CREATED:20260325T183204Z
LAST-MODIFIED:20260325T183204Z
UID:10004279-1774461600-1774465200@capitalnature.org
SUMMARY:Rare Plants of Virginia (Virtual)
DESCRIPTION:(VA) (Arlington Parks) From the top of Mount Rogers to the beaches of the Eastern Shore\, Virginia hosts an incredible diversity of plants and plant communities including cacti\, orchids\, and carnivorous plants. Join our naturalist on a photographic journey of some of the most unusual\, uncommon\, and threatened plants found in the commonwealth.
URL:https://capitalnature.org/event/rare-plants-of-virginia-virtual/
CATEGORIES:Adults,Classes & Workshops,Plants
END:VEVENT
BEGIN:VEVENT
DTSTART;TZID=America/New_York:20260326T190000
DTEND;TZID=America/New_York:20260326T200000
DTSTAMP:20260424T092803
CREATED:20260207T231234Z
LAST-MODIFIED:20260207T231234Z
UID:10004135-1774551600-1774555200@capitalnature.org
SUMMARY:Jelly Fungi and Lookalikes (Virtual)
DESCRIPTION:(MD) (Natural History Society of Maryland) From translucent blobs to coral-like clusters\, jelly fungi are among the most visually striking and biologically fascinating organisms found on Maryland’s forest floor. These gelatinous decomposers come in a spectrum of colors—bright orange\, inky black\, creamy white—and textures that range from rubbery cushions to toothy caps. Often mistaken for slime molds or cup fungi\, jelly fungi play a vital role in breaking down dead wood and recycling nutrients in forest ecosystems. \nIn this talk\, William Needham—Master Naturalist and former president of the Mycological Association of Washington—will guide us through the science and folklore of these squishy wonders.
URL:https://capitalnature.org/event/jelly-fungi-and-lookalikes-virtual/
CATEGORIES:Classes & Workshops
END:VEVENT
BEGIN:VEVENT
DTSTART;TZID=America/New_York:20260326T190000
DTEND;TZID=America/New_York:20260326T200000
DTSTAMP:20260424T092803
CREATED:20260308T231122Z
LAST-MODIFIED:20260308T231122Z
UID:10004183-1774551600-1774555200@capitalnature.org
SUMMARY:Nature Narrative Writing (Virtual)
DESCRIPTION:(DC) (US Botanic Garden) In the spirit of her book\, “Writing Wild: Women Poets\, Ramblers\, and Mavericks Who Shape How We See the Natural World\,” Kathryn Aalto\, Historian\, Teacher\, Speaker\, and New York Times Best-selling Author will guide participants in how to observe the world around them with a writer’s eye\, translating your observations into powerful\, evocative prose that not only informs but also inspires readers to see the natural world in new ways.
URL:https://capitalnature.org/event/nature-narrative-writing-virtual/
CATEGORIES:Classes & Workshops,Literary,Plants
END:VEVENT
BEGIN:VEVENT
DTSTART;TZID=America/New_York:20260327T060000
DTEND;TZID=America/New_York:20260327T090000
DTSTAMP:20260424T092803
CREATED:20260325T013108Z
LAST-MODIFIED:20260325T013108Z
UID:10004248-1774591200-1774602000@capitalnature.org
SUMMARY:Cherry Blossoms Photography Workshop
DESCRIPTION:(VA) (NOVA Parks) Enjoy premium golden-hour light and exclusive\, pre-opening access to Meadowlark Botanical Gardens! This photography session focuses on all things Cherry Blossoms\, including landscapes\, close-up/macro shots and wildlife. Meadowlark features both beautifully curated gardens and rich natural areas—an ideal setting for wildlife photography. And of course\, you are welcome to focus on any subject that inspires you. \nAll skill levels and all types of equipment are welcome. Ages 12 +.
URL:https://capitalnature.org/event/cherry-blossoms-photography-workshop-2/
LOCATION:Meadowlark Botanical Gardens\, 9750 Meadowlark Gardens\, Vienna\, VA\, 22182\, United States
CATEGORIES:Classes & Workshops,Outdoor Experience,Photography
END:VEVENT
BEGIN:VEVENT
DTSTART;TZID=America/New_York:20260328T120000
DTEND;TZID=America/New_York:20260328T140000
DTSTAMP:20260424T092803
CREATED:20260326T010748Z
LAST-MODIFIED:20260326T010748Z
UID:10004286-1774699200-1774706400@capitalnature.org
SUMMARY:Pollinator Garden Workshop at Capitol View
DESCRIPTION:(DC) (DC Natives) Join us as we demonstrate the sheet mulching method of soil preparation and sowing a new pollinator garden from seed. This is a low cost method of establishing a new pollinator garden that will produce annual flowers this season and perennial flowers and grasses for years to come. \nLocation: 120 57th St. SE (1 block from Capitol Heights Metro) DC Natives will provide gardening supplies. Please bring garden gloves and a shovel or rake (if you have one) and wear closed-toe shoes.
URL:https://capitalnature.org/event/pollinator-garden-workshop-at-capitol-view/
CATEGORIES:Classes & Workshops,Gardening for Wildlife
END:VEVENT
END:VCALENDAR