BEGIN:VCALENDAR
VERSION:2.0
PRODID:-//Capital Nature - ECPv6.15.20//NONSGML v1.0//EN
CALSCALE:GREGORIAN
METHOD:PUBLISH
X-ORIGINAL-URL:https://capitalnature.org
X-WR-CALDESC:Events for Capital Nature
REFRESH-INTERVAL;VALUE=DURATION:PT1H
X-Robots-Tag:noindex
X-PUBLISHED-TTL:PT1H
BEGIN:VTIMEZONE
TZID:America/New_York
BEGIN:DAYLIGHT
TZOFFSETFROM:-0500
TZOFFSETTO:-0400
TZNAME:EDT
DTSTART:20250309T070000
END:DAYLIGHT
BEGIN:STANDARD
TZOFFSETFROM:-0400
TZOFFSETTO:-0500
TZNAME:EST
DTSTART:20251102T060000
END:STANDARD
BEGIN:DAYLIGHT
TZOFFSETFROM:-0500
TZOFFSETTO:-0400
TZNAME:EDT
DTSTART:20260308T070000
END:DAYLIGHT
BEGIN:STANDARD
TZOFFSETFROM:-0400
TZOFFSETTO:-0500
TZNAME:EST
DTSTART:20261101T060000
END:STANDARD
BEGIN:DAYLIGHT
TZOFFSETFROM:-0500
TZOFFSETTO:-0400
TZNAME:EDT
DTSTART:20270314T070000
END:DAYLIGHT
BEGIN:STANDARD
TZOFFSETFROM:-0400
TZOFFSETTO:-0500
TZNAME:EST
DTSTART:20271107T060000
END:STANDARD
END:VTIMEZONE
BEGIN:VEVENT
DTSTART;TZID=America/New_York:20260201T133000
DTEND;TZID=America/New_York:20260201T143000
DTSTAMP:20260424T111632
CREATED:20260114T215154Z
LAST-MODIFIED:20260114T215154Z
UID:10004039-1769952600-1769956200@capitalnature.org
SUMMARY:Moon Gardens
DESCRIPTION:(VA) (Fairfax County Parks) Designed as a tranquil\, rejuvenating retreat for the end of the day\, a moon garden comes to life at twilight and into the night. Discover with Green Spring horticulturist\, Pam Smith\, how to cultivate this serene space with plants that glow softly in the dark and foliage that shimmers in the moonlight. Ages 16 to Adult.
URL:https://capitalnature.org/event/moon-gardens/
LOCATION:Green Spring Gardens\, 4603 Green Spring Rd\, United States
CATEGORIES:Classes & Workshops,Garden Experience
END:VEVENT
BEGIN:VEVENT
DTSTART;TZID=America/New_York:20260202T190000
DTEND;TZID=America/New_York:20260202T210000
DTSTAMP:20260424T111632
CREATED:20260111T210258Z
LAST-MODIFIED:20260111T210358Z
UID:10003945-1770058800-1770066000@capitalnature.org
SUMMARY:Identification and Ecology of Bark (Virtual)
DESCRIPTION:(MD) (Natural History Society of Maryland) Many people know how to identify trees by their leaves\, but what about when those leaves have fallen or are out of reach? In this two-part course with Michael Wojtech\, you will learn about a system for noticing the beautiful variety of bark characteristics and for using these traits to identify tree species in any season. We will practice using the identification key in our Michael’s text\, Bark: A Field Guide to Trees of the Northeast. You will also discover the function and ecological role of bark. \nThe second session will take place on Feb. 9th.
URL:https://capitalnature.org/event/species-id-and-ecology-of-bark-virtual/
CATEGORIES:Classes & Workshops,Plants,Trees
END:VEVENT
BEGIN:VEVENT
DTSTART;TZID=America/New_York:20260207T063000
DTEND;TZID=America/New_York:20260207T093000
DTSTAMP:20260424T111632
CREATED:20260110T023750Z
LAST-MODIFIED:20260110T023750Z
UID:10003908-1770445800-1770456600@capitalnature.org
SUMMARY:Exploring Blackwater Wildlife Refuge through Photography
DESCRIPTION:(MD) (Capital Photography Center) Join us on Maryland’s Eastern Shore with Kim Kelly as we explore Blackwater National Wildlife Refuge. This sanctuary has over 32\,000 acres of diverse habitats attracting waterfowl and other birds along the Atlantic Flyway. Winter months can be awesome for photographing birds and wildlife in the DMV area. At this time of year\, the eagles are plentiful as pairs match up and begin nest building. \nWe will be honing our skills at photographing birds and other potential wildlife as we move around the refuge.
URL:https://capitalnature.org/event/exploring-blackwater-wildlife-refuge-through-photography-2/
CATEGORIES:Classes & Workshops,Nature Observation,Photography
ORGANIZER;CN="Capital Photography Center":MAILTO:info@capitalPhotographyCenter.com.
END:VEVENT
BEGIN:VEVENT
DTSTART;TZID=America/New_York:20260207T130000
DTEND;TZID=America/New_York:20260207T150000
DTSTAMP:20260424T111632
CREATED:20260114T033132Z
LAST-MODIFIED:20260114T033132Z
UID:10004027-1770469200-1770476400@capitalnature.org
SUMMARY:Winter Native Plant Sowing
DESCRIPTION:(MD) (Montgomery Parks) Are you interested in starting your own native plants\, even if you don’t have a greenhouse? Then join us to make your own native seed winter sowing containers. We will provide the materials\, and you choose the seeds to try. Stop in any time during the program.
URL:https://capitalnature.org/event/winter-native-plant-sowing/
LOCATION:Black Hill Discovery Center\, 20926 Lake Ridge Drive\, Boyds\, MD\, 20841\, United States
CATEGORIES:Classes & Workshops,Plants
GEO:39.1925249;-77.2961381
X-APPLE-STRUCTURED-LOCATION;VALUE=URI;X-ADDRESS=Black Hill Discovery Center 20926 Lake Ridge Drive Boyds MD 20841 United States;X-APPLE-RADIUS=500;X-TITLE=20926 Lake Ridge Drive:geo:-77.2961381,39.1925249
END:VEVENT
BEGIN:VEVENT
DTSTART;TZID=America/New_York:20260207T140000
DTEND;TZID=America/New_York:20260207T150000
DTSTAMP:20260424T111632
CREATED:20260114T225432Z
LAST-MODIFIED:20260118T013420Z
UID:10004054-1770472800-1770476400@capitalnature.org
SUMMARY:Won't You be My Owlentine?
DESCRIPTION:(VA) (NOVA Parks) Love is in the air… and literally for these beautiful birds of prey! See live raptors\, learn about their mating habits during breeding season\, and have your picture taken with a live bird of prey. Age 6+.
URL:https://capitalnature.org/event/wont-you-be-my-owletine/
LOCATION:Potomac Overlook Regional Park\, 2845 N. Marcey Road\, Arlington\, VA\, 22207\, United States
CATEGORIES:Birds,Classes & Workshops,Social & Cultural
END:VEVENT
END:VCALENDAR