BEGIN:VCALENDAR
VERSION:2.0
PRODID:-//Capital Nature - ECPv6.15.20//NONSGML v1.0//EN
CALSCALE:GREGORIAN
METHOD:PUBLISH
X-WR-CALNAME:Capital Nature
X-ORIGINAL-URL:https://capitalnature.org
X-WR-CALDESC:Events for Capital Nature
REFRESH-INTERVAL;VALUE=DURATION:PT1H
X-Robots-Tag:noindex
X-PUBLISHED-TTL:PT1H
BEGIN:VTIMEZONE
TZID:America/New_York
BEGIN:DAYLIGHT
TZOFFSETFROM:-0500
TZOFFSETTO:-0400
TZNAME:EDT
DTSTART:20250309T070000
END:DAYLIGHT
BEGIN:STANDARD
TZOFFSETFROM:-0400
TZOFFSETTO:-0500
TZNAME:EST
DTSTART:20251102T060000
END:STANDARD
BEGIN:DAYLIGHT
TZOFFSETFROM:-0500
TZOFFSETTO:-0400
TZNAME:EDT
DTSTART:20260308T070000
END:DAYLIGHT
BEGIN:STANDARD
TZOFFSETFROM:-0400
TZOFFSETTO:-0500
TZNAME:EST
DTSTART:20261101T060000
END:STANDARD
BEGIN:DAYLIGHT
TZOFFSETFROM:-0500
TZOFFSETTO:-0400
TZNAME:EDT
DTSTART:20270314T070000
END:DAYLIGHT
BEGIN:STANDARD
TZOFFSETFROM:-0400
TZOFFSETTO:-0500
TZNAME:EST
DTSTART:20271107T060000
END:STANDARD
END:VTIMEZONE
BEGIN:VEVENT
DTSTART;TZID=America/New_York:20260117T110000
DTEND;TZID=America/New_York:20260117T120000
DTSTAMP:20260424T123852
CREATED:20260110T010121Z
LAST-MODIFIED:20260110T010210Z
UID:10003885-1768647600-1768651200@capitalnature.org
SUMMARY:The Natural World of Winnie-The-Pooh (Virtual)
DESCRIPTION:(DC) (US Botanic Garden) A.A. Milne’s Winnie-the-Pooh stories have enchanted generations with their whimsical characters\, gentle humor\, and deep connection to the natural world. Join Kathryn Aalto\, historian\, teacher\, speaker\, and New York Times best-selling author as she transports audiences to the real-life Ashdown Forest\, the inspiration for the Hundred Acre Wood\, through her book “The Natural World of Winnie-the-Pooh.”
URL:https://capitalnature.org/event/the-natural-world-of-winnie-the-pooh-virtual/
LOCATION:US Botanic Garden\, 100 Maryland Ave SW\, Washington DC\, 20001\, United States
CATEGORIES:Classes & Workshops,Literary,Plants
END:VEVENT
BEGIN:VEVENT
DTSTART;TZID=America/New_York:20260117T133000
DTEND;TZID=America/New_York:20260117T153000
DTSTAMP:20260424T123852
CREATED:20260114T030859Z
LAST-MODIFIED:20260114T030859Z
UID:10004019-1768656600-1768663800@capitalnature.org
SUMMARY:Make a Suncatcher
DESCRIPTION:(MD) (Montgomery Parks) Drop by the Discovery Center and have some fun! We’ll have easy-to-make seasonal crafts that you can make and take home. Today we’ll be making suncatchers.
URL:https://capitalnature.org/event/make-a-suncatcher/
LOCATION:Black Hill Discovery Center\, 20926 Lake Ridge Drive\, Boyds\, MD\, 20841\, United States
CATEGORIES:Art,Classes & Workshops,Nature Craft
GEO:39.1925249;-77.2961381
X-APPLE-STRUCTURED-LOCATION;VALUE=URI;X-ADDRESS=Black Hill Discovery Center 20926 Lake Ridge Drive Boyds MD 20841 United States;X-APPLE-RADIUS=500;X-TITLE=20926 Lake Ridge Drive:geo:-77.2961381,39.1925249
END:VEVENT
BEGIN:VEVENT
DTSTART;TZID=America/New_York:20260117T190000
DTEND;TZID=America/New_York:20260117T203000
DTSTAMP:20260424T123852
CREATED:20260114T005026Z
LAST-MODIFIED:20260114T005026Z
UID:10003992-1768676400-1768681800@capitalnature.org
SUMMARY:The Disappearance and Persistence of Bees (Virtual)
DESCRIPTION:(VA) (Loudoun Wildlife Conservancy) The demise and disappearance of bees is well documented\, yet bees still persist. Wildlife biologist Sam Droege shares a more nuanced look at the current state of native bees based on his research. This presentation is co-sponsored by the Loudoun County Public Library.
URL:https://capitalnature.org/event/the-disappearance-and-persistence-of-bees-virtual/
CATEGORIES:Animals,Classes & Workshops
END:VEVENT
END:VCALENDAR