BEGIN:VCALENDAR
VERSION:2.0
PRODID:-//Capital Nature - ECPv6.15.20//NONSGML v1.0//EN
CALSCALE:GREGORIAN
METHOD:PUBLISH
X-ORIGINAL-URL:https://capitalnature.org
X-WR-CALDESC:Events for Capital Nature
REFRESH-INTERVAL;VALUE=DURATION:PT1H
X-Robots-Tag:noindex
X-PUBLISHED-TTL:PT1H
BEGIN:VTIMEZONE
TZID:America/New_York
BEGIN:DAYLIGHT
TZOFFSETFROM:-0500
TZOFFSETTO:-0400
TZNAME:EDT
DTSTART:20250309T070000
END:DAYLIGHT
BEGIN:STANDARD
TZOFFSETFROM:-0400
TZOFFSETTO:-0500
TZNAME:EST
DTSTART:20251102T060000
END:STANDARD
BEGIN:DAYLIGHT
TZOFFSETFROM:-0500
TZOFFSETTO:-0400
TZNAME:EDT
DTSTART:20260308T070000
END:DAYLIGHT
BEGIN:STANDARD
TZOFFSETFROM:-0400
TZOFFSETTO:-0500
TZNAME:EST
DTSTART:20261101T060000
END:STANDARD
BEGIN:DAYLIGHT
TZOFFSETFROM:-0500
TZOFFSETTO:-0400
TZNAME:EDT
DTSTART:20270314T070000
END:DAYLIGHT
BEGIN:STANDARD
TZOFFSETFROM:-0400
TZOFFSETTO:-0500
TZNAME:EST
DTSTART:20271107T060000
END:STANDARD
END:VTIMEZONE
BEGIN:VEVENT
DTSTART;TZID=America/New_York:20260129T093000
DTEND;TZID=America/New_York:20260129T133000
DTSTAMP:20260424T124429
CREATED:20260110T022836Z
LAST-MODIFIED:20260111T005126Z
UID:10003905-1769679000-1769693400@capitalnature.org
SUMMARY:Little Critters Nature Play
DESCRIPTION:(DC) (Smithsonian National Zoo) Celebrate the seasons with us! Join us for creative\, drop-in play at the Zoo as we explore the beautiful plants that grow in gardens year-round. Little Critters: Nature Play is designed for ages 0-5 and their caregivers and families. Activities are designed with early learners in mind\, but all ages are welcome.
URL:https://capitalnature.org/event/little-critters-nature-play-at-the-bird-house-7/
LOCATION:Smithsonian’s National Zoo\, 3001 Connecticut Avenue\, NW\, Washington\, DC\, 20008\, United States
CATEGORIES:Children,Nature Play
ORGANIZER;CN="Smithsonian's National Zoo":MAILTO:zooinfo@si.edu
END:VEVENT
BEGIN:VEVENT
DTSTART;TZID=America/New_York:20260127T093000
DTEND;TZID=America/New_York:20260127T133000
DTSTAMP:20260424T124429
CREATED:20260110T022358Z
LAST-MODIFIED:20260111T005141Z
UID:10003903-1769506200-1769520600@capitalnature.org
SUMMARY:Little Critters Nature Play
DESCRIPTION:(DC) (Smithsonian National Zoo) Celebrate the seasons with us! Join us for creative\, drop-in play at the Zoo as we explore the beautiful plants that grow in gardens year-round. Little Critters: Nature Play is designed for ages 0-5 and their caregivers and families. Activities are designed with early learners in mind\, but all ages are welcome.
URL:https://capitalnature.org/event/little-critters-nature-play-at-the-bird-house-6/
LOCATION:Smithsonian’s National Zoo\, 3001 Connecticut Avenue\, NW\, Washington\, DC\, 20008\, United States
CATEGORIES:Children,Nature Play
ORGANIZER;CN="Smithsonian's National Zoo":MAILTO:zooinfo@si.edu
END:VEVENT
BEGIN:VEVENT
DTSTART;TZID=America/New_York:20260126T100000
DTEND;TZID=America/New_York:20260126T113000
DTSTAMP:20260424T124429
CREATED:20260114T032129Z
LAST-MODIFIED:20260114T032129Z
UID:10004023-1769421600-1769427000@capitalnature.org
SUMMARY:Wild Child Hike
DESCRIPTION:(MD) (Montgomery Parks) This isn’t your average walk in the woods. Scamper like a squirrel\, balance like a billy goat\, and run like a rabbit through the park. We’ll be on and off the trail as we go on a hiking adventure. Wear shoes and clothes you don’t mind getting dirty. Ages 4 to 11.
URL:https://capitalnature.org/event/wild-child-hike/
LOCATION:Black Hill Discovery Center\, 20926 Lake Ridge Drive\, Boyds\, MD\, 20841\, United States
CATEGORIES:Children,Nature Play,Outdoor Experience
GEO:39.1925249;-77.2961381
X-APPLE-STRUCTURED-LOCATION;VALUE=URI;X-ADDRESS=Black Hill Discovery Center 20926 Lake Ridge Drive Boyds MD 20841 United States;X-APPLE-RADIUS=500;X-TITLE=20926 Lake Ridge Drive:geo:-77.2961381,39.1925249
END:VEVENT
BEGIN:VEVENT
DTSTART;TZID=America/New_York:20260125T100000
DTEND;TZID=America/New_York:20260125T103000
DTSTAMP:20260424T124429
CREATED:20260113T191856Z
LAST-MODIFIED:20260113T191856Z
UID:10003979-1769335200-1769337000@capitalnature.org
SUMMARY:Winter Wildlife Detectives
DESCRIPTION:(DC) (National Park Service) Bundle up and step into the role of a Winter Wildlife Detective! Explore real pelts and tracks from Rock Creek Park animals—like foxes\, coyotes\, raccoons\, and even sleepy woodchucks—and uncover the secrets they leave behind in the snow. Through hands-on discovery and fun clue-hunting questions\, kids learn how animals stay warm\, find food\, and survive the chilly season. Join us to track\, explore\, and reveal the wild winter stories hiding just beneath our feet!
URL:https://capitalnature.org/event/winter-wildlife-detectives-2/
LOCATION:Rock Creek Nature Center\, 5200 Glover Rd NW\, Washington\, 20015\, United States
CATEGORIES:Children,Nature Play,Outdoor Experience
GEO:38.9599553;-77.0516936
X-APPLE-STRUCTURED-LOCATION;VALUE=URI;X-ADDRESS=Rock Creek Nature Center 5200 Glover Rd NW Washington 20015 United States;X-APPLE-RADIUS=500;X-TITLE=5200 Glover Rd NW:geo:-77.0516936,38.9599553
END:VEVENT
BEGIN:VEVENT
DTSTART;TZID=America/New_York:20260124T100000
DTEND;TZID=America/New_York:20260124T103000
DTSTAMP:20260424T124429
CREATED:20260113T191357Z
LAST-MODIFIED:20260113T191357Z
UID:10003976-1769248800-1769250600@capitalnature.org
SUMMARY:Winter Wildlife Detectives
DESCRIPTION:(DC) (National Park Service) Bundle up and step into the role of a Winter Wildlife Detective! Explore real pelts and tracks from Rock Creek Park animals—like foxes\, coyotes\, raccoons\, and even sleepy woodchucks—and uncover the secrets they leave behind in the snow. Through hands-on discovery and fun clue-hunting questions\, kids learn how animals stay warm\, find food\, and survive the chilly season. Join us to track\, explore\, and reveal the wild winter stories hiding just beneath our feet!
URL:https://capitalnature.org/event/winter-wildlife-detectives/
LOCATION:Rock Creek Nature Center\, 5200 Glover Rd NW\, Washington\, 20015\, United States
CATEGORIES:Children,Nature Play,Outdoor Experience
GEO:38.9599553;-77.0516936
X-APPLE-STRUCTURED-LOCATION;VALUE=URI;X-ADDRESS=Rock Creek Nature Center 5200 Glover Rd NW Washington 20015 United States;X-APPLE-RADIUS=500;X-TITLE=5200 Glover Rd NW:geo:-77.0516936,38.9599553
END:VEVENT
BEGIN:VEVENT
DTSTART;TZID=America/New_York:20260123T100000
DTEND;TZID=America/New_York:20260123T110000
DTSTAMP:20260424T124429
CREATED:20260113T191038Z
LAST-MODIFIED:20260113T191038Z
UID:10003975-1769162400-1769166000@capitalnature.org
SUMMARY:Little Tyke Hike at Peirce Mill
DESCRIPTION:(DC) (National Park Service) Bring your little ones to learn about the forest and how to explore nature in RockC reek Park! This program includes books\, animal puppets\, magnifying glasses\, and a very short hike. During the walk\, children are encouraged to search for shapes and colors and use their senses to explore the forest. Recommended for families with children 6 and under.  \nTo accommodate more people and to add variety\, the children’s programs will alternate between the Nature Center and Peirce Mill Barn every 2 weeks.  
URL:https://capitalnature.org/event/little-tyke-hike-at-peirce-mill/
LOCATION:Peirce Mill\, 2401 Tilden St NW\, Washington DC\, 20008\, United States
CATEGORIES:Children,Family,Outdoor Experience
END:VEVENT
BEGIN:VEVENT
DTSTART;TZID=America/New_York:20260117T093000
DTEND;TZID=America/New_York:20260117T133000
DTSTAMP:20260424T124429
CREATED:20260110T015652Z
LAST-MODIFIED:20260111T005154Z
UID:10003898-1768642200-1768656600@capitalnature.org
SUMMARY:Little Critters Nature Play
DESCRIPTION:(DC) (Smithsonian National Zoo) Come shelter from the cold with us! Join us for creative\, drop-in play at the Zoo as we explore how animals stay warm throughout winter.  Little Critters: Nature Play is designed for ages 0-5 and their caregivers and families. Activities are designed with early learners in mind\, but all ages are welcome.
URL:https://capitalnature.org/event/little-critters-nature-play-at-the-bird-house-5/
LOCATION:Smithsonian’s National Zoo\, 3001 Connecticut Avenue\, NW\, Washington\, DC\, 20008\, United States
CATEGORIES:Children,Nature Play
ORGANIZER;CN="Smithsonian's National Zoo":MAILTO:zooinfo@si.edu
END:VEVENT
BEGIN:VEVENT
DTSTART;TZID=America/New_York:20260116T150000
DTEND;TZID=America/New_York:20260116T160000
DTSTAMP:20260424T124429
CREATED:20260113T185739Z
LAST-MODIFIED:20260113T185801Z
UID:10003972-1768575600-1768579200@capitalnature.org
SUMMARY:Junior Naturalist Hike in Rock Creek
DESCRIPTION:(DC) (National Park Service) Do you want to connect with nature but you’re not sure how to get started? Do you want to be more present outside and escape the distractions of the modern era? Take a junior naturalist hike with a ranger and learn how to observe and study the natural world around you as you hike between ½ – 1 ½ miles through the Rock Creek Valley. Recommended ages 8+.  
URL:https://capitalnature.org/event/junior-naturalist-hike/
LOCATION:Rock Creek Nature Center\, 5200 Glover Rd NW\, Washington\, 20015\, United States
CATEGORIES:Children,Family,Outdoor Experience
GEO:38.9599553;-77.0516936
X-APPLE-STRUCTURED-LOCATION;VALUE=URI;X-ADDRESS=Rock Creek Nature Center 5200 Glover Rd NW Washington 20015 United States;X-APPLE-RADIUS=500;X-TITLE=5200 Glover Rd NW:geo:-77.0516936,38.9599553
END:VEVENT
END:VCALENDAR