BEGIN:VCALENDAR
VERSION:2.0
PRODID:-//Capital Nature - ECPv6.15.20//NONSGML v1.0//EN
CALSCALE:GREGORIAN
METHOD:PUBLISH
X-WR-CALNAME:Capital Nature
X-ORIGINAL-URL:https://capitalnature.org
X-WR-CALDESC:Events for Capital Nature
REFRESH-INTERVAL;VALUE=DURATION:PT1H
X-Robots-Tag:noindex
X-PUBLISHED-TTL:PT1H
BEGIN:VTIMEZONE
TZID:America/New_York
BEGIN:DAYLIGHT
TZOFFSETFROM:-0500
TZOFFSETTO:-0400
TZNAME:EDT
DTSTART:20250309T070000
END:DAYLIGHT
BEGIN:STANDARD
TZOFFSETFROM:-0400
TZOFFSETTO:-0500
TZNAME:EST
DTSTART:20251102T060000
END:STANDARD
BEGIN:DAYLIGHT
TZOFFSETFROM:-0500
TZOFFSETTO:-0400
TZNAME:EDT
DTSTART:20260308T070000
END:DAYLIGHT
BEGIN:STANDARD
TZOFFSETFROM:-0400
TZOFFSETTO:-0500
TZNAME:EST
DTSTART:20261101T060000
END:STANDARD
BEGIN:DAYLIGHT
TZOFFSETFROM:-0500
TZOFFSETTO:-0400
TZNAME:EDT
DTSTART:20270314T070000
END:DAYLIGHT
BEGIN:STANDARD
TZOFFSETFROM:-0400
TZOFFSETTO:-0500
TZNAME:EST
DTSTART:20271107T060000
END:STANDARD
END:VTIMEZONE
BEGIN:VEVENT
DTSTART;TZID=America/New_York:20260214T093000
DTEND;TZID=America/New_York:20260214T133000
DTSTAMP:20260424T162430
CREATED:20260206T033228Z
LAST-MODIFIED:20260206T033228Z
UID:10004106-1771061400-1771075800@capitalnature.org
SUMMARY:Little Critters Nature Play
DESCRIPTION:(DC) (Smithsonian National Zoo) Join us for creative\, drop-in play at the Zoo as we learn how fungi and lichens are an important part of nature. Little Critters: Nature Play is designed for ages 0-5 and their caregivers and families. Activities are designed with early learners in mind\, but all ages are welcome.
URL:https://capitalnature.org/event/little-critters-nature-play-6/
LOCATION:Smithsonian’s National Zoo\, 3001 Connecticut Avenue\, NW\, Washington\, DC\, 20008\, United States
CATEGORIES:Children,Nature Play
ORGANIZER;CN="Smithsonian's National Zoo":MAILTO:zooinfo@si.edu
END:VEVENT
BEGIN:VEVENT
DTSTART;TZID=America/New_York:20260224T093000
DTEND;TZID=America/New_York:20260224T133000
DTSTAMP:20260424T162430
CREATED:20260206T034030Z
LAST-MODIFIED:20260206T034030Z
UID:10004109-1771925400-1771939800@capitalnature.org
SUMMARY:Little Critters Nature Play
DESCRIPTION:(DC) (Smithsonian National Zoo) Join us for creative\, drop-in play at the Zoo as we explore the different plants and animals that live in the Amazon rainforest. Little Critters: Nature Play is designed for ages 0-5 and their caregivers and families. Activities are designed with early learners in mind\, but all ages are welcome.
URL:https://capitalnature.org/event/little-critters-nature-play-7/
LOCATION:Smithsonian’s National Zoo\, 3001 Connecticut Avenue\, NW\, Washington\, DC\, 20008\, United States
CATEGORIES:Children,Nature Play
ORGANIZER;CN="Smithsonian's National Zoo":MAILTO:zooinfo@si.edu
END:VEVENT
BEGIN:VEVENT
DTSTART;TZID=America/New_York:20260227T093000
DTEND;TZID=America/New_York:20260227T133000
DTSTAMP:20260424T162430
CREATED:20260206T034409Z
LAST-MODIFIED:20260206T034409Z
UID:10004111-1772184600-1772199000@capitalnature.org
SUMMARY:Little Critters Nature Play
DESCRIPTION:(DC) (Smithsonian National Zoo) Let’s learn how animals change as they grow- just like us! Join us for creative\, drop-in play at the Zoo as we learn about the different ways animals care for their young. Little Critters: Nature Play is designed for ages 0-5 and their caregivers and families. Activities are designed with early learners in mind\, but all ages are welcome.
URL:https://capitalnature.org/event/little-critters-nature-play-8/
LOCATION:Smithsonian’s National Zoo\, 3001 Connecticut Avenue\, NW\, Washington\, DC\, 20008\, United States
CATEGORIES:Children,Nature Play
ORGANIZER;CN="Smithsonian's National Zoo":MAILTO:zooinfo@si.edu
END:VEVENT
BEGIN:VEVENT
DTSTART;TZID=America/New_York:20260228T100000
DTEND;TZID=America/New_York:20260228T110000
DTSTAMP:20260424T162430
CREATED:20260206T205323Z
LAST-MODIFIED:20260206T205323Z
UID:10004126-1772272800-1772276400@capitalnature.org
SUMMARY:Storytime in the Garden
DESCRIPTION:(MD) (Montgomery Parks) Join us for an interactive story time followed by an outdoor exploration or activity for children ages 3-7. This is an outdoor story time\, weather permitting. Adults must accompany children.
URL:https://capitalnature.org/event/storytime-in-the-garden/
LOCATION:Brookside Gardens\, 1800 Glenallan Avenue\, Wheaton\, MD\, 20902\, United States
CATEGORIES:Children,Literary,Nature Play
GEO:39.0581511;-77.0373745
X-APPLE-STRUCTURED-LOCATION;VALUE=URI;X-ADDRESS=Brookside Gardens 1800 Glenallan Avenue Wheaton MD 20902 United States;X-APPLE-RADIUS=500;X-TITLE=1800 Glenallan Avenue:geo:-77.0373745,39.0581511
END:VEVENT
BEGIN:VEVENT
DTSTART;TZID=America/New_York:20260327T100000
DTEND;TZID=America/New_York:20260327T180000
DTSTAMP:20260424T162430
CREATED:20260325T134429Z
LAST-MODIFIED:20260325T134429Z
UID:10004278-1774605600-1774634400@capitalnature.org
SUMMARY:Spring Scavenger Hunt at Meadowlark
DESCRIPTION:(VA) (NOVA Parks) Welcome spring with a playful scavenger hunt! Embark on a self-guided adventure through the gardens as you search for giant eggs hidden along the paths: \n\nBegin your quest at the Visitor Center\, where you’ll receive your egg hunt sheet—your key to unlocking the fun.\nHop along the garden paths. When you discover a giant egg\, draw its design on your hunt sheet.\nFind them all! Show your completed sheet to our staff and receive an EGG-cellent prize.\n\nAfter Easter\, the fun continues through April 30th. Kids will search the gardens for cheerful signs of spring—flowers\, birds\, frogs\, rabbits\, bugs\, and more—hidden throughout the landscape.
URL:https://capitalnature.org/event/spring-scavenger-hunt-at-meadowlark-2/
LOCATION:Meadowlark Botanical Gardens\, 9750 Meadowlark Gardens\, Vienna\, VA\, 22182\, United States
CATEGORIES:Children,Nature Play,Outdoor Experience
END:VEVENT
BEGIN:VEVENT
DTSTART;TZID=America/New_York:20260328T163000
DTEND;TZID=America/New_York:20260328T180000
DTSTAMP:20260424T162430
CREATED:20260324T215035Z
LAST-MODIFIED:20260324T215035Z
UID:10004228-1774715400-1774720800@capitalnature.org
SUMMARY:Art in Nature: Journaling for Kids
DESCRIPTION:(MD) (Montgomery Parks) Kids love being out in nature and through journaling they can learn how to connect with nature even more. Join a naturalist to learn how to truly observe nature around you and how to get those observations and thoughts on paper. After a guided session\, you will have the opportunity to create a nature journal entry on your own. Nature walks will be apart of this program so participants should be able to walk on natural surface trails\, which may have some steep inclines. Each month there will be a different theme with each session\, for March we will focus on skulls\, scat and tracks  Ages 8-15.
URL:https://capitalnature.org/event/art-in-nature-journaling-for-kids/
LOCATION:Locust Grove Nature Center\, 7777 Democracy Blvd\, Bethesda\, MD\, 20817\, United States
CATEGORIES:Art,Children,Literary,Nature Observation
END:VEVENT
BEGIN:VEVENT
DTSTART;TZID=America/New_York:20260329T100000
DTEND;TZID=America/New_York:20260329T180000
DTSTAMP:20260424T162430
CREATED:20260325T001454Z
LAST-MODIFIED:20260325T134222Z
UID:10004246-1774778400-1774807200@capitalnature.org
SUMMARY:Spring Scavenger Hunt at Meadowlark
DESCRIPTION:(VA) (NOVA Parks) Welcome spring with a playful scavenger hunt! Embark on a self-guided adventure through the gardens as you search for giant eggs hidden along the paths: \n\nBegin your quest at the Visitor Center\, where you’ll receive your egg hunt sheet—your key to unlocking the fun.\nHop along the garden paths. When you discover a giant egg\, draw its design on your hunt sheet.\nFind them all! Show your completed sheet to our staff and receive an EGG-cellent prize.\n\nAfter Easter\, the fun continues through April 30th. Kids will search the gardens for cheerful signs of spring—flowers\, birds\, frogs\, rabbits\, bugs\, and more—hidden throughout the landscape.
URL:https://capitalnature.org/event/spring-scavenger-hunt-at-meadowlark/
LOCATION:Meadowlark Botanical Gardens\, 9750 Meadowlark Gardens\, Vienna\, VA\, 22182\, United States
CATEGORIES:Children,Nature Play,Outdoor Experience
END:VEVENT
BEGIN:VEVENT
DTSTART;TZID=America/New_York:20260403T100000
DTEND;TZID=America/New_York:20260403T180000
DTSTAMP:20260424T162430
CREATED:20260325T133920Z
LAST-MODIFIED:20260325T133920Z
UID:10004277-1775210400-1775239200@capitalnature.org
SUMMARY:Spring Scavenger Hunt at Meadowlark
DESCRIPTION:(VA) (NOVA Parks) Welcome spring with a playful scavenger hunt! Embark on a self-guided adventure through the gardens as you search for giant eggs hidden along the paths: \n\nBegin your quest at the Visitor Center\, where you’ll receive your egg hunt sheet—your key to unlocking the fun.\nHop along the garden paths. When you discover a giant egg\, draw its design on your hunt sheet.\nFind them all! Show your completed sheet to our staff and receive an EGG-cellent prize.\n\nAfter Easter\, the fun continues through April 30th. Kids will search the gardens for cheerful signs of spring—flowers\, birds\, frogs\, rabbits\, bugs\, and more—hidden throughout the landscape.
URL:https://capitalnature.org/event/spring-scavenger-hunt-at-meadowlark-3/
LOCATION:Meadowlark Botanical Gardens\, 9750 Meadowlark Gardens\, Vienna\, VA\, 22182\, United States
CATEGORIES:Children,Nature Play,Outdoor Experience
END:VEVENT
BEGIN:VEVENT
DTSTART;TZID=America/New_York:20260403T170000
DTEND;TZID=America/New_York:20260403T190000
DTSTAMP:20260424T162430
CREATED:20260324T234508Z
LAST-MODIFIED:20260324T234508Z
UID:10004235-1775235600-1775242800@capitalnature.org
SUMMARY:Youth Mountain Bike Ride
DESCRIPTION:(MD) (Montgomery Parks) This is a no rider left behind group ride – think “party pace. ”There will likely be some “session-ing” and skills instruction along the way. This is a perfect way to meet other riders and build skills on your bike. We have a limited number of bikes and helmets available free of charge in case you don’t have one (we will ask to hold something as collateral during the program – cell phone/credit card/etc.). Ages 6+ Must know how to ride a bicycle.
URL:https://capitalnature.org/event/youth-mountain-bike-ride-3/
LOCATION:Wheaton Regional Park\, 2000 Shorefield Road\, Wheaton\, MD\, 20902\, United States
CATEGORIES:Children,Fitness,Outdoor Experience
GEO:39.0523125;-77.0431647
X-APPLE-STRUCTURED-LOCATION;VALUE=URI;X-ADDRESS=Wheaton Regional Park 2000 Shorefield Road Wheaton MD 20902 United States;X-APPLE-RADIUS=500;X-TITLE=2000 Shorefield Road:geo:-77.0431647,39.0523125
END:VEVENT
BEGIN:VEVENT
DTSTART;TZID=America/New_York:20260409T103000
DTEND;TZID=America/New_York:20260409T113000
DTSTAMP:20260424T162430
CREATED:20260324T235859Z
LAST-MODIFIED:20260324T235859Z
UID:10004239-1775730600-1775734200@capitalnature.org
SUMMARY:The Hummingbirds are Coming!
DESCRIPTION:(MD) (Montgomery Parks) The ruby-throats are on their way north! Learn more about these hummers as we track their progress into our area. We’ll learn how to attract them into your yard\, and make a feeder to take home. Ages 3 to 5.
URL:https://capitalnature.org/event/the-hummingbirds-are-coming/
LOCATION:Maydale Nature Classroom\, 1638 Maydale Drive\, Colesville\, MD\, 20905\, United States
CATEGORIES:Birds,Children,Nature Play
END:VEVENT
BEGIN:VEVENT
DTSTART;VALUE=DATE:20260413
DTEND;VALUE=DATE:20260418
DTSTAMP:20260424T162430
CREATED:20260412T011304Z
LAST-MODIFIED:20260412T011344Z
UID:10004290-1776038400-1776470399@capitalnature.org
SUMMARY:Spring Break Naturefest at Anacostia Park
DESCRIPTION:(DC) (Friends of Anacostia Park) Join us for a week full of family fun and activities in Anacostia Park. Events include Yay Nature Day\, Live Animals\, Art in the Park\, fishing\, skating and boat trips! And skating!
URL:https://capitalnature.org/event/spring-break-naturefest-at-anacostia-park/
LOCATION:Anacostia Park Skating Pavillion\, 1500 Anacostia Dr SE\, Washington\, DC\, 20020\, United States
CATEGORIES:Children,Family,Outdoor Experience
END:VEVENT
BEGIN:VEVENT
DTSTART;TZID=America/New_York:20260424T163000
DTEND;TZID=America/New_York:20260424T173000
DTSTAMP:20260424T162430
CREATED:20260422T124159Z
LAST-MODIFIED:20260422T124159Z
UID:10004343-1777048200-1777051800@capitalnature.org
SUMMARY:Bug Bingo at Potomac Overlook
DESCRIPTION:(VA) (NOVA Parks) Enjoy a special bug hunt with a NOVA Parks Naturalist! Explore the park while looking under logs\, searching the gardens\, and more to find creepy crawly friends. Learn what makes these critters unique and why they’re so important. Along the way\, participants will record observations using the iNaturalist app and fill out bug bingo sheets. You’re sure to have an excellent time! Ages 5 and up.
URL:https://capitalnature.org/event/bug-bingo-at-potomac-overlook/
LOCATION:Potomac Overlook Regional Park\, 2845 N. Marcey Road\, Arlington\, VA\, 22207\, United States
CATEGORIES:Animals,Children,Nature Play
END:VEVENT
END:VCALENDAR