BEGIN:VCALENDAR
VERSION:2.0
PRODID:-//Capital Nature - ECPv6.15.20//NONSGML v1.0//EN
CALSCALE:GREGORIAN
METHOD:PUBLISH
X-WR-CALNAME:Capital Nature
X-ORIGINAL-URL:https://capitalnature.org
X-WR-CALDESC:Events for Capital Nature
REFRESH-INTERVAL;VALUE=DURATION:PT1H
X-Robots-Tag:noindex
X-PUBLISHED-TTL:PT1H
BEGIN:VTIMEZONE
TZID:America/New_York
BEGIN:DAYLIGHT
TZOFFSETFROM:-0500
TZOFFSETTO:-0400
TZNAME:EDT
DTSTART:20250309T070000
END:DAYLIGHT
BEGIN:STANDARD
TZOFFSETFROM:-0400
TZOFFSETTO:-0500
TZNAME:EST
DTSTART:20251102T060000
END:STANDARD
BEGIN:DAYLIGHT
TZOFFSETFROM:-0500
TZOFFSETTO:-0400
TZNAME:EDT
DTSTART:20260308T070000
END:DAYLIGHT
BEGIN:STANDARD
TZOFFSETFROM:-0400
TZOFFSETTO:-0500
TZNAME:EST
DTSTART:20261101T060000
END:STANDARD
BEGIN:DAYLIGHT
TZOFFSETFROM:-0500
TZOFFSETTO:-0400
TZNAME:EDT
DTSTART:20270314T070000
END:DAYLIGHT
BEGIN:STANDARD
TZOFFSETFROM:-0400
TZOFFSETTO:-0500
TZNAME:EST
DTSTART:20271107T060000
END:STANDARD
END:VTIMEZONE
BEGIN:VEVENT
DTSTART;TZID=America/New_York:20260125T080000
DTEND;TZID=America/New_York:20260125T100000
DTSTAMP:20260424T111547
CREATED:20260112T042022Z
LAST-MODIFIED:20260112T042022Z
UID:10003961-1769328000-1769335200@capitalnature.org
SUMMARY:Sunday Morning Bird Walk at Dyke Marsh
DESCRIPTION:(VA) (Friends of Dyke Marsh) Join FODM for a bird walk every Sunday at 8 a.m. The Dyke Marsh Wildlife Preserve is a freshwater\, tidal marsh on the Virginia side of the Potomac River in Fairfax County. It is a unit of the George Washington Memorial Parkway\, U.S. National Park Service.
URL:https://capitalnature.org/event/sunday-morning-bird-walk-at-dyke-marsh-13/
LOCATION:Dyke Marsh\, Alexandria\, VA\, 22307\, United States
CATEGORIES:Birding,Nature Observation,Outdoor Experience
END:VEVENT
BEGIN:VEVENT
DTSTART;TZID=America/New_York:20260131T133000
DTEND;TZID=America/New_York:20260131T150000
DTSTAMP:20260424T111547
CREATED:20260114T004741Z
LAST-MODIFIED:20260114T004741Z
UID:10003991-1769866200-1769871600@capitalnature.org
SUMMARY:Searching for Birds of Prey
DESCRIPTION:(VA) (Loudoun Wildlife Conservancy) Birds of prey numbers increase dramatically each winter in the county as our resident birds are joined by many others. Join Loudoun Wildlife Conservancy to search for winter raptors. We will drive the back roads of Loudoun until dusk with frequent stops to find and identify the many hawks\, hopefully an owl or two\, and any other birds that overwinter here. Bring binoculars if you have them.
URL:https://capitalnature.org/event/searching-for-birds-of-prey/
CATEGORIES:Birding,Nature Observation
END:VEVENT
END:VCALENDAR