BEGIN:VCALENDAR
VERSION:2.0
PRODID:-//Capital Nature - ECPv6.15.20//NONSGML v1.0//EN
CALSCALE:GREGORIAN
METHOD:PUBLISH
X-WR-CALNAME:Capital Nature
X-ORIGINAL-URL:https://capitalnature.org
X-WR-CALDESC:Events for Capital Nature
REFRESH-INTERVAL;VALUE=DURATION:PT1H
X-Robots-Tag:noindex
X-PUBLISHED-TTL:PT1H
BEGIN:VTIMEZONE
TZID:America/New_York
BEGIN:DAYLIGHT
TZOFFSETFROM:-0500
TZOFFSETTO:-0400
TZNAME:EDT
DTSTART:20250309T070000
END:DAYLIGHT
BEGIN:STANDARD
TZOFFSETFROM:-0400
TZOFFSETTO:-0500
TZNAME:EST
DTSTART:20251102T060000
END:STANDARD
BEGIN:DAYLIGHT
TZOFFSETFROM:-0500
TZOFFSETTO:-0400
TZNAME:EDT
DTSTART:20260308T070000
END:DAYLIGHT
BEGIN:STANDARD
TZOFFSETFROM:-0400
TZOFFSETTO:-0500
TZNAME:EST
DTSTART:20261101T060000
END:STANDARD
BEGIN:DAYLIGHT
TZOFFSETFROM:-0500
TZOFFSETTO:-0400
TZNAME:EDT
DTSTART:20270314T070000
END:DAYLIGHT
BEGIN:STANDARD
TZOFFSETFROM:-0400
TZOFFSETTO:-0500
TZNAME:EST
DTSTART:20271107T060000
END:STANDARD
END:VTIMEZONE
BEGIN:VEVENT
DTSTART;TZID=America/New_York:20260403T160000
DTEND;TZID=America/New_York:20260403T180000
DTSTAMP:20260424T063235
CREATED:20260323T222907Z
LAST-MODIFIED:20260323T222907Z
UID:10004222-1775232000-1775239200@capitalnature.org
SUMMARY:Beginner Birding at Occoquan Bay
DESCRIPTION:(VA) (Northern Virginia Bird Alliance) Join  NVBA for beginner birding at the beautiful Occoquan Bay National Wildlife Refuge\, “an oasis for migratory birds and busy city residents seeking a quiet escape from development.” On this guided walk\, you’ll explore the refuge’s diverse waterfowl species with naturalist Andreas Seiter.
URL:https://capitalnature.org/event/beginner-birding-at-occoquan-bay/
LOCATION:Occoquan Bay National Wildlife Refuge\, 14050 Dawson Beach Rd\, Woodbridge\, VA\, 22191\, United States
CATEGORIES:Birding,Classes & Workshops,Outdoor Experience
END:VEVENT
END:VCALENDAR