BEGIN:VCALENDAR
VERSION:2.0
PRODID:-//Capital Nature - ECPv6.15.20//NONSGML v1.0//EN
CALSCALE:GREGORIAN
METHOD:PUBLISH
X-ORIGINAL-URL:https://capitalnature.org
X-WR-CALDESC:Events for Capital Nature
REFRESH-INTERVAL;VALUE=DURATION:PT1H
X-Robots-Tag:noindex
X-PUBLISHED-TTL:PT1H
BEGIN:VTIMEZONE
TZID:America/New_York
BEGIN:DAYLIGHT
TZOFFSETFROM:-0500
TZOFFSETTO:-0400
TZNAME:EDT
DTSTART:20250309T070000
END:DAYLIGHT
BEGIN:STANDARD
TZOFFSETFROM:-0400
TZOFFSETTO:-0500
TZNAME:EST
DTSTART:20251102T060000
END:STANDARD
BEGIN:DAYLIGHT
TZOFFSETFROM:-0500
TZOFFSETTO:-0400
TZNAME:EDT
DTSTART:20260308T070000
END:DAYLIGHT
BEGIN:STANDARD
TZOFFSETFROM:-0400
TZOFFSETTO:-0500
TZNAME:EST
DTSTART:20261101T060000
END:STANDARD
BEGIN:DAYLIGHT
TZOFFSETFROM:-0500
TZOFFSETTO:-0400
TZNAME:EDT
DTSTART:20270314T070000
END:DAYLIGHT
BEGIN:STANDARD
TZOFFSETFROM:-0400
TZOFFSETTO:-0500
TZNAME:EST
DTSTART:20271107T060000
END:STANDARD
END:VTIMEZONE
BEGIN:VEVENT
DTSTART;TZID=America/New_York:20260130T140000
DTEND;TZID=America/New_York:20260130T143000
DTSTAMP:20260424T120404
CREATED:20260113T192014Z
LAST-MODIFIED:20260113T192014Z
UID:10003980-1769781600-1769783400@capitalnature.org
SUMMARY:Stellar Star Show at Rock Creek
DESCRIPTION:(DC) (Rock Creek Park) Come and enjoy a ranger-led program in the only planetarium in the National Park Service! The Stellar Star Show will be a 30-minute ranger-led program about the planets and the night sky.   
URL:https://capitalnature.org/event/stellar-star-show-at-rock-creek-4/
LOCATION:Rock Creek Nature Center\, 5200 Glover Rd NW\, Washington\, 20015\, United States
CATEGORIES:Astronomy,Nature Observation,Seminars and Lectures
GEO:38.9599553;-77.0516936
X-APPLE-STRUCTURED-LOCATION;VALUE=URI;X-ADDRESS=Rock Creek Nature Center 5200 Glover Rd NW Washington 20015 United States;X-APPLE-RADIUS=500;X-TITLE=5200 Glover Rd NW:geo:-77.0516936,38.9599553
END:VEVENT
BEGIN:VEVENT
DTSTART;TZID=America/New_York:20260131T150000
DTEND;TZID=America/New_York:20260131T160000
DTSTAMP:20260424T120404
CREATED:20260113T192607Z
LAST-MODIFIED:20260113T192607Z
UID:10003983-1769871600-1769875200@capitalnature.org
SUMMARY:Film: One Sky Project
DESCRIPTION:(DC) (National Park Service) This is the full dome feature version of the One Sky Project. Each short film represents the perspective of a different culture or Indigenous society from around the globe. Each film stands alone as a short story or in combination as a longer narrative – organized around themes of “Finding Patterns” and developing tools. \nThis film runs about 45 minutes. 
URL:https://capitalnature.org/event/film-one-sky-project/
LOCATION:Rock Creek Nature Center\, 5200 Glover Rd NW\, Washington\, 20015\, United States
CATEGORIES:Astronomy,Film,Social & Cultural
GEO:38.9599553;-77.0516936
X-APPLE-STRUCTURED-LOCATION;VALUE=URI;X-ADDRESS=Rock Creek Nature Center 5200 Glover Rd NW Washington 20015 United States;X-APPLE-RADIUS=500;X-TITLE=5200 Glover Rd NW:geo:-77.0516936,38.9599553
END:VEVENT
END:VCALENDAR